{"text_format":"1","workbook":"xlsx","n_sheets":8,"sheets":["(1)&(2)","(3) Imports","FormData","RawData","Facility","Ports","Destinations","AllProductData"],"not_rendered":{"charts":0,"images":2,"macros":1,"external_links":1,"defined_names":5,"comments":0,"pivot_tables":0},"unopened":[],"bounds":{"document_bytes":16777216,"sheet_cells":100000,"rows_first":2000,"rows_last":500,"rows_between":2000,"halvings":0,"cell_chars":16384,"cell_head_chars":4096},"cells_cut":0,"cells_raw":0,"read":"whole","date_system":"1900"}

{"sheet":"(1)&(2)","index":0,"n_rows":69,"n_cols":53,"rows_kept":69,"cut":false,"hidden":false,"merged":[[67,26,67,29],[57,0,62,49],[45,8,45,20],[51,12,51,13],[36,8,36,20],[40,5,40,8],[67,2,67,11],[53,8,53,20],[51,17,51,18],[67,14,67,24],[47,16,47,17],[47,5,47,8],[49,7,49,20],[40,16,40,17],[2,0,2,7],[12,25,13,49],[10,0,11,49],[24,1,26,22],[5,44,5,49],[16,6,16,20],[18,18,18,19],[18,27,20,48],[20,18,20,19],[6,41,6,49],[38,8,38,20],[9,0,9,49],[24,27,25,48],[8,0,8,49],[7,40,7,49],[12,0,13,24],[31,27,32,48]]}
[null,null,null,null,null,null,null,null,null,null,null,null,null,null,null,null,null,null,null,null,null,null,null,null,null,null,null,null,null,null,null,null,null,null,null,null,null,null,null,null,null,null,null,null,null,null,null,null,null,null,null,"Raw Data"]
[null,null,null,null,null,null,null,null,null,null,null,null,null,null,null,null,null,null,null,null,null,null,null,null,null,null,null,null,null,null,null,null,null,null,null,null,null,null,null,null,null,null,null,null,null,null,null,null,null,null,null,"Resubmission?",{"$f":"'(3) Imports'!J28","v":"N"}]
[null,null,null,null,null,null,null,null,null,null,null,null,null,null,null,null,null,null,null,null,null,null,null,null,null,null,null,null,null,null,null,null,null,null,null,null,null,null,null,null,null,null,null,null,null,null,null,null,null,null,null,"Company Name",{"$f":"G17","v":0}]
[null,null,null,null,null,null,null,null,null,null,null,null,null,null,null,null,null,null,null,null,null,null,null,null,null,null,null,null,null,null,null,null,null,null,null,null,null,null,null,null,null,null,null,null,null,null,null,null,null,null,null,"Rpt Pd",{"$f":"CONCATENATE(S19,O19)","v":""}]
[null,null,null,null,null,null,null,null,null,null,null,null,null,null,null,null,null,null,null,null,null,null,null,null,null,null,null,null,null,null,null,null,null,null,null,null,null,null,null,null,null,null,null,null,null,null,null,null,null,null,null,"Rpt Date",{"$f":"CONCATENATE(K21,\"/\",O21,\"/\",S21)","v":"//"}]
[null,null,null,null,null,null,null,null,null,null,null,null,null,null,null,null,null,null,null,null,null,null,null,null,null,null,null,null,null,null,null,null,null,null,null,null,null,null,null,null,null,null,null,null,"Phone: (808) 587-3807 ",null,null,null,null,null,null,"ID No",{"$f":"#REF!","v":{"$error":"#REF!"}}]
[null,null,null,null,null,null,null,null,null,null,null,null,null,null,null,null,null,null,null,null,null,null,null,null,null,null,null,null,null,null,null,null,null,null,null,null,null,null,null,null,null,"Email: dbedt.hseo.eiirp@hawaii.gov",null,null,null,null,null,null,null,null,null,"Info changed?"]
[null,null,null,null,null,null,null,null,null,null,null,null,null,null,null,null,null,null,null,null,null,null,null,null,null,null,null,null,null,null,null,null,null,null,null,null,null,null,null,null,"https://energy.hawaii.gov/eiirp",null,null,null,null,null,null,null,null,null,null,"Distributor",false]
["Form DBEDT-110",null,null,null,null,null,null,null,null,null,null,null,null,null,null,null,null,null,null,null,null,null,null,null,null,null,null,null,null,null,null,null,null,null,null,null,null,null,null,null,null,null,null,null,null,null,null,null,null,null,null,"Refiner"]
["MONTHLY PETROLEUM IMPORTS REPORT",null,null,null,null,null,null,null,null,null,null,null,null,null,null,null,null,null,null,null,null,null,null,null,null,null,null,null,null,null,null,null,null,null,null,null,null,null,null,null,null,null,null,null,null,null,null,null,null,null,null,"Facility Location",{"$f":"I37","v":0}]
["This Report is mandatory under chapter 486J, Hawaii Revised Statutes (\"HRS\").  Violations are subject to civil and criminal penalties pursuant to HRS § 486J-9 and other applicable laws or orders. CONFIDENTIAL PURSUANT TO APPLICABLE STATUTORY AUTHORITY (E.G., HRS § 486J-6) AND APPLICABLE PROTECTIVE ORDERS.",null,null,null,null,null,null,null,null,null,null,null,null,null,null,null,null,null,null,null,null,null,null,null,null,null,null,null,null,null,null,null,null,null,null,null,null,null,null,null,null,null,null,null,null,null,null,null,null,null,null,"Facility City",{"$f":"F41","v":" "}]
[null,null,null,null,null,null,null,null,null,null,null,null,null,null,null,null,null,null,null,null,null,null,null,null,null,null,null,null,null,null,null,null,null,null,null,null,null,null,null,null,null,null,null,null,null,null,null,null,null,null,null,"Facility State",{"$f":"M41","v":" "}]
["Part 1. Respondent Identification",null,null,null,null,null,null,null,null,null,null,null,null,null,null,null,null,null,null,null,null,null,null,null,null,"Part 2. Submission or Resubmission Information",null,null,null,null,null,null,null,null,null,null,null,null,null,null,null,null,null,null,null,null,null,null,null,null,null,"Facility Zip",{"$f":"Q41","v":" "}]
[null,null,null,null,null,null,null,null,null,null,null,null,null,null,null,null,null,null,null,null,null,null,null,null,null,null,null,null,null,null,null,null,null,null,null,null,null,null,null,null,null,null,null,null,null,null,null,null,null,null,null,"Mailing Add same?",false]
[null,null,null,null,null,null,null,null,null,null,null,null,null,null,null,null,null,null,null,null,null,null,null,null,null,null,null,null,null,null,null,null,null,null,null,null,null,null,null,null,null,null,null,null,null,null,null,null,null,null,null,"Mailing Add",{"$f":"I46","v":0}]
[null,null,null,null,null,null,null,null,null,null,null,null,null,null,null,null,null,null,null,null,null,null,null,null,null,null,null,null,null,null,null,null,null,null,null,null,null,null,null,null,null,null,null,null,null,null,null,null,null,null,null,"Mailing City",{"$f":"F48","v":0}]
[null,"COMPANY NAME:",null,null,null,null,null,null,null,null,null,null,null,null,null,null,null,null,null,null,null,null,null,null,null,null,null,null,null,null,null,null,null,null,null,null,null,null,null,null,null,null,null,null,null,null,null,null,null,null,null,"Mailing State",{"$f":"M48","v":0}]
[null,null,null,null,null,null,null,null,null,null,null,null,null,null,null,null,null,null,null,null,null,null,null,null,null,null,null,null,null,null,null,null,null,null,null,null,null,null,null,null,null,null,null,null,null,null,null,null,null,null,null,"Mailing Zip",{"$f":"Q48","v":0}]
[null,"REPORT PERIOD  (Month Ending):",null,null,null,null,null,null,null,null,"MONTH (##)",null,null,null,null,null,"YEAR",null,null,null,null,null,null,null,null,null,null,"A completed form must be received on or before the last day of the month following the end of the report month (e.g, July 2023 report period must be received on or before August 31, 2023).",null,null,null,null,null,null,null,null,null,null,null,null,null,null,null,null,null,null,null,null,null,null,null,"Contact Name",{"$f":"H50","v":0}]
[null,null,null,null,null,null,null,null,null,null,null,null,null,null,null,null,null,null,null,null,null,null,null,null,null,null,null,null,null,null,null,null,null,null,null,null,null,null,null,null,null,null,null,null,null,null,null,null,null,null,null,"Phone ",{"$f":"CONCATENATE(I52,\"-\",K52,\"-\",M52,\"Ext\",R52)","v":"--Ext"}]
[null,"REPORT DATE:",null,null,null,null,"MONTH (##)",null,null,null,null,null,"DAY",null,null,null,"YEAR",null,null,null,null,null,null,null,null,null,null,null,null,null,null,null,null,null,null,null,null,null,null,null,null,null,null,null,null,null,null,null,null,null,null,"Email",{"$f":"I54","v":0}]
[null,null,null,null,null,null,null,null,null,null,null,null,null,null,null,null,null,null,null,null,null,null,null,null,null,null,null,null,null,null,null,null,null,null,null,null,null,null,null,null,null,null,null,null,null,null,null,null,null,null,null,"Comments",{"$f":"A58","v":0}]
[]
[]
[null,"If respondent contact information has changed since the previous report, please check box and fill out the form below. If more than one contact and/or facility information has changed, please provide additional changes in the comments section below.",null,null,null,null,null,null,null,null,null,null,null,null,null,null,null,null,null,null,null,null,null,null,null,null,null,"Please submit a separate report for each importing facility. "]
[]
[]
[]
[null,null,null,null,null,null,null,null,null,null,null,null,null,null,null,null,null,null,null,null,null,null,null,null,null,null,null,"Forms must be uploaded to",null,null,null,null,null,null,"https://eiirp.hawaii.gov/"]
[]
[]
[null,null,null,"Doing business as a (check all that apply):",null,null,null,null,null,null,null,null,null,null,null,null,null,null,null,null,null,null,null,null,null,null,null,"If you have any questions about the form after reading the PDF instructions, please contact HSEO at (808) 587-3807."]
[]
[]
[]
[]
[null,null,null,"Facility Name:"]
[]
[null,null,null,"Facility Location:",null,null,null,null,{"$f":"_xlfn.IFNA(VLOOKUP($I$37,Facility!$A$2:$E$35, 2, FALSE), \" \" )","v":" "}]
[]
[null,null,null,"City: ",null,{"$f":"_xlfn.IFNA(VLOOKUP($I$37,Facility!$A$2:$E$35, 3, FALSE), \" \" )","v":" "},null,null,null,null,"State: ",null,{"$f":"_xlfn.IFNA(VLOOKUP($I$37,Facility!$A$2:$E$35, 4, FALSE), \" \" )","v":" "},null,"   Zip:  ",null,{"$f":"_xlfn.IFNA(VLOOKUP($I$37,Facility!$A$2:$E$35, 5, FALSE), \" \" )","v":" "}]
[]
[]
[]
[]
[null,null,null,"Mailing Address:"]
[]
[null,null,null,"City: ",null,null,null,null,null,null,"State: ",null,null,null,"   Zip:  "]
[]
[null,null,null,"Contact Name: "]
[]
[null,null,null,"Phone Number: ",null,null,null,null,null,"­",null,"­",null,null,null,"   Ext.:"]
[]
[null,null,null,"Email address: "]
[]
[]
["COMMENTS: Please decribe any unusual aspect of the company's reporting month's operations and/or reason for resubmission."]
[]
[]
[]
[]
[]
[]
[]
[]
[null,null,"I certify under penalty of perjury (under section 486J-9b) that the information contained in this report is true, correct and complete to the best of my knowledge. I am authorized to file this report on behalf of the company."]
[]
[null,null,null,null,null,null,null,null,null,null,null,null,null,null,null,null,null,null,null,null,null,null,null,null,null,null,{"$f":"CONCATENATE(K21,\"/\",O21,\"/\",S21)","v":"//"}]
[null,null,"Name",null,null,null,null,null,null,null,null,null,null,null,"Title",null,null,null,null,null,null,null,null,null,null,null,"Date"]

{"sheet":"(3) Imports","index":1,"n_rows":99,"n_cols":46,"rows_kept":99,"cut":false,"hidden":false,"merged":[[0,0,1,45],[10,0,10,45],[11,0,11,45],[12,0,12,45],[13,0,14,45],[9,36,9,45],[49,1,49,12],[50,1,50,12],[32,26,32,31],[33,26,33,31],[33,32,33,36],[32,15,32,22],[33,24,33,25],[34,26,34,31],[36,32,36,36],[45,32,45,36],[35,15,35,22],[33,15,33,22],[32,24,32,25],[33,1,33,12],[45,15,45,22],[42,15,42,22],[37,15,37,22],[44,15,44,22],[88,12,88,16],[86,12,86,16],[36,24,36,25],[35,24,35,25],[34,24,34,25],[81,1,81,12],[62,1,62,12],[63,1,63,12],[65,1,65,12],[79,1,79,12],[80,1,80,12],[71,1,71,12],[53,1,53,12],[54,1,54,12],[55,1,55,12],[45,1,45,12],[46,1,46,12],[47,1,47,12],[48,1,48,12],[82,1,82,12],[59,1,59,12],[60,1,60,12],[57,1,57,12],[44,1,44,12],[38,15,38,22],[81,24,81,25],[80,24,80,25],[61,1,61,12],[56,1,56,12],[34,1,34,12],[35,1,35,12],[36,1,36,12],[34,15,34,22],[42,1,42,12],[43,1,43,12],[41,15,41,22],[60,24,60,25],[59,24,59,25],[57,15,57,22],[41,24,41,25],[40,24,40,25],[51,15,51,22],[37,1,37,12],[40,15,40,22],[43,15,43,22],[80,15,80,22],[52,1,52,12],[58,1,58,12],[78,32,78,36],[62,26,62,31],[62,32,62,36],[49,32,49,36],[63,24,63,25],[80,26,80,31],[56,24,56,25],[81,26,81,31],[62,24,62,25],[61,24,61,25],[52,32,52,36],[53,26,53,31],[50,32,50,36],[55,24,55,25],[55,32,55,36],[51,32,51,36],[53,32,53,36],[56,32,56,36],[57,32,57,36],[63,32,63,36],[65,32,65,36],[80,32,80,36],[60,32,60,36],[59,32,59,36],[59,15,59,22],[81,15,81,22],[82,15,82,22],[77,1,77,12],[62,15,62,22],[52,15,52,22],[53,15,53,22],[56,15,56,22],[54,26,54,31],[82,24,82,25],[65,24,65,25],[57,26,57,31],[65,26,65,31],[57,24,57,25],[58,24,58,25],[56,26,56,31],[64,1,64,12],[64,15,64,22],[64,24,64,25],[64,26,64,31],[68,32,68,36],[73,26,73,31],[73,32,73,36],[72,26,72,31],[72,32,72,36],[75,26,75,31],[59,26,59,31],[69,26,69,31],[69,32,69,36],[68,26,68,31],[64,32,64,36],[79,32,79,36],[83,32,83,36],[83,24,83,25],[83,26,83,31],[77,15,77,22],[68,24,68,25],[69,24,69,25],[73,24,73,25],[70,24,70,25],[74,24,74,25],[72,24,72,25],[69,15,69,22],[71,24,71,25],[75,24,75,25],[75,32,75,36],[76,24,76,25],[82,32,82,36],[77,26,77,31],[77,32,77,36],[79,26,79,31],[82,26,82,31],[81,32,81,36],[71,26,71,31],[71,32,71,36],[43,26,43,31],[38,26,38,31],[39,26,39,31],[42,26,42,31],[39,32,39,36],[43,32,43,36],[42,32,42,36],[37,24,37,25],[40,26,40,31],[4,0,4,7],[17,0,17,8],[22,0,22,8],[24,0,24,8],[27,0,27,8],[16,17,16,19],[16,15,16,16],[25,0,25,8],[30,0,31,0],[22,9,22,19],[21,0,21,8],[21,9,21,19],[20,0,20,8],[20,9,20,19],[18,9,18,19],[18,0,18,8],[26,0,26,8],[26,9,26,19],[19,0,19,8],[19,9,19,19],[23,0,23,8],[23,9,23,19],[29,37,29,40],[29,41,29,45],[16,24,16,25],[17,9,17,19],[32,32,32,36],[35,32,35,36],[46,26,46,31],[44,26,44,31],[41,32,41,36],[40,32,40,36],[34,32,34,36],[37,26,37,31],[35,26,35,31],[41,26,41,31],[45,26,45,31],[36,26,36,31],[42,24,42,25],[38,24,38,25],[43,24,43,25],[45,24,45,25],[44,24,44,25],[39,15,39,22],[37,32,37,36],[38,32,38,36],[47,26,47,31],[44,32,44,36],[70,26,70,31],[70,32,70,36],[74,26,74,31],[47,32,47,36],[46,32,46,36],[76,26,76,31],[76,32,76,36],[74,32,74,36],[51,26,51,31],[52,26,52,31],[55,26,55,31],[60,26,60,31],[61,32,61,36],[58,26,58,31],[63,26,63,31],[61,26,61,31],[48,26,48,31],[49,26,49,31],[50,26,50,31],[54,32,54,36],[48,32,48,36],[58,32,58,36],[36,15,36,22],[55,15,55,22],[65,15,65,22],[79,15,79,22],[39,24,39,25],[54,24,54,25],[77,24,77,25],[79,24,79,25],[46,24,46,25],[47,15,47,22],[51,24,51,25],[54,15,54,22],[50,24,50,25],[48,24,48,25],[52,24,52,25],[63,15,63,22],[58,15,58,22],[49,24,49,25],[48,15,48,22],[50,15,50,22],[49,15,49,22],[61,15,61,22],[46,15,46,22],[60,15,60,22],[7,39,7,45],[8,37,8,45],[51,1,51,12],[41,1,41,12],[24,9,24,19],[25,9,25,19],[27,9,27,19],[67,24,67,25],[67,26,67,31],[67,32,67,36],[31,37,31,40],[31,26,31,31],[31,41,31,45],[31,15,31,22],[31,32,31,36],[30,37,30,40],[30,41,30,45],[30,1,31,12],[30,14,31,14],[30,15,30,22],[30,26,30,31],[30,32,30,36],[53,24,53,25],[47,24,47,25],[83,1,83,12],[83,15,83,22],[38,1,38,12],[39,1,39,12],[40,1,40,12],[32,1,32,12],[69,1,69,12],[67,1,67,12],[67,15,67,22],[71,15,71,22],[68,1,68,12],[68,15,68,22],[73,1,73,12],[73,15,73,22],[70,1,70,12],[70,15,70,22],[74,1,74,12],[74,15,74,22],[72,1,72,12],[72,15,72,22],[75,1,75,12],[75,15,75,22],[76,1,76,12],[76,15,76,22]]}
["Part 3. Import Activity Detail"]
[]
[]
[]
[]
[]
[]
[null,null,null,null,null,null,null,null,null,null,null,null,null,null,null,null,null,null,null,null,null,null,null,null,null,null,null,null,null,null,null,null,null,null,null,null,null,null,null,"Phone: (808) 587-3807"]
[null,null,null,null,null,null,null,null,null,null,null,null,null,null,null,null,null,null,null,null,null,null,null,null,null,null,null,null,null,null,null,null,null,null,null,null,null,"Email: dbedt.hseo.eiirp@hawaii.gov"]
[null,null,null,null,null,null,null,null,null,null,null,null,null,null,null,null,null,null,null,null,null,null,null,null,null,null,null,null,null,null,null,null,null,null,null,null,"https://energy.hawaii.gov/eiirp"]
["Form DBEDT-110"]
["MONTHLY PETROLEUM IMPORTS REPORT"]
[{"$f":"J23","v":""}]
["This Report is mandatory under chapter 486J, Hawaii Revised Statutes (\"HRS\").  Violations are subject to civil and criminal penalties pursuant to HRS § 486J-9 and other applicable laws or orders. CONFIDENTIAL PURSUANT TO APPLICABLE STATUTORY AUTHORITY (E.G., HRS § 486J-6) AND APPLICABLE PROTECTIVE ORDERS."]
[]
[]
[]
["Company Name",null,null,null,null,null,null,null,null,{"$f":"IF('(1)&(2)'!G17=0,\" \",'(1)&(2)'!G17)","v":" "}]
["Company Short Code",null,null,null,null,null,null,null,null,{"$f":"_xlfn.IFNA(INDEX(Facility!$A$38:$B$61, MATCH(J18,Facility!A38:A61,0), 2), \" \")","v":" "}]
["Company Code",null,null,null,null,null,null,null,null,{"$f":"_xlfn.IFNA(INDEX(Facility!$A$38:$C$61, MATCH(J18,Facility!A38:A61,0), 3), \"\")","v":""}]
["Form Code",null,null,null,null,null,null,null,null,{"$f":"IF(OR(J20=\"\",J22=\"\",J24=\"\",J27=\"\"),\"\",_xlfn.IFNA(_xlfn.CONCAT(J24,\"-\",J20,\"-\",_xlfn.IFNA(VLOOKUP(J22,Facility!$A$2:$H$35,8,FALSE),\"000\"),\"-\",J27,\"-110\"),\"\"))","v":""}]
["Facility Name",null,null,null,null,null,null,null,null,{"$f":"IF('(1)&(2)'!I37=0,\"\",'(1)&(2)'!I37)","v":""}]
["Island",null,null,null,null,null,null,null,null,{"$f":"_xlfn.IFNA(VLOOKUP('(1)&(2)'!I37,Facility!$A$2:$F$35, 6, FALSE), \"\" )","v":""}]
["Island Code",null,null,null,null,null,null,null,null,{"$f":"_xlfn.IFNA(INDEX(Facility!$A$65:$B$72, MATCH(J23,Facility!B65:B72,0), 1), \"\")","v":""}]
["Report Date",null,null,null,null,null,null,null,null,{"$f":"CONCATENATE('(1)&(2)'!K21,\"/\",'(1)&(2)'!O21,\"/\",'(1)&(2)'!S21)","v":"//"}]
["Report Period (Month Ending)",null,null,null,null,null,null,null,null,{"$f":"CONCATENATE('(1)&(2)'!O19,\"/\",'(1)&(2)'!S19)","v":"/"}]
["Report Period",null,null,null,null,null,null,null,null,{"$f":"_xlfn.CONCAT('(1)&(2)'!S19:T19,'(1)&(2)'!O19)","v":""}]
["Resubmission (Y/N)",null,null,null,null,null,null,null,null,{"$f":"IF(Facility!B74=TRUE,\"Y\",\"N\")","v":"N"}]
[]
[]
["Line No.","Product Description ",null,null,null,null,null,null,null,null,null,null,null,null,"Product No.","Port of Entry",null,null,null,null,null,null,null,null,null,null,"State or Country of Origin",null,null,null,null,null,"Volume of Import ",null,null,null,null,"Sulfur % by Weight ",null,null,null,"API Gravity "]
[null,null,null,null,null,null,null,null,null,null,null,null,null,null,null,"(Select from list)",null,null,null,null,null,null,null,null,null,null,"(if product has more than one origin, then list below line 34)",null,null,null,null,null,"(Barrels)",null,null,null,null,"(Crude Oil and Residual Fuel Oil Only)",null,null,null,"(at 60°F; Crude Oil Only)"]
[1,"Crude Oil",null,null,null,null,null,null,null,null,null,null,null,null,"001",null,null,null,null,null,null,null,null,1,{"$f":"IF(X33=1,\" \",LOOKUP(X33,#REF!,#REF!))","v":" "},null,null,null,null,null,null,null,null,null,null,null,null,null,".",null,null,null,null,"."]
[2,"Unleaded Gasoline Regular (no ethanol finished)",null,null,null,null,null,null,null,null,null,null,null,null,"002",null,null,null,null,null,null,null,null,1,{"$f":"IF(X34=1,\" \",LOOKUP(X34,#REF!,#REF!))","v":" "}]
[3,"Unleaded Gasoline Midgrade (no ethanol finished)",null,null,null,null,null,null,null,null,null,null,null,null,"003",null,null,null,null,null,null,null,null,1,{"$f":"IF(X35=1,\" \",LOOKUP(X35,#REF!,#REF!))","v":" "}]
[4,"Unleaded Gasoline Premium (no ethanol finished)",null,null,null,null,null,null,null,null,null,null,null,null,"004",null,null,null,null,null,null,null,null,1,{"$f":"IF(X36=1,\" \",LOOKUP(X36,#REF!,#REF!))","v":" "}]
[5,"Gasoline (E10) Regular",null,null,null,null,null,null,null,null,null,null,null,null,"005",null,null,null,null,null,null,null,null,1,{"$f":"IF(X37=1,\" \",LOOKUP(X37,#REF!,#REF!))","v":" "}]
[6,"Gasoline (E10) Midgrade",null,null,null,null,null,null,null,null,null,null,null,null,"006",null,null,null,null,null,null,null,null,1,{"$f":"IF(X38=1,\" \",LOOKUP(X38,#REF!,#REF!))","v":" "}]
[7,"Gasoline (E10) Premium",null,null,null,null,null,null,null,null,null,null,null,null,"007",null,null,null,null,null,null,null,null,1,{"$f":"IF(X39=1,\" \",LOOKUP(X39,#REF!,#REF!))","v":" "}]
[8,"HIBOB Regular",null,null,null,null,null,null,null,null,null,null,null,null,"008",null,null,null,null,null,null,null,null,1,{"$f":"IF(X40=1,\" \",LOOKUP(X40,#REF!,#REF!))","v":" "}]
[9,"HIBOB Premium",null,null,null,null,null,null,null,null,null,null,null,null,"009"]
[10,"Aviation",null,null,null,null,null,null,null,null,null,null,null,null,"010",null,null,null,null,null,null,null,null,1,{"$f":"IF(X42=1,\" \",LOOKUP(X42,#REF!,#REF!))","v":" "}]
[11,"Jet Kerosene, Non-bonded",null,null,null,null,null,null,null,null,null,null,null,null,"011",null,null,null,null,null,null,null,null,1,{"$f":"IF(X43=1,\" \",LOOKUP(X43,#REF!,#REF!))","v":" "}]
[12,"Jet Kerosene, Bonded",null,null,null,null,null,null,null,null,null,null,null,null,"012",null,null,null,null,null,null,null,null,1,{"$f":"IF(X44=1,\" \",LOOKUP(X44,#REF!,#REF!))","v":" "}]
[13,"Military Jet Fuel (JP5 and JP8)",null,null,null,null,null,null,null,null,null,null,null,null,"013",null,null,null,null,null,null,null,null,1,{"$f":"IF(X45=1,\" \",LOOKUP(X45,#REF!,#REF!))","v":" "}]
[14,"No. 2 Diesel Sulfur <= 15 ppm",null,null,null,null,null,null,null,null,null,null,null,null,"015",null,null,null,null,null,null,null,null,1,{"$f":"IF(X46=1,\" \",LOOKUP(X46,#REF!,#REF!))","v":" "}]
[15,"No. 2 Diesel 15 ppm < Sulfur <= 500 ppm",null,null,null,null,null,null,null,null,null,null,null,null,"016",null,null,null,null,null,null,null,null,1,{"$f":"IF(X47=1,\" \",LOOKUP(X47,#REF!,#REF!))","v":" "}]
[16,"No. 2 Diesel Sulfur > 500",null,null,null,null,null,null,null,null,null,null,null,null,"017",null,null,null,null,null,null,null,null,1,{"$f":"IF(X48=1,\" \",LOOKUP(X48,#REF!,#REF!))","v":" "}]
[17,"No. 2 Fuel Oil",null,null,null,null,null,null,null,null,null,null,null,null,"018",null,null,null,null,null,null,null,null,1,{"$f":"IF(X49=1,\" \",LOOKUP(X49,#REF!,#REF!))","v":" "}]
[18,"Residual Fuel Oil <= 1%",null,null,null,null,null,null,null,null,null,null,null,null,"021",null,null,null,null,null,null,null,null,1,{"$f":"IF(X50=1,\" \",LOOKUP(X50,#REF!,#REF!))","v":" "},null,null,null,null,null,null,null,null,null,null,null,null,null,"."]
[19,"Residual Fuel Oil > 1%",null,null,null,null,null,null,null,null,null,null,null,null,"022",null,null,null,null,null,null,null,null,1,{"$f":"IF(X51=1,\" \",LOOKUP(X51,#REF!,#REF!))","v":" "},null,null,null,null,null,null,null,null,null,null,null,null,null,"."]
[20,"Vacuum Gas Oil",null,null,null,null,null,null,null,null,null,null,null,null,"024",null,null,null,null,null,null,null,null,1,{"$f":"IF(X52=1,\" \",LOOKUP(X52,#REF!,#REF!))","v":" "}]
[21,"Intermediate Fuel Oil",null,null,null,null,null,null,null,null,null,null,null,null,"025",null,null,null,null,null,null,null,null,1,{"$f":"IF(X53=1,\" \",LOOKUP(X53,#REF!,#REF!))","v":" "}]
[22,"Asphalt",null,null,null,null,null,null,null,null,null,null,null,null,"029",null,null,null,null,null,null,null,null,1,{"$f":"IF(X54=1,\" \",LOOKUP(X54,#REF!,#REF!))","v":" "}]
[23,"Propane HD-5 (Consumer)",null,null,null,null,null,null,null,null,null,null,null,null,"030",null,null,null,null,null,null,null,null,1,{"$f":"IF(X55=1,\" \",LOOKUP(X55,#REF!,#REF!))","v":" "}]
[24,"Ethanol",null,null,null,null,null,null,null,null,null,null,null,null,"034",null,null,null,null,null,null,null,null,1,{"$f":"IF(X56=1,\" \",LOOKUP(X56,#REF!,#REF!))","v":" "}]
[25,"Biodiesel >95%",null,null,null,null,null,null,null,null,null,null,null,null,"036",null,null,null,null,null,null,null,null,1,{"$f":"IF(X57=1,\" \",LOOKUP(X57,#REF!,#REF!))","v":" "}]
[26,"Biodiesel <30%",null,null,null,null,null,null,null,null,null,null,null,null,"037",null,null,null,null,null,null,null,null,1,{"$f":"IF(X58=1,\" \",LOOKUP(X58,#REF!,#REF!))","v":" "}]
[27,"Synthetic Natural Gas",null,null,null,null,null,null,null,null,null,null,null,null,"038",null,null,null,null,null,null,null,null,1,{"$f":"IF(X59=1,\" \",LOOKUP(X59,#REF!,#REF!))","v":" "}]
[28,"Synthetic Natural Gas Feedstock",null,null,null,null,null,null,null,null,null,null,null,null,"039",null,null,null,null,null,null,null,null,1,{"$f":"IF(X60=1,\" \",LOOKUP(X60,#REF!,#REF!))","v":" "}]
[29,"Alkylate",null,null,null,null,null,null,null,null,null,null,null,null,"040",null,null,null,null,null,null,null,null,1,{"$f":"IF(X61=1,\" \",LOOKUP(X61,#REF!,#REF!))","v":" "}]
[30,"Reformate",null,null,null,null,null,null,null,null,null,null,null,null,"041",null,null,null,null,null,null,null,null,1,{"$f":"IF(X62=1,\" \",LOOKUP(X62,#REF!,#REF!))","v":" "}]
[31,"Motor Gasoline Blend Components",null,null,null,null,null,null,null,null,null,null,null,null,"048",null,null,null,null,null,null,null,null,1,{"$f":"IF(X63=1,\" \",LOOKUP(X63,#REF!,#REF!))","v":" "}]
[32,"Naphtha",null,null,null,null,null,null,null,null,null,null,null,null,"049",null,null,null,null,null,null,null,null,1,{"$f":"IF(X64=1,\" \",LOOKUP(X64,#REF!,#REF!))","v":" "}]
[33,"Biodiesel Feedstock",null,null,null,null,null,null,null,null,null,null,null,null,"054"]
[34,"Unfinished Oil (all other)",null,null,null,null,null,null,null,null,null,null,null,null,"058",null,null,null,null,null,null,null,null,1,{"$f":"IF(X66=1,\" \",LOOKUP(X66,#REF!,#REF!))","v":" "}]
[35,"LIST PRODUCTS THAT HAVE MORE THAN ONE STATE OR COUNTRY OF ORIGIN (Select from list):"]
[36,null,null,null,null,null,null,null,null,null,null,null,null,1,{"$f":"IF(N68=1,\" \",LOOKUP(N68,#REF!,#REF!))","v":" "},null,null,null,null,null,null,null,null,1,{"$f":"IF(X68=1,\" \",LOOKUP(X68,#REF!,#REF!))","v":" "},null,null,null,null,null,null,null,null,null,null,null,null,null,".",null,null,null,null,"."]
[37,null,null,null,null,null,null,null,null,null,null,null,null,1,{"$f":"IF(N69=1,\" \",LOOKUP(N69,#REF!,#REF!))","v":" "},null,null,null,null,null,null,null,null,1,{"$f":"IF(X69=1,\" \",LOOKUP(X69,#REF!,#REF!))","v":" "},null,null,null,null,null,null,null,null,null,null,null,null,null,".",null,null,null,null,"."]
[38,null,null,null,null,null,null,null,null,null,null,null,null,1,{"$f":"IF(N70=1,\" \",LOOKUP(N70,#REF!,#REF!))","v":" "},null,null,null,null,null,null,null,null,1,{"$f":"IF(X70=1,\" \",LOOKUP(X70,#REF!,#REF!))","v":" "},null,null,null,null,null,null,null,null,null,null,null,null,null,".",null,null,null,null,"."]
[39,null,null,null,null,null,null,null,null,null,null,null,null,1,{"$f":"IF(N71=1,\" \",LOOKUP(N71,#REF!,#REF!))","v":" "},null,null,null,null,null,null,null,null,1,{"$f":"IF(X71=1,\" \",LOOKUP(X71,#REF!,#REF!))","v":" "},null,null,null,null,null,null,null,null,null,null,null,null,null,".",null,null,null,null,"."]
[40,null,null,null,null,null,null,null,null,null,null,null,null,1,{"$f":"IF(N72=1,\" \",LOOKUP(N72,#REF!,#REF!))","v":" "},null,null,null,null,null,null,null,null,1,{"$f":"IF(X72=1,\" \",LOOKUP(X72,#REF!,#REF!))","v":" "},null,null,null,null,null,null,null,null,null,null,null,null,null,".",null,null,null,null,"."]
[41,null,null,null,null,null,null,null,null,null,null,null,null,1,{"$f":"IF(N73=1,\" \",LOOKUP(N73,#REF!,#REF!))","v":" "},null,null,null,null,null,null,null,null,1,{"$f":"IF(X73=1,\" \",LOOKUP(X73,#REF!,#REF!))","v":" "},null,null,null,null,null,null,null,null,null,null,null,null,null,".",null,null,null,null,"."]
[42,null,null,null,null,null,null,null,null,null,null,null,null,1,{"$f":"IF(N74=1,\" \",LOOKUP(N74,#REF!,#REF!))","v":" "},null,null,null,null,null,null,null,null,1,{"$f":"IF(X74=1,\" \",LOOKUP(X74,#REF!,#REF!))","v":" "},null,null,null,null,null,null,null,null,null,null,null,null,null,".",null,null,null,null,"."]
[43,null,null,null,null,null,null,null,null,null,null,null,null,1,{"$f":"IF(N75=1,\" \",LOOKUP(N75,#REF!,#REF!))","v":" "},null,null,null,null,null,null,null,null,1,{"$f":"IF(X75=1,\" \",LOOKUP(X75,#REF!,#REF!))","v":" "},null,null,null,null,null,null,null,null,null,null,null,null,null,".",null,null,null,null,"."]
[44,null,null,null,null,null,null,null,null,null,null,null,null,1,{"$f":"IF(N76=1,\" \",LOOKUP(N76,#REF!,#REF!))","v":" "},null,null,null,null,null,null,null,null,1,{"$f":"IF(X76=1,\" \",LOOKUP(X76,#REF!,#REF!))","v":" "},null,null,null,null,null,null,null,null,null,null,null,null,null,".",null,null,null,null,"."]
[45,null,null,null,null,null,null,null,null,null,null,null,null,1,{"$f":"IF(N77=1,\" \",LOOKUP(N77,#REF!,#REF!))","v":" "},null,null,null,null,null,null,null,null,1,{"$f":"IF(X77=1,\" \",LOOKUP(X77,#REF!,#REF!))","v":" "},null,null,null,null,null,null,null,null,null,null,null,null,null,".",null,null,null,null,"."]
[46,null,null,null,null,null,null,null,null,null,null,null,null,1,{"$f":"IF(N78=1,\" \",LOOKUP(N78,#REF!,#REF!))","v":" "},null,null,null,null,null,null,null,null,1,{"$f":"IF(X78=1,\" \",LOOKUP(X78,#REF!,#REF!))","v":" "},null,null,null,null,null,null,null,null,null,null,null,null,null,".",null,null,null,null,"."]
[60,"OTHER (Not listed above): Specify below"]
[61,null,null,null,null,null,null,null,null,null,null,null,null,{"$f":"IF(A80>\" \",\"101\",\" \")","v":" "}," ",null,null,null,null,null,null,null,null,1,{"$f":"IF(X80=1,\" \",LOOKUP(X80,#REF!,#REF!))","v":" "}]
[62,null,null,null,null,null,null,null,null,null,null,null,null," "," ",null,null,null,null,null,null,null,null,1,{"$f":"IF(X81=1,\" \",LOOKUP(X81,#REF!,#REF!))","v":" "}]
[63,null,null,null,null,null,null,null,null,null,null,null,null," "," ",null,null,null,null,null,null,null,null,1,{"$f":"IF(X82=1,\" \",LOOKUP(X82,#REF!,#REF!))","v":" "}]
[64,null,null,null,null,null,null,null,null,null,null,null,null," "," ",null,null,null,null,null,null,null,null,1,{"$f":"IF(X83=1,\" \",LOOKUP(X83,#REF!,#REF!))","v":" "}]
[65,null,null,null,null,null,null,null,null,null,null,null,null," "," ",null,null,null,null,null,null,null,null,1,{"$f":"IF(X84=1,\" \",LOOKUP(X84,#REF!,#REF!))","v":" "}]
[]
[]
[null,"TOTAL NUMBER OF PRODUCTS REPORTED",null,null,null,null,null,null,null,null,null,null,{"$f":"IF(COUNTIF(AG33:AK66,\">0\")=0,0,COUNTIF(AG33:AK66,\">0\"))+IF(COUNTIF(AG80:AK84,\">0\")=0,0,COUNTIF(AG80:AK84,\">0\"))","v":0}]
[]
[null,"TOTAL BARRELS REPORTED",null,null,null,null,null,null,null,null,null,null,{"$f":"SUM(AG33:AK84)","v":0}]
[]
[null,null,null,null,null,null,null,null,null,null,null,null,null,null,null,null,null,null,null,null,null,null,null,null,null,null,null,null,null,null,null,null,null,"Form code: ",null,null,{"$f":"J21","v":""},null,null,null,null,null,null,"DBEDT-110"]
[]
[]
[]
[]
[]
[]
[]
[null,null,null,null,null,null,null,null,null,null,null,null,null,null,null,null,null,null,null,null,null,null,null,null,null,null,null,null,null,null,null,null,null,null,null,null,null,null,null,null,null,null,null,null,null,"`"]

{"sheet":"FormData","index":2,"n_rows":2,"n_cols":16,"rows_kept":2,"cut":false,"hidden":true,"merged":[]}
["form_code","dbedt","company_code","asset_id","facility_code","island_code","report_date","report_period","report_period_month","report_period_year","resubmission","total_products_reported","total_barrels_reported","total_receipts","total_distribution","total_inventory"]
[{"$f":"'(3) Imports'!J21","v":""},110,{"$f":"'(3) Imports'!J20","v":""},{"$f":"_xlfn.IFNA(VLOOKUP('(3) Imports'!J22,Facility!$A$2:$H$35,7, FALSE), \"\" )","v":""},{"$f":"_xlfn.IFNA(VLOOKUP('(3) Imports'!J22,Facility!$A$2:$H$35,8, FALSE), \"\" )","v":""},{"$f":"'(3) Imports'!J24","v":""},{"$f":"'(3) Imports'!J25","v":"//"},{"$f":"'(3) Imports'!J27","v":""},{"$f":"'(1)&(2)'!O19","v":0},{"$f":"'(1)&(2)'!S19","v":0},{"$f":"Facility!B74","v":false},{"$f":"'(3) Imports'!M87","v":0},{"$f":"'(3) Imports'!M89","v":0}]

{"sheet":"RawData","index":3,"n_rows":2,"n_cols":9,"rows_kept":2,"cut":false,"hidden":true,"merged":[]}
["form_code","product","product_code","port_entry","port_code","origin","volume_import","sulfur_weight","api_gravity"]
[{"$f":"_xlfn._xlws.SORT(_xlfn.UNIQUE(AllProductData!A2:I51,FALSE,FALSE),1,-1,FALSE)","v":""},"","","","","","","",""]

{"sheet":"Facility","index":4,"n_rows":74,"n_cols":8,"rows_kept":74,"cut":false,"hidden":true,"merged":[]}
["Facility Name","Facility Street Address","City","State","Zip","Island","Facility Code","Code"]
["Aloha Hilo Terminal","999 Kalanianaole Avenue","Hilo","HI","96720","Hawaii","TM_013","001"]
["Aloha Hilo Terminal 2","661 Kalanianaole Avenue","Hilo","HI","96720","Hawaii","TM_014","002"]
["Aloha Honolulu Terminal","789 North Nimitz Highway","Honolulu","HI","96817","O'ahu","TM_006","003"]
["Aloha Kahului Terminal","60 Hobron Avenue","Kahului","HI","96732","Maui","TM_015","004"]
["Aloha Nawiliwili Terminal","3145 Waapa Road","Lihue","HI","96766","Kaua'i","TM_016","005"]
["Aloha TFM Kalaeloa Terminal","91-119 Hanua Street","Kapolei","HI","96707","O'ahu","TM_010","006"]
["Hawaii Gas Barbers Point","91-571 Malakole St ","Kapolei","HI","96707","O'ahu","TM_011","007"]
["Hawaii Gas Hilo Base Yard","945 Kalanianaole Ave","Hilo","HI","96720","Hawaii","TM_017","008"]
["Hawaii Gas Kauai Base Yard","3000 Waapa Road","Lihue","HI","96766","Kaua'i","TM_018","009"]
["Hawaii Gas Kona","74-5564 Kaiwi Street","Kailua","HI","96740","Hawaii","TM_019","010"]
["Hawaii Gas Lanai","9th Street","Lanai City","HI","96763","Lana'i","TM_020","011"]
["Hawaii Gas Maui Base Yard","20 Hobron Avenue","Kahului","HI","96732","Maui","TM_021","012"]
["Hawaii Gas Molokai","Ulili Street","Kaunakakai","HI","96748","Moloka'i","TM_022","013"]
["Hawaii Petroleum Kona Cardlock","74-5558 B Kaiwi Street","Kailua-Kona","HI","96740","Hawaii","TM_023","014"]
["HFFC Airport","3201 Aolele Street","Honolulu","HI","96819","O'ahu","TM_001","015"]
["HFFC Sand Island ","50 Sand Island Access Road","Honolulu","HI","96819","O'ahu","TM_002","016"]
["IES Hilo","666 Kalanianaole Ave","Hilo","HI","96720","Hawaii","TM_024","017"]
["IES Honolulu","777 NI Nimitz Highway","Honolulu","HI","96817","O'ahu","TM_004","018"]
["IES Kahului","100 Hobron Ave","Kahului","HI","96732","Maui","TM_025","019"]
["IES Port Allen","260 Akaula St","Eleele","HI","96705","Kaua'i","TM_026","020"]
["Lanai Oil Terminal","Kaumalapau Highway","Lanai City","HI","96763","Lana'i","TM_028","022"]
["MidPac Petroleum Kawaihae Terminal","61-3651 Kawaihae Road","Kamuela","HI","96743","Hawaii","TM_029","023"]
["Pacific Biodiesel Terminal 1","1003 Makepono Street","Honolulu","HI","96819","O'ahu","TM_008","024"]
["Pacific Biodiesel Terminal 2","","Honolulu","HI",96819,"O'ahu","TM_035","025"]
["Pacific Biodiesel Terminal 3","40 Hobron Avenue","Kahului","HI","96732","Maui","TM_030","026"]
["Pacific Biodiesel Terminal 4","16-240 Mikahala Street","Keaau","HI","96749","Hawaii","TM_031","027"]
["Par Hilo","607 Kalanianaole Street","Hilo","HI","96720","Hawaii","TM_032","028"]
["Par Lihue","3651 Ahukini Road","Lihue","HI","96766","Kaua'i","TM_033","029"]
["Par Maui","140 A Hobron Avenue","Kahului","HI","96732","Maui","TM_034","030"]
["Par Mauka Terminal","#10 Wharf Rd/Beach Place","Kaunakakai","HI","96748","Moloka'i","TM_027","021"]
["Par Refinery-East","91-325 Komohana Street","Kapolei","HI","96707","O'ahu","RF_001","031"]
["Par Refinery-West","91-480 Malakole St","Kapolei","HI","96707","O'ahu","RF_002","032"]
["Par Sand Island","2 Sand Island Access Road","Honolulu","HI","96819","O'ahu","TM_007","033"]
[" "]
[]
["Company Name","Company Short Name","Company Code"]
["Aloha Petroleum Ltd","Aloha",10002]
["B&E Petroleum","BE",10001]
["BIG ISLAND ENERGY CO., LLC dba AKANA PETROLEUM","BIEnergy/Akana",70001]
["Big Island Biodiesel","BigIslBio",70002]
["Chevron U.S.A. Inc.","Chevron",10012]
["GARLOW PETROLEUM INC.","Garlow",10004]
["Hawaiian Electric Co., Inc.","HECO",10008]
["Hawaii Fueling Facilities Corporaion","HFFC",10003]
["Hawaii Petroleum","HIPetro",80001]
["Island Energy Services","IESD",10012]
["Island Petroleum Inc.","Island",50001]
["Kauai Petroleum Co. LTD","KIPetro",20001]
["LANAI OIL COMPANY, INC.","LanaiOil",60001]
["MAUI OIL COMPANY, INC.","MauiOil",30003]
["Maui Electric Company, Ltd.","MECO",30002]
["Mid Pac Petroleum LLC","MidPac",10005]
["Maui Petroleum","MIPetro",30001]
["OAHU PETROLEUM, INC.","OahuPetro",10009]
["Pacific Biodiesel Inc","PacBio",10006]
["Par Pacific","PAR",10013]
["Senter Petroleum Inc.","Senter",20002]
["Shell Oil Products, US","Shell",10007]
["Tesoro Hawaii Corporation ","Tesoro",10011]
["THE GAS COMPANY, LLC","TGC",10010]
[]
[]
["Zone","Region"]
["1","O'ahu"]
["2","Kaua'i"]
["3","Maui"]
["4"]
["5","Moloka'i"]
["6","Lana'i"]
["7","Hawaii"]
["8"]
[]
["Resubmission? ",false]

{"sheet":"Ports","index":5,"n_rows":11,"n_cols":5,"rows_kept":11,"cut":false,"hidden":true,"merged":[]}
["Ports","Zone","Code","Full Name","Asset_ID"]
["Kalaeloa Barbers Point","1","BAR","Kalaeloa Barbers Point Harbor, Oahu","PT_001"]
["Hilo","7","HIL","Hilo Harbor, Hawaii","PT_005"]
["Honolulu","1","HNL","Honolulu Harbor, Oahu","PT_004"]
["Kahului","3","KAH","Kahului Harbor, Maui","PT_006"]
["Kaunakakai","5","KAK","Kaunakakai Harbor, Molokai","PT_008"]
["Kaumalapau","6","KAU","Kaumalapau Harbor, Lanai","PT_007"]
["Kawaihae","8","KAW","Kawaihae Harbor, Hawaii","PT_009"]
["Kewalo Basin","1","KWB","Kewalo Basin, Oahu","PT_010"]
["Nawiliwili","2","NAW","Nawiliwili Harbor, Kauai","PT_011"]
["Port Allen","2","PTA","Port Allen Harbor, Kauai","PT_012"]

{"sheet":"Destinations","index":6,"n_rows":245,"n_cols":1,"rows_kept":245,"cut":false,"hidden":true,"merged":[]}
["Destinations"]
["Afghanistan"]
["Albania"]
["Algeria"]
["Andorra"]
["Angola"]
["Antigua and Barbuda"]
["Argentina"]
["Armenia"]
["Austria"]
["Azerbaijan"]
["Bahrain"]
["Bangladesh"]
["Barbados"]
["Belarus"]
["Belgium"]
["Belize"]
["Benin"]
["Bhutan"]
["Bolivia"]
["Bosnia and Herzegovina"]
["Botswana"]
["Brazil"]
["Brunei"]
["Bulgaria"]
["Burkina Faso"]
["Burundi"]
["Cabo Verde"]
["Cambodia"]
["Cameroon"]
["Canada"]
["Central African Republic"]
["Chad"]
["Channel Islands"]
["Chile"]
["China"]
["Colombia"]
["Comoros"]
["Congo"]
["Costa Rica"]
["CÃ´te d'Ivoire"]
["Croatia"]
["Cuba"]
["Cyprus"]
["Czech Republic"]
["Denmark"]
["Djibouti"]
["Dominica"]
["Dominican Republic"]
["DR Congo"]
["Ecuador"]
["Egypt"]
["El Salvador"]
["Equatorial Guinea"]
["Eritrea"]
["Estonia"]
["Eswatini"]
["Ethiopia"]
["Faeroe Islands"]
["Finland"]
["France"]
["French Guiana"]
["Gabon"]
["Gambia"]
["Georgia"]
["Germany"]
["Ghana"]
["Gibraltar"]
["Greece"]
["Grenada"]
["Guatemala"]
["Guinea"]
["Guinea-Bissau"]
["Guyana"]
["Haiti"]
["Holy See"]
["Honduras"]
["Hong Kong"]
["Hungary"]
["Iceland"]
["India"]
["Indonesia"]
["Iran"]
["Iraq"]
["Ireland"]
["Isle of Man"]
["Israel"]
["Italy"]
["Jamaica"]
["Japan"]
["Jordan"]
["Kazakhstan"]
["Kenya"]
["Kuwait"]
["Kyrgyzstan"]
["Laos"]
["Latvia"]
["Lebanon"]
["Lesotho"]
["Liberia"]
["Libya"]
["Liechtenstein"]
["Lithuania"]
["Luxembourg"]
["Macao"]
["Madagascar"]
["Malawi"]
["Malaysia"]
["Maldives"]
["Mali"]
["Malta"]
["Mauritania"]
["Mauritius"]
["Mayotte"]
["Mexico"]
["Moldova"]
["Monaco"]
["Mongolia"]
["Montenegro"]
["Morocco"]
["Mozambique"]
["Myanmar"]
["Namibia"]
["Nepal"]
["Netherlands"]
["Nicaragua"]
["Niger"]
["Nigeria"]
["North Korea"]
["North Macedonia"]
["Norway"]
["Oman"]
["Pakistan"]
["Panama"]
["Paraguay"]
["Peru"]
["Philippines"]
["Poland"]
["Portugal"]
["Qatar"]
["RÃ©union"]
["Romania"]
["Russia"]
["Rwanda"]
["Saint Helena"]
["Saint Kitts and Nevis"]
["Saint Lucia"]
["Saint Vincent and the Grenadines"]
["San Marino"]
["Sao Tome & Principe"]
["Saudi Arabia"]
["Senegal"]
["Serbia"]
["Seychelles"]
["Sierra Leone"]
["Singapore"]
["Slovakia"]
["Slovenia"]
["Somalia"]
["South Africa"]
["South Korea"]
["South Sudan"]
["Spain"]
["Sri Lanka"]
["State of Palestine"]
["Sudan"]
["Suriname"]
["Sweden"]
["Switzerland"]
["Syria"]
["Taiwan"]
["Tajikistan"]
["Tanzania"]
["Thailand"]
["The Bahamas"]
["Timor-Leste"]
["Togo"]
["Trinidad and Tobago"]
["Tunisia"]
["Turkey"]
["Turkmenistan"]
["Uganda"]
["Ukraine"]
["United Arab Emirates"]
["United Kingdom"]
["United States"]
["Uruguay"]
["Uzbekistan"]
["Venezuela"]
["Vietnam"]
["Western Sahara"]
["Yemen"]
["Zambia"]
["Zimbabwe"]
["Alabama"]
["Alaska"]
["Arizona"]
["Arkansas"]
["California"]
["Colorado"]
["Connecticut"]
["Delaware"]
["District of Columbia"]
["Florida"]
["Georgia"]
["Hawaii"]
["Idaho"]
["Illinois"]
["Indiana"]
["Iowa"]
["Kansas"]
["Kentucky"]
["Louisiana"]
["Maine"]
["Maryland"]
["Massachusetts"]
["Michigan"]
["Minnesota"]
["Mississippi"]
["Missouri"]
["Montana"]
["Nebraska"]
["Nevada"]
["New Hampshire"]
["New Jersey"]
["New Mexico"]
["New York"]
["North Carolina"]
["North Dakota"]
["Ohio"]
["Oklahoma"]
["Oregon"]
["Pennsylvania"]
["Rhode Island"]
["South Carolina"]
["South Dakota"]
["Tennessee"]
["Texas"]
["Utah"]
["Vermont"]
["Virginia"]
["Washington"]
["West Virginia"]
["Wisconsin"]
["Wyoming"]

{"sheet":"AllProductData","index":7,"n_rows":51,"n_cols":9,"rows_kept":51,"cut":false,"hidden":true,"merged":[]}
["form_code","product","product_code","port_entry","port_code","origin","volume_import","sulfur_weight","api_gravity"]
[{"$f":"IF(AND(D2=\"\",E2=\"\",F2=\"\",G2=\"\",H2=\"\",I2=\"\"),\"\",'(3) Imports'!$J$21)","v":""},{"$f":"IF(AND(D2=\"\",E2=\"\",F2=\"\",G2=\"\",H2=\"\",I2=\"\"),\"\",'(3) Imports'!B33)","v":""},{"$f":"IF(AND(D2=\"\",E2=\"\",F2=\"\",G2=\"\",H2=\"\",I2=\"\"),\"\",'(3) Imports'!O33)","v":""},{"$f":"IF(ISBLANK('(3) Imports'!P33),\"\",LOOKUP('(3) Imports'!P33,Ports!$A$2:$A$11,Ports!$C$2:$C$11))","v":""},{"$f":"IF(ISBLANK('(3) Imports'!P33),\"\",LOOKUP('(3) Imports'!P33,Ports!$A$2:$A$11,Ports!$E$2:$E$11))","v":""},{"$f":"IF('(3) Imports'!AA33>0,'(3) Imports'!AA33,\"\")","v":""},{"$f":"IF('(3) Imports'!AG33>0,'(3) Imports'!AG33,\"\")","v":""},{"$f":"IF(AND(ISBLANK('(3) Imports'!AL33),ISBLANK('(3) Imports'!AN33),ISBLANK('(3) Imports'!AO33)),\"\",CONCATENATE('(3) Imports'!AL33,'(3) Imports'!AM33,'(3) Imports'!AN33,'(3) Imports'!AO33))","v":""},{"$f":"IF(AND(ISBLANK('(3) Imports'!AP33),ISBLANK('(3) Imports'!AQ33),ISBLANK('(3) Imports'!AS33),ISBLANK('(3) Imports'!AT33)),\"\",CONCATENATE('(3) Imports'!AP33,'(3) Imports'!AQ33,'(3) Imports'!AR33,'(3) Imports'!AS33,'(3) Imports'!AT33))","v":""}]
[{"$f":"IF(AND(D3=\"\",E3=\"\",F3=\"\",G3=\"\",H3=\"\",I3=\"\"),\"\",'(3) Imports'!$J$21)","v":""},{"$f":"IF(AND(D3=\"\",E3=\"\",F3=\"\",G3=\"\",H3=\"\",I3=\"\"),\"\",'(3) Imports'!B34)","v":""},{"$f":"IF(AND(D3=\"\",E3=\"\",F3=\"\",G3=\"\",H3=\"\",I3=\"\"),\"\",'(3) Imports'!O34)","v":""},{"$f":"IF(ISBLANK('(3) Imports'!P34),\"\",LOOKUP('(3) Imports'!P34,Ports!$A$2:$A$11,Ports!$C$2:$C$11))","v":""},{"$f":"IF(ISBLANK('(3) Imports'!P34),\"\",LOOKUP('(3) Imports'!P34,Ports!$A$2:$A$11,Ports!$E$2:$E$11))","v":""},{"$f":"IF('(3) Imports'!AA34>0,'(3) Imports'!AA34,\"\")","v":""},{"$f":"IF('(3) Imports'!AG34>0,'(3) Imports'!AG34,\"\")","v":""},{"$f":"IF(AND(ISBLANK('(3) Imports'!AL34),ISBLANK('(3) Imports'!AN34),ISBLANK('(3) Imports'!AO34)),\"\",CONCATENATE('(3) Imports'!AL34,'(3) Imports'!AM34,'(3) Imports'!AN34,'(3) Imports'!AO34))","v":""},{"$f":"IF(AND(ISBLANK('(3) Imports'!AP34),ISBLANK('(3) Imports'!AQ34),ISBLANK('(3) Imports'!AS34),ISBLANK('(3) Imports'!AT34)),\"\",CONCATENATE('(3) Imports'!AP34,'(3) Imports'!AQ34,'(3) Imports'!AR34,'(3) Imports'!AS34,'(3) Imports'!AT34))","v":""}]
[{"$f":"IF(AND(D4=\"\",E4=\"\",F4=\"\",G4=\"\",H4=\"\",I4=\"\"),\"\",'(3) Imports'!$J$21)","v":""},{"$f":"IF(AND(D4=\"\",E4=\"\",F4=\"\",G4=\"\",H4=\"\",I4=\"\"),\"\",'(3) Imports'!B35)","v":""},{"$f":"IF(AND(D4=\"\",E4=\"\",F4=\"\",G4=\"\",H4=\"\",I4=\"\"),\"\",'(3) Imports'!O35)","v":""},{"$f":"IF(ISBLANK('(3) Imports'!P35),\"\",LOOKUP('(3) Imports'!P35,Ports!$A$2:$A$11,Ports!$C$2:$C$11))","v":""},{"$f":"IF(ISBLANK('(3) Imports'!P35),\"\",LOOKUP('(3) Imports'!P35,Ports!$A$2:$A$11,Ports!$E$2:$E$11))","v":""},{"$f":"IF('(3) Imports'!AA35>0,'(3) Imports'!AA35,\"\")","v":""},{"$f":"IF('(3) Imports'!AG35>0,'(3) Imports'!AG35,\"\")","v":""},{"$f":"IF(AND(ISBLANK('(3) Imports'!AL35),ISBLANK('(3) Imports'!AN35),ISBLANK('(3) Imports'!AO35)),\"\",CONCATENATE('(3) Imports'!AL35,'(3) Imports'!AM35,'(3) Imports'!AN35,'(3) Imports'!AO35))","v":""},{"$f":"IF(AND(ISBLANK('(3) Imports'!AP35),ISBLANK('(3) Imports'!AQ35),ISBLANK('(3) Imports'!AS35),ISBLANK('(3) Imports'!AT35)),\"\",CONCATENATE('(3) Imports'!AP35,'(3) Imports'!AQ35,'(3) Imports'!AR35,'(3) Imports'!AS35,'(3) Imports'!AT35))","v":""}]
[{"$f":"IF(AND(D5=\"\",E5=\"\",F5=\"\",G5=\"\",H5=\"\",I5=\"\"),\"\",'(3) Imports'!$J$21)","v":""},{"$f":"IF(AND(D5=\"\",E5=\"\",F5=\"\",G5=\"\",H5=\"\",I5=\"\"),\"\",'(3) Imports'!B36)","v":""},{"$f":"IF(AND(D5=\"\",E5=\"\",F5=\"\",G5=\"\",H5=\"\",I5=\"\"),\"\",'(3) Imports'!O36)","v":""},{"$f":"IF(ISBLANK('(3) Imports'!P36),\"\",LOOKUP('(3) Imports'!P36,Ports!$A$2:$A$11,Ports!$C$2:$C$11))","v":""},{"$f":"IF(ISBLANK('(3) Imports'!P36),\"\",LOOKUP('(3) Imports'!P36,Ports!$A$2:$A$11,Ports!$E$2:$E$11))","v":""},{"$f":"IF('(3) Imports'!AA36>0,'(3) Imports'!AA36,\"\")","v":""},{"$f":"IF('(3) Imports'!AG36>0,'(3) Imports'!AG36,\"\")","v":""},{"$f":"IF(AND(ISBLANK('(3) Imports'!AL36),ISBLANK('(3) Imports'!AN36),ISBLANK('(3) Imports'!AO36)),\"\",CONCATENATE('(3) Imports'!AL36,'(3) Imports'!AM36,'(3) Imports'!AN36,'(3) Imports'!AO36))","v":""},{"$f":"IF(AND(ISBLANK('(3) Imports'!AP36),ISBLANK('(3) Imports'!AQ36),ISBLANK('(3) Imports'!AS36),ISBLANK('(3) Imports'!AT36)),\"\",CONCATENATE('(3) Imports'!AP36,'(3) Imports'!AQ36,'(3) Imports'!AR36,'(3) Imports'!AS36,'(3) Imports'!AT36))","v":""}]
[{"$f":"IF(AND(D6=\"\",E6=\"\",F6=\"\",G6=\"\",H6=\"\",I6=\"\"),\"\",'(3) Imports'!$J$21)","v":""},{"$f":"IF(AND(D6=\"\",E6=\"\",F6=\"\",G6=\"\",H6=\"\",I6=\"\"),\"\",'(3) Imports'!B37)","v":""},{"$f":"IF(AND(D6=\"\",E6=\"\",F6=\"\",G6=\"\",H6=\"\",I6=\"\"),\"\",'(3) Imports'!O37)","v":""},{"$f":"IF(ISBLANK('(3) Imports'!P37),\"\",LOOKUP('(3) Imports'!P37,Ports!$A$2:$A$11,Ports!$C$2:$C$11))","v":""},{"$f":"IF(ISBLANK('(3) Imports'!P37),\"\",LOOKUP('(3) Imports'!P37,Ports!$A$2:$A$11,Ports!$E$2:$E$11))","v":""},{"$f":"IF('(3) Imports'!AA37>0,'(3) Imports'!AA37,\"\")","v":""},{"$f":"IF('(3) Imports'!AG37>0,'(3) Imports'!AG37,\"\")","v":""},{"$f":"IF(AND(ISBLANK('(3) Imports'!AL37),ISBLANK('(3) Imports'!AN37),ISBLANK('(3) Imports'!AO37)),\"\",CONCATENATE('(3) Imports'!AL37,'(3) Imports'!AM37,'(3) Imports'!AN37,'(3) Imports'!AO37))","v":""},{"$f":"IF(AND(ISBLANK('(3) Imports'!AP37),ISBLANK('(3) Imports'!AQ37),ISBLANK('(3) Imports'!AS37),ISBLANK('(3) Imports'!AT37)),\"\",CONCATENATE('(3) Imports'!AP37,'(3) Imports'!AQ37,'(3) Imports'!AR37,'(3) Imports'!AS37,'(3) Imports'!AT37))","v":""}]
[{"$f":"IF(AND(D7=\"\",E7=\"\",F7=\"\",G7=\"\",H7=\"\",I7=\"\"),\"\",'(3) Imports'!$J$21)","v":""},{"$f":"IF(AND(D7=\"\",E7=\"\",F7=\"\",G7=\"\",H7=\"\",I7=\"\"),\"\",'(3) Imports'!B38)","v":""},{"$f":"IF(AND(D7=\"\",E7=\"\",F7=\"\",G7=\"\",H7=\"\",I7=\"\"),\"\",'(3) Imports'!O38)","v":""},{"$f":"IF(ISBLANK('(3) Imports'!P38),\"\",LOOKUP('(3) Imports'!P38,Ports!$A$2:$A$11,Ports!$C$2:$C$11))","v":""},{"$f":"IF(ISBLANK('(3) Imports'!P38),\"\",LOOKUP('(3) Imports'!P38,Ports!$A$2:$A$11,Ports!$E$2:$E$11))","v":""},{"$f":"IF('(3) Imports'!AA38>0,'(3) Imports'!AA38,\"\")","v":""},{"$f":"IF('(3) Imports'!AG38>0,'(3) Imports'!AG38,\"\")","v":""},{"$f":"IF(AND(ISBLANK('(3) Imports'!AL38),ISBLANK('(3) Imports'!AN38),ISBLANK('(3) Imports'!AO38)),\"\",CONCATENATE('(3) Imports'!AL38,'(3) Imports'!AM38,'(3) Imports'!AN38,'(3) Imports'!AO38))","v":""},{"$f":"IF(AND(ISBLANK('(3) Imports'!AP38),ISBLANK('(3) Imports'!AQ38),ISBLANK('(3) Imports'!AS38),ISBLANK('(3) Imports'!AT38)),\"\",CONCATENATE('(3) Imports'!AP38,'(3) Imports'!AQ38,'(3) Imports'!AR38,'(3) Imports'!AS38,'(3) Imports'!AT38))","v":""}]
[{"$f":"IF(AND(D8=\"\",E8=\"\",F8=\"\",G8=\"\",H8=\"\",I8=\"\"),\"\",'(3) Imports'!$J$21)","v":""},{"$f":"IF(AND(D8=\"\",E8=\"\",F8=\"\",G8=\"\",H8=\"\",I8=\"\"),\"\",'(3) Imports'!B39)","v":""},{"$f":"IF(AND(D8=\"\",E8=\"\",F8=\"\",G8=\"\",H8=\"\",I8=\"\"),\"\",'(3) Imports'!O39)","v":""},{"$f":"IF(ISBLANK('(3) Imports'!P39),\"\",LOOKUP('(3) Imports'!P39,Ports!$A$2:$A$11,Ports!$C$2:$C$11))","v":""},{"$f":"IF(ISBLANK('(3) Imports'!P39),\"\",LOOKUP('(3) Imports'!P39,Ports!$A$2:$A$11,Ports!$E$2:$E$11))","v":""},{"$f":"IF('(3) Imports'!AA39>0,'(3) Imports'!AA39,\"\")","v":""},{"$f":"IF('(3) Imports'!AG39>0,'(3) Imports'!AG39,\"\")","v":""},{"$f":"IF(AND(ISBLANK('(3) Imports'!AL39),ISBLANK('(3) Imports'!AN39),ISBLANK('(3) Imports'!AO39)),\"\",CONCATENATE('(3) Imports'!AL39,'(3) Imports'!AM39,'(3) Imports'!AN39,'(3) Imports'!AO39))","v":""},{"$f":"IF(AND(ISBLANK('(3) Imports'!AP39),ISBLANK('(3) Imports'!AQ39),ISBLANK('(3) Imports'!AS39),ISBLANK('(3) Imports'!AT39)),\"\",CONCATENATE('(3) Imports'!AP39,'(3) Imports'!AQ39,'(3) Imports'!AR39,'(3) Imports'!AS39,'(3) Imports'!AT39))","v":""}]
[{"$f":"IF(AND(D9=\"\",E9=\"\",F9=\"\",G9=\"\",H9=\"\",I9=\"\"),\"\",'(3) Imports'!$J$21)","v":""},{"$f":"IF(AND(D9=\"\",E9=\"\",F9=\"\",G9=\"\",H9=\"\",I9=\"\"),\"\",'(3) Imports'!B40)","v":""},{"$f":"IF(AND(D9=\"\",E9=\"\",F9=\"\",G9=\"\",H9=\"\",I9=\"\"),\"\",'(3) Imports'!O40)","v":""},{"$f":"IF(ISBLANK('(3) Imports'!P40),\"\",LOOKUP('(3) Imports'!P40,Ports!$A$2:$A$11,Ports!$C$2:$C$11))","v":""},{"$f":"IF(ISBLANK('(3) Imports'!P40),\"\",LOOKUP('(3) Imports'!P40,Ports!$A$2:$A$11,Ports!$E$2:$E$11))","v":""},{"$f":"IF('(3) Imports'!AA40>0,'(3) Imports'!AA40,\"\")","v":""},{"$f":"IF('(3) Imports'!AG40>0,'(3) Imports'!AG40,\"\")","v":""},{"$f":"IF(AND(ISBLANK('(3) Imports'!AL40),ISBLANK('(3) Imports'!AN40),ISBLANK('(3) Imports'!AO40)),\"\",CONCATENATE('(3) Imports'!AL40,'(3) Imports'!AM40,'(3) Imports'!AN40,'(3) Imports'!AO40))","v":""},{"$f":"IF(AND(ISBLANK('(3) Imports'!AP40),ISBLANK('(3) Imports'!AQ40),ISBLANK('(3) Imports'!AS40),ISBLANK('(3) Imports'!AT40)),\"\",CONCATENATE('(3) Imports'!AP40,'(3) Imports'!AQ40,'(3) Imports'!AR40,'(3) Imports'!AS40,'(3) Imports'!AT40))","v":""}]
[{"$f":"IF(AND(D10=\"\",E10=\"\",F10=\"\",G10=\"\",H10=\"\",I10=\"\"),\"\",'(3) Imports'!$J$21)","v":""},{"$f":"IF(AND(D10=\"\",E10=\"\",F10=\"\",G10=\"\",H10=\"\",I10=\"\"),\"\",'(3) Imports'!B41)","v":""},{"$f":"IF(AND(D10=\"\",E10=\"\",F10=\"\",G10=\"\",H10=\"\",I10=\"\"),\"\",'(3) Imports'!O41)","v":""},{"$f":"IF(ISBLANK('(3) Imports'!P41),\"\",LOOKUP('(3) Imports'!P41,Ports!$A$2:$A$11,Ports!$C$2:$C$11))","v":""},{"$f":"IF(ISBLANK('(3) Imports'!P41),\"\",LOOKUP('(3) Imports'!P41,Ports!$A$2:$A$11,Ports!$E$2:$E$11))","v":""},{"$f":"IF('(3) Imports'!AA41>0,'(3) Imports'!AA41,\"\")","v":""},{"$f":"IF('(3) Imports'!AG41>0,'(3) Imports'!AG41,\"\")","v":""},{"$f":"IF(AND(ISBLANK('(3) Imports'!AL41),ISBLANK('(3) Imports'!AN41),ISBLANK('(3) Imports'!AO41)),\"\",CONCATENATE('(3) Imports'!AL41,'(3) Imports'!AM41,'(3) Imports'!AN41,'(3) Imports'!AO41))","v":""},{"$f":"IF(AND(ISBLANK('(3) Imports'!AP41),ISBLANK('(3) Imports'!AQ41),ISBLANK('(3) Imports'!AS41),ISBLANK('(3) Imports'!AT41)),\"\",CONCATENATE('(3) Imports'!AP41,'(3) Imports'!AQ41,'(3) Imports'!AR41,'(3) Imports'!AS41,'(3) Imports'!AT41))","v":""}]
[{"$f":"IF(AND(D11=\"\",E11=\"\",F11=\"\",G11=\"\",H11=\"\",I11=\"\"),\"\",'(3) Imports'!$J$21)","v":""},{"$f":"IF(AND(D11=\"\",E11=\"\",F11=\"\",G11=\"\",H11=\"\",I11=\"\"),\"\",'(3) Imports'!B42)","v":""},{"$f":"IF(AND(D11=\"\",E11=\"\",F11=\"\",G11=\"\",H11=\"\",I11=\"\"),\"\",'(3) Imports'!O42)","v":""},{"$f":"IF(ISBLANK('(3) Imports'!P42),\"\",LOOKUP('(3) Imports'!P42,Ports!$A$2:$A$11,Ports!$C$2:$C$11))","v":""},{"$f":"IF(ISBLANK('(3) Imports'!P42),\"\",LOOKUP('(3) Imports'!P42,Ports!$A$2:$A$11,Ports!$E$2:$E$11))","v":""},{"$f":"IF('(3) Imports'!AA42>0,'(3) Imports'!AA42,\"\")","v":""},{"$f":"IF('(3) Imports'!AG42>0,'(3) Imports'!AG42,\"\")","v":""},{"$f":"IF(AND(ISBLANK('(3) Imports'!AL42),ISBLANK('(3) Imports'!AN42),ISBLANK('(3) Imports'!AO42)),\"\",CONCATENATE('(3) Imports'!AL42,'(3) Imports'!AM42,'(3) Imports'!AN42,'(3) Imports'!AO42))","v":""},{"$f":"IF(AND(ISBLANK('(3) Imports'!AP42),ISBLANK('(3) Imports'!AQ42),ISBLANK('(3) Imports'!AS42),ISBLANK('(3) Imports'!AT42)),\"\",CONCATENATE('(3) Imports'!AP42,'(3) Imports'!AQ42,'(3) Imports'!AR42,'(3) Imports'!AS42,'(3) Imports'!AT42))","v":""}]
[{"$f":"IF(AND(D12=\"\",E12=\"\",F12=\"\",G12=\"\",H12=\"\",I12=\"\"),\"\",'(3) Imports'!$J$21)","v":""},{"$f":"IF(AND(D12=\"\",E12=\"\",F12=\"\",G12=\"\",H12=\"\",I12=\"\"),\"\",'(3) Imports'!B43)","v":""},{"$f":"IF(AND(D12=\"\",E12=\"\",F12=\"\",G12=\"\",H12=\"\",I12=\"\"),\"\",'(3) Imports'!O43)","v":""},{"$f":"IF(ISBLANK('(3) Imports'!P43),\"\",LOOKUP('(3) Imports'!P43,Ports!$A$2:$A$11,Ports!$C$2:$C$11))","v":""},{"$f":"IF(ISBLANK('(3) Imports'!P43),\"\",LOOKUP('(3) Imports'!P43,Ports!$A$2:$A$11,Ports!$E$2:$E$11))","v":""},{"$f":"IF('(3) Imports'!AA43>0,'(3) Imports'!AA43,\"\")","v":""},{"$f":"IF('(3) Imports'!AG43>0,'(3) Imports'!AG43,\"\")","v":""},{"$f":"IF(AND(ISBLANK('(3) Imports'!AL43),ISBLANK('(3) Imports'!AN43),ISBLANK('(3) Imports'!AO43)),\"\",CONCATENATE('(3) Imports'!AL43,'(3) Imports'!AM43,'(3) Imports'!AN43,'(3) Imports'!AO43))","v":""},{"$f":"IF(AND(ISBLANK('(3) Imports'!AP43),ISBLANK('(3) Imports'!AQ43),ISBLANK('(3) Imports'!AS43),ISBLANK('(3) Imports'!AT43)),\"\",CONCATENATE('(3) Imports'!AP43,'(3) Imports'!AQ43,'(3) Imports'!AR43,'(3) Imports'!AS43,'(3) Imports'!AT43))","v":""}]
[{"$f":"IF(AND(D13=\"\",E13=\"\",F13=\"\",G13=\"\",H13=\"\",I13=\"\"),\"\",'(3) Imports'!$J$21)","v":""},{"$f":"IF(AND(D13=\"\",E13=\"\",F13=\"\",G13=\"\",H13=\"\",I13=\"\"),\"\",'(3) Imports'!B44)","v":""},{"$f":"IF(AND(D13=\"\",E13=\"\",F13=\"\",G13=\"\",H13=\"\",I13=\"\"),\"\",'(3) Imports'!O44)","v":""},{"$f":"IF(ISBLANK('(3) Imports'!P44),\"\",LOOKUP('(3) Imports'!P44,Ports!$A$2:$A$11,Ports!$C$2:$C$11))","v":""},{"$f":"IF(ISBLANK('(3) Imports'!P44),\"\",LOOKUP('(3) Imports'!P44,Ports!$A$2:$A$11,Ports!$E$2:$E$11))","v":""},{"$f":"IF('(3) Imports'!AA44>0,'(3) Imports'!AA44,\"\")","v":""},{"$f":"IF('(3) Imports'!AG44>0,'(3) Imports'!AG44,\"\")","v":""},{"$f":"IF(AND(ISBLANK('(3) Imports'!AL44),ISBLANK('(3) Imports'!AN44),ISBLANK('(3) Imports'!AO44)),\"\",CONCATENATE('(3) Imports'!AL44,'(3) Imports'!AM44,'(3) Imports'!AN44,'(3) Imports'!AO44))","v":""},{"$f":"IF(AND(ISBLANK('(3) Imports'!AP44),ISBLANK('(3) Imports'!AQ44),ISBLANK('(3) Imports'!AS44),ISBLANK('(3) Imports'!AT44)),\"\",CONCATENATE('(3) Imports'!AP44,'(3) Imports'!AQ44,'(3) Imports'!AR44,'(3) Imports'!AS44,'(3) Imports'!AT44))","v":""}]
[{"$f":"IF(AND(D14=\"\",E14=\"\",F14=\"\",G14=\"\",H14=\"\",I14=\"\"),\"\",'(3) Imports'!$J$21)","v":""},{"$f":"IF(AND(D14=\"\",E14=\"\",F14=\"\",G14=\"\",H14=\"\",I14=\"\"),\"\",'(3) Imports'!B45)","v":""},{"$f":"IF(AND(D14=\"\",E14=\"\",F14=\"\",G14=\"\",H14=\"\",I14=\"\"),\"\",'(3) Imports'!O45)","v":""},{"$f":"IF(ISBLANK('(3) Imports'!P45),\"\",LOOKUP('(3) Imports'!P45,Ports!$A$2:$A$11,Ports!$C$2:$C$11))","v":""},{"$f":"IF(ISBLANK('(3) Imports'!P45),\"\",LOOKUP('(3) Imports'!P45,Ports!$A$2:$A$11,Ports!$E$2:$E$11))","v":""},{"$f":"IF('(3) Imports'!AA45>0,'(3) Imports'!AA45,\"\")","v":""},{"$f":"IF('(3) Imports'!AG45>0,'(3) Imports'!AG45,\"\")","v":""},{"$f":"IF(AND(ISBLANK('(3) Imports'!AL45),ISBLANK('(3) Imports'!AN45),ISBLANK('(3) Imports'!AO45)),\"\",CONCATENATE('(3) Imports'!AL45,'(3) Imports'!AM45,'(3) Imports'!AN45,'(3) Imports'!AO45))","v":""},{"$f":"IF(AND(ISBLANK('(3) Imports'!AP45),ISBLANK('(3) Imports'!AQ45),ISBLANK('(3) Imports'!AS45),ISBLANK('(3) Imports'!AT45)),\"\",CONCATENATE('(3) Imports'!AP45,'(3) Imports'!AQ45,'(3) Imports'!AR45,'(3) Imports'!AS45,'(3) Imports'!AT45))","v":""}]
[{"$f":"IF(AND(D15=\"\",E15=\"\",F15=\"\",G15=\"\",H15=\"\",I15=\"\"),\"\",'(3) Imports'!$J$21)","v":""},{"$f":"IF(AND(D15=\"\",E15=\"\",F15=\"\",G15=\"\",H15=\"\",I15=\"\"),\"\",'(3) Imports'!B46)","v":""},{"$f":"IF(AND(D15=\"\",E15=\"\",F15=\"\",G15=\"\",H15=\"\",I15=\"\"),\"\",'(3) Imports'!O46)","v":""},{"$f":"IF(ISBLANK('(3) Imports'!P46),\"\",LOOKUP('(3) Imports'!P46,Ports!$A$2:$A$11,Ports!$C$2:$C$11))","v":""},{"$f":"IF(ISBLANK('(3) Imports'!P46),\"\",LOOKUP('(3) Imports'!P46,Ports!$A$2:$A$11,Ports!$E$2:$E$11))","v":""},{"$f":"IF('(3) Imports'!AA46>0,'(3) Imports'!AA46,\"\")","v":""},{"$f":"IF('(3) Imports'!AG46>0,'(3) Imports'!AG46,\"\")","v":""},{"$f":"IF(AND(ISBLANK('(3) Imports'!AL46),ISBLANK('(3) Imports'!AN46),ISBLANK('(3) Imports'!AO46)),\"\",CONCATENATE('(3) Imports'!AL46,'(3) Imports'!AM46,'(3) Imports'!AN46,'(3) Imports'!AO46))","v":""},{"$f":"IF(AND(ISBLANK('(3) Imports'!AP46),ISBLANK('(3) Imports'!AQ46),ISBLANK('(3) Imports'!AS46),ISBLANK('(3) Imports'!AT46)),\"\",CONCATENATE('(3) Imports'!AP46,'(3) Imports'!AQ46,'(3) Imports'!AR46,'(3) Imports'!AS46,'(3) Imports'!AT46))","v":""}]
[{"$f":"IF(AND(D16=\"\",E16=\"\",F16=\"\",G16=\"\",H16=\"\",I16=\"\"),\"\",'(3) Imports'!$J$21)","v":""},{"$f":"IF(AND(D16=\"\",E16=\"\",F16=\"\",G16=\"\",H16=\"\",I16=\"\"),\"\",'(3) Imports'!B47)","v":""},{"$f":"IF(AND(D16=\"\",E16=\"\",F16=\"\",G16=\"\",H16=\"\",I16=\"\"),\"\",'(3) Imports'!O47)","v":""},{"$f":"IF(ISBLANK('(3) Imports'!P47),\"\",LOOKUP('(3) Imports'!P47,Ports!$A$2:$A$11,Ports!$C$2:$C$11))","v":""},{"$f":"IF(ISBLANK('(3) Imports'!P47),\"\",LOOKUP('(3) Imports'!P47,Ports!$A$2:$A$11,Ports!$E$2:$E$11))","v":""},{"$f":"IF('(3) Imports'!AA47>0,'(3) Imports'!AA47,\"\")","v":""},{"$f":"IF('(3) Imports'!AG47>0,'(3) Imports'!AG47,\"\")","v":""},{"$f":"IF(AND(ISBLANK('(3) Imports'!AL47),ISBLANK('(3) Imports'!AN47),ISBLANK('(3) Imports'!AO47)),\"\",CONCATENATE('(3) Imports'!AL47,'(3) Imports'!AM47,'(3) Imports'!AN47,'(3) Imports'!AO47))","v":""},{"$f":"IF(AND(ISBLANK('(3) Imports'!AP47),ISBLANK('(3) Imports'!AQ47),ISBLANK('(3) Imports'!AS47),ISBLANK('(3) Imports'!AT47)),\"\",CONCATENATE('(3) Imports'!AP47,'(3) Imports'!AQ47,'(3) Imports'!AR47,'(3) Imports'!AS47,'(3) Imports'!AT47))","v":""}]
[{"$f":"IF(AND(D17=\"\",E17=\"\",F17=\"\",G17=\"\",H17=\"\",I17=\"\"),\"\",'(3) Imports'!$J$21)","v":""},{"$f":"IF(AND(D17=\"\",E17=\"\",F17=\"\",G17=\"\",H17=\"\",I17=\"\"),\"\",'(3) Imports'!B48)","v":""},{"$f":"IF(AND(D17=\"\",E17=\"\",F17=\"\",G17=\"\",H17=\"\",I17=\"\"),\"\",'(3) Imports'!O48)","v":""},{"$f":"IF(ISBLANK('(3) Imports'!P48),\"\",LOOKUP('(3) Imports'!P48,Ports!$A$2:$A$11,Ports!$C$2:$C$11))","v":""},{"$f":"IF(ISBLANK('(3) Imports'!P48),\"\",LOOKUP('(3) Imports'!P48,Ports!$A$2:$A$11,Ports!$E$2:$E$11))","v":""},{"$f":"IF('(3) Imports'!AA48>0,'(3) Imports'!AA48,\"\")","v":""},{"$f":"IF('(3) Imports'!AG48>0,'(3) Imports'!AG48,\"\")","v":""},{"$f":"IF(AND(ISBLANK('(3) Imports'!AL48),ISBLANK('(3) Imports'!AN48),ISBLANK('(3) Imports'!AO48)),\"\",CONCATENATE('(3) Imports'!AL48,'(3) Imports'!AM48,'(3) Imports'!AN48,'(3) Imports'!AO48))","v":""},{"$f":"IF(AND(ISBLANK('(3) Imports'!AP48),ISBLANK('(3) Imports'!AQ48),ISBLANK('(3) Imports'!AS48),ISBLANK('(3) Imports'!AT48)),\"\",CONCATENATE('(3) Imports'!AP48,'(3) Imports'!AQ48,'(3) Imports'!AR48,'(3) Imports'!AS48,'(3) Imports'!AT48))","v":""}]
[{"$f":"IF(AND(D18=\"\",E18=\"\",F18=\"\",G18=\"\",H18=\"\",I18=\"\"),\"\",'(3) Imports'!$J$21)","v":""},{"$f":"IF(AND(D18=\"\",E18=\"\",F18=\"\",G18=\"\",H18=\"\",I18=\"\"),\"\",'(3) Imports'!B49)","v":""},{"$f":"IF(AND(D18=\"\",E18=\"\",F18=\"\",G18=\"\",H18=\"\",I18=\"\"),\"\",'(3) Imports'!O49)","v":""},{"$f":"IF(ISBLANK('(3) Imports'!P49),\"\",LOOKUP('(3) Imports'!P49,Ports!$A$2:$A$11,Ports!$C$2:$C$11))","v":""},{"$f":"IF(ISBLANK('(3) Imports'!P49),\"\",LOOKUP('(3) Imports'!P49,Ports!$A$2:$A$11,Ports!$E$2:$E$11))","v":""},{"$f":"IF('(3) Imports'!AA49>0,'(3) Imports'!AA49,\"\")","v":""},{"$f":"IF('(3) Imports'!AG49>0,'(3) Imports'!AG49,\"\")","v":""},{"$f":"IF(AND(ISBLANK('(3) Imports'!AL49),ISBLANK('(3) Imports'!AN49),ISBLANK('(3) Imports'!AO49)),\"\",CONCATENATE('(3) Imports'!AL49,'(3) Imports'!AM49,'(3) Imports'!AN49,'(3) Imports'!AO49))","v":""},{"$f":"IF(AND(ISBLANK('(3) Imports'!AP49),ISBLANK('(3) Imports'!AQ49),ISBLANK('(3) Imports'!AS49),ISBLANK('(3) Imports'!AT49)),\"\",CONCATENATE('(3) Imports'!AP49,'(3) Imports'!AQ49,'(3) Imports'!AR49,'(3) Imports'!AS49,'(3) Imports'!AT49))","v":""}]
[{"$f":"IF(AND(D19=\"\",E19=\"\",F19=\"\",G19=\"\",H19=\"\",I19=\"\"),\"\",'(3) Imports'!$J$21)","v":""},{"$f":"IF(AND(D19=\"\",E19=\"\",F19=\"\",G19=\"\",H19=\"\",I19=\"\"),\"\",'(3) Imports'!B50)","v":""},{"$f":"IF(AND(D19=\"\",E19=\"\",F19=\"\",G19=\"\",H19=\"\",I19=\"\"),\"\",'(3) Imports'!O50)","v":""},{"$f":"IF(ISBLANK('(3) Imports'!P50),\"\",LOOKUP('(3) Imports'!P50,Ports!$A$2:$A$11,Ports!$C$2:$C$11))","v":""},{"$f":"IF(ISBLANK('(3) Imports'!P50),\"\",LOOKUP('(3) Imports'!P50,Ports!$A$2:$A$11,Ports!$E$2:$E$11))","v":""},{"$f":"IF('(3) Imports'!AA50>0,'(3) Imports'!AA50,\"\")","v":""},{"$f":"IF('(3) Imports'!AG50>0,'(3) Imports'!AG50,\"\")","v":""},{"$f":"IF(AND(ISBLANK('(3) Imports'!AL50),ISBLANK('(3) Imports'!AN50),ISBLANK('(3) Imports'!AO50)),\"\",CONCATENATE('(3) Imports'!AL50,'(3) Imports'!AM50,'(3) Imports'!AN50,'(3) Imports'!AO50))","v":""},{"$f":"IF(AND(ISBLANK('(3) Imports'!AP50),ISBLANK('(3) Imports'!AQ50),ISBLANK('(3) Imports'!AS50),ISBLANK('(3) Imports'!AT50)),\"\",CONCATENATE('(3) Imports'!AP50,'(3) Imports'!AQ50,'(3) Imports'!AR50,'(3) Imports'!AS50,'(3) Imports'!AT50))","v":""}]
[{"$f":"IF(AND(D20=\"\",E20=\"\",F20=\"\",G20=\"\",H20=\"\",I20=\"\"),\"\",'(3) Imports'!$J$21)","v":""},{"$f":"IF(AND(D20=\"\",E20=\"\",F20=\"\",G20=\"\",H20=\"\",I20=\"\"),\"\",'(3) Imports'!B51)","v":""},{"$f":"IF(AND(D20=\"\",E20=\"\",F20=\"\",G20=\"\",H20=\"\",I20=\"\"),\"\",'(3) Imports'!O51)","v":""},{"$f":"IF(ISBLANK('(3) Imports'!P51),\"\",LOOKUP('(3) Imports'!P51,Ports!$A$2:$A$11,Ports!$C$2:$C$11))","v":""},{"$f":"IF(ISBLANK('(3) Imports'!P51),\"\",LOOKUP('(3) Imports'!P51,Ports!$A$2:$A$11,Ports!$E$2:$E$11))","v":""},{"$f":"IF('(3) Imports'!AA51>0,'(3) Imports'!AA51,\"\")","v":""},{"$f":"IF('(3) Imports'!AG51>0,'(3) Imports'!AG51,\"\")","v":""},{"$f":"IF(AND(ISBLANK('(3) Imports'!AL51),ISBLANK('(3) Imports'!AN51),ISBLANK('(3) Imports'!AO51)),\"\",CONCATENATE('(3) Imports'!AL51,'(3) Imports'!AM51,'(3) Imports'!AN51,'(3) Imports'!AO51))","v":""},{"$f":"IF(AND(ISBLANK('(3) Imports'!AP51),ISBLANK('(3) Imports'!AQ51),ISBLANK('(3) Imports'!AS51),ISBLANK('(3) Imports'!AT51)),\"\",CONCATENATE('(3) Imports'!AP51,'(3) Imports'!AQ51,'(3) Imports'!AR51,'(3) Imports'!AS51,'(3) Imports'!AT51))","v":""}]
[{"$f":"IF(AND(D21=\"\",E21=\"\",F21=\"\",G21=\"\",H21=\"\",I21=\"\"),\"\",'(3) Imports'!$J$21)","v":""},{"$f":"IF(AND(D21=\"\",E21=\"\",F21=\"\",G21=\"\",H21=\"\",I21=\"\"),\"\",'(3) Imports'!B52)","v":""},{"$f":"IF(AND(D21=\"\",E21=\"\",F21=\"\",G21=\"\",H21=\"\",I21=\"\"),\"\",'(3) Imports'!O52)","v":""},{"$f":"IF(ISBLANK('(3) Imports'!P52),\"\",LOOKUP('(3) Imports'!P52,Ports!$A$2:$A$11,Ports!$C$2:$C$11))","v":""},{"$f":"IF(ISBLANK('(3) Imports'!P52),\"\",LOOKUP('(3) Imports'!P52,Ports!$A$2:$A$11,Ports!$E$2:$E$11))","v":""},{"$f":"IF('(3) Imports'!AA52>0,'(3) Imports'!AA52,\"\")","v":""},{"$f":"IF('(3) Imports'!AG52>0,'(3) Imports'!AG52,\"\")","v":""},{"$f":"IF(AND(ISBLANK('(3) Imports'!AL52),ISBLANK('(3) Imports'!AN52),ISBLANK('(3) Imports'!AO52)),\"\",CONCATENATE('(3) Imports'!AL52,'(3) Imports'!AM52,'(3) Imports'!AN52,'(3) Imports'!AO52))","v":""},{"$f":"IF(AND(ISBLANK('(3) Imports'!AP52),ISBLANK('(3) Imports'!AQ52),ISBLANK('(3) Imports'!AS52),ISBLANK('(3) Imports'!AT52)),\"\",CONCATENATE('(3) Imports'!AP52,'(3) Imports'!AQ52,'(3) Imports'!AR52,'(3) Imports'!AS52,'(3) Imports'!AT52))","v":""}]
[{"$f":"IF(AND(D22=\"\",E22=\"\",F22=\"\",G22=\"\",H22=\"\",I22=\"\"),\"\",'(3) Imports'!$J$21)","v":""},{"$f":"IF(AND(D22=\"\",E22=\"\",F22=\"\",G22=\"\",H22=\"\",I22=\"\"),\"\",'(3) Imports'!B53)","v":""},{"$f":"IF(AND(D22=\"\",E22=\"\",F22=\"\",G22=\"\",H22=\"\",I22=\"\"),\"\",'(3) Imports'!O53)","v":""},{"$f":"IF(ISBLANK('(3) Imports'!P53),\"\",LOOKUP('(3) Imports'!P53,Ports!$A$2:$A$11,Ports!$C$2:$C$11))","v":""},{"$f":"IF(ISBLANK('(3) Imports'!P53),\"\",LOOKUP('(3) Imports'!P53,Ports!$A$2:$A$11,Ports!$E$2:$E$11))","v":""},{"$f":"IF('(3) Imports'!AA53>0,'(3) Imports'!AA53,\"\")","v":""},{"$f":"IF('(3) Imports'!AG53>0,'(3) Imports'!AG53,\"\")","v":""},{"$f":"IF(AND(ISBLANK('(3) Imports'!AL53),ISBLANK('(3) Imports'!AN53),ISBLANK('(3) Imports'!AO53)),\"\",CONCATENATE('(3) Imports'!AL53,'(3) Imports'!AM53,'(3) Imports'!AN53,'(3) Imports'!AO53))","v":""},{"$f":"IF(AND(ISBLANK('(3) Imports'!AP53),ISBLANK('(3) Imports'!AQ53),ISBLANK('(3) Imports'!AS53),ISBLANK('(3) Imports'!AT53)),\"\",CONCATENATE('(3) Imports'!AP53,'(3) Imports'!AQ53,'(3) Imports'!AR53,'(3) Imports'!AS53,'(3) Imports'!AT53))","v":""}]
[{"$f":"IF(AND(D23=\"\",E23=\"\",F23=\"\",G23=\"\",H23=\"\",I23=\"\"),\"\",'(3) Imports'!$J$21)","v":""},{"$f":"IF(AND(D23=\"\",E23=\"\",F23=\"\",G23=\"\",H23=\"\",I23=\"\"),\"\",'(3) Imports'!B54)","v":""},{"$f":"IF(AND(D23=\"\",E23=\"\",F23=\"\",G23=\"\",H23=\"\",I23=\"\"),\"\",'(3) Imports'!O54)","v":""},{"$f":"IF(ISBLANK('(3) Imports'!P54),\"\",LOOKUP('(3) Imports'!P54,Ports!$A$2:$A$11,Ports!$C$2:$C$11))","v":""},{"$f":"IF(ISBLANK('(3) Imports'!P54),\"\",LOOKUP('(3) Imports'!P54,Ports!$A$2:$A$11,Ports!$E$2:$E$11))","v":""},{"$f":"IF('(3) Imports'!AA54>0,'(3) Imports'!AA54,\"\")","v":""},{"$f":"IF('(3) Imports'!AG54>0,'(3) Imports'!AG54,\"\")","v":""},{"$f":"IF(AND(ISBLANK('(3) Imports'!AL54),ISBLANK('(3) Imports'!AN54),ISBLANK('(3) Imports'!AO54)),\"\",CONCATENATE('(3) Imports'!AL54,'(3) Imports'!AM54,'(3) Imports'!AN54,'(3) Imports'!AO54))","v":""},{"$f":"IF(AND(ISBLANK('(3) Imports'!AP54),ISBLANK('(3) Imports'!AQ54),ISBLANK('(3) Imports'!AS54),ISBLANK('(3) Imports'!AT54)),\"\",CONCATENATE('(3) Imports'!AP54,'(3) Imports'!AQ54,'(3) Imports'!AR54,'(3) Imports'!AS54,'(3) Imports'!AT54))","v":""}]
[{"$f":"IF(AND(D24=\"\",E24=\"\",F24=\"\",G24=\"\",H24=\"\",I24=\"\"),\"\",'(3) Imports'!$J$21)","v":""},{"$f":"IF(AND(D24=\"\",E24=\"\",F24=\"\",G24=\"\",H24=\"\",I24=\"\"),\"\",'(3) Imports'!B55)","v":""},{"$f":"IF(AND(D24=\"\",E24=\"\",F24=\"\",G24=\"\",H24=\"\",I24=\"\"),\"\",'(3) Imports'!O55)","v":""},{"$f":"IF(ISBLANK('(3) Imports'!P55),\"\",LOOKUP('(3) Imports'!P55,Ports!$A$2:$A$11,Ports!$C$2:$C$11))","v":""},{"$f":"IF(ISBLANK('(3) Imports'!P55),\"\",LOOKUP('(3) Imports'!P55,Ports!$A$2:$A$11,Ports!$E$2:$E$11))","v":""},{"$f":"IF('(3) Imports'!AA55>0,'(3) Imports'!AA55,\"\")","v":""},{"$f":"IF('(3) Imports'!AG55>0,'(3) Imports'!AG55,\"\")","v":""},{"$f":"IF(AND(ISBLANK('(3) Imports'!AL55),ISBLANK('(3) Imports'!AN55),ISBLANK('(3) Imports'!AO55)),\"\",CONCATENATE('(3) Imports'!AL55,'(3) Imports'!AM55,'(3) Imports'!AN55,'(3) Imports'!AO55))","v":""},{"$f":"IF(AND(ISBLANK('(3) Imports'!AP55),ISBLANK('(3) Imports'!AQ55),ISBLANK('(3) Imports'!AS55),ISBLANK('(3) Imports'!AT55)),\"\",CONCATENATE('(3) Imports'!AP55,'(3) Imports'!AQ55,'(3) Imports'!AR55,'(3) Imports'!AS55,'(3) Imports'!AT55))","v":""}]
[{"$f":"IF(AND(D25=\"\",E25=\"\",F25=\"\",G25=\"\",H25=\"\",I25=\"\"),\"\",'(3) Imports'!$J$21)","v":""},{"$f":"IF(AND(D25=\"\",E25=\"\",F25=\"\",G25=\"\",H25=\"\",I25=\"\"),\"\",'(3) Imports'!B56)","v":""},{"$f":"IF(AND(D25=\"\",E25=\"\",F25=\"\",G25=\"\",H25=\"\",I25=\"\"),\"\",'(3) Imports'!O56)","v":""},{"$f":"IF(ISBLANK('(3) Imports'!P56),\"\",LOOKUP('(3) Imports'!P56,Ports!$A$2:$A$11,Ports!$C$2:$C$11))","v":""},{"$f":"IF(ISBLANK('(3) Imports'!P56),\"\",LOOKUP('(3) Imports'!P56,Ports!$A$2:$A$11,Ports!$E$2:$E$11))","v":""},{"$f":"IF('(3) Imports'!AA56>0,'(3) Imports'!AA56,\"\")","v":""},{"$f":"IF('(3) Imports'!AG56>0,'(3) Imports'!AG56,\"\")","v":""},{"$f":"IF(AND(ISBLANK('(3) Imports'!AL56),ISBLANK('(3) Imports'!AN56),ISBLANK('(3) Imports'!AO56)),\"\",CONCATENATE('(3) Imports'!AL56,'(3) Imports'!AM56,'(3) Imports'!AN56,'(3) Imports'!AO56))","v":""},{"$f":"IF(AND(ISBLANK('(3) Imports'!AP56),ISBLANK('(3) Imports'!AQ56),ISBLANK('(3) Imports'!AS56),ISBLANK('(3) Imports'!AT56)),\"\",CONCATENATE('(3) Imports'!AP56,'(3) Imports'!AQ56,'(3) Imports'!AR56,'(3) Imports'!AS56,'(3) Imports'!AT56))","v":""}]
[{"$f":"IF(AND(D26=\"\",E26=\"\",F26=\"\",G26=\"\",H26=\"\",I26=\"\"),\"\",'(3) Imports'!$J$21)","v":""},{"$f":"IF(AND(D26=\"\",E26=\"\",F26=\"\",G26=\"\",H26=\"\",I26=\"\"),\"\",'(3) Imports'!B57)","v":""},{"$f":"IF(AND(D26=\"\",E26=\"\",F26=\"\",G26=\"\",H26=\"\",I26=\"\"),\"\",'(3) Imports'!O57)","v":""},{"$f":"IF(ISBLANK('(3) Imports'!P57),\"\",LOOKUP('(3) Imports'!P57,Ports!$A$2:$A$11,Ports!$C$2:$C$11))","v":""},{"$f":"IF(ISBLANK('(3) Imports'!P57),\"\",LOOKUP('(3) Imports'!P57,Ports!$A$2:$A$11,Ports!$E$2:$E$11))","v":""},{"$f":"IF('(3) Imports'!AA57>0,'(3) Imports'!AA57,\"\")","v":""},{"$f":"IF('(3) Imports'!AG57>0,'(3) Imports'!AG57,\"\")","v":""},{"$f":"IF(AND(ISBLANK('(3) Imports'!AL57),ISBLANK('(3) Imports'!AN57),ISBLANK('(3) Imports'!AO57)),\"\",CONCATENATE('(3) Imports'!AL57,'(3) Imports'!AM57,'(3) Imports'!AN57,'(3) Imports'!AO57))","v":""},{"$f":"IF(AND(ISBLANK('(3) Imports'!AP57),ISBLANK('(3) Imports'!AQ57),ISBLANK('(3) Imports'!AS57),ISBLANK('(3) Imports'!AT57)),\"\",CONCATENATE('(3) Imports'!AP57,'(3) Imports'!AQ57,'(3) Imports'!AR57,'(3) Imports'!AS57,'(3) Imports'!AT57))","v":""}]
[{"$f":"IF(AND(D27=\"\",E27=\"\",F27=\"\",G27=\"\",H27=\"\",I27=\"\"),\"\",'(3) Imports'!$J$21)","v":""},{"$f":"IF(AND(D27=\"\",E27=\"\",F27=\"\",G27=\"\",H27=\"\",I27=\"\"),\"\",'(3) Imports'!B58)","v":""},{"$f":"IF(AND(D27=\"\",E27=\"\",F27=\"\",G27=\"\",H27=\"\",I27=\"\"),\"\",'(3) Imports'!O58)","v":""},{"$f":"IF(ISBLANK('(3) Imports'!P58),\"\",LOOKUP('(3) Imports'!P58,Ports!$A$2:$A$11,Ports!$C$2:$C$11))","v":""},{"$f":"IF(ISBLANK('(3) Imports'!P58),\"\",LOOKUP('(3) Imports'!P58,Ports!$A$2:$A$11,Ports!$E$2:$E$11))","v":""},{"$f":"IF('(3) Imports'!AA58>0,'(3) Imports'!AA58,\"\")","v":""},{"$f":"IF('(3) Imports'!AG58>0,'(3) Imports'!AG58,\"\")","v":""},{"$f":"IF(AND(ISBLANK('(3) Imports'!AL58),ISBLANK('(3) Imports'!AN58),ISBLANK('(3) Imports'!AO58)),\"\",CONCATENATE('(3) Imports'!AL58,'(3) Imports'!AM58,'(3) Imports'!AN58,'(3) Imports'!AO58))","v":""},{"$f":"IF(AND(ISBLANK('(3) Imports'!AP58),ISBLANK('(3) Imports'!AQ58),ISBLANK('(3) Imports'!AS58),ISBLANK('(3) Imports'!AT58)),\"\",CONCATENATE('(3) Imports'!AP58,'(3) Imports'!AQ58,'(3) Imports'!AR58,'(3) Imports'!AS58,'(3) Imports'!AT58))","v":""}]
[{"$f":"IF(AND(D28=\"\",E28=\"\",F28=\"\",G28=\"\",H28=\"\",I28=\"\"),\"\",'(3) Imports'!$J$21)","v":""},{"$f":"IF(AND(D28=\"\",E28=\"\",F28=\"\",G28=\"\",H28=\"\",I28=\"\"),\"\",'(3) Imports'!B59)","v":""},{"$f":"IF(AND(D28=\"\",E28=\"\",F28=\"\",G28=\"\",H28=\"\",I28=\"\"),\"\",'(3) Imports'!O59)","v":""},{"$f":"IF(ISBLANK('(3) Imports'!P59),\"\",LOOKUP('(3) Imports'!P59,Ports!$A$2:$A$11,Ports!$C$2:$C$11))","v":""},{"$f":"IF(ISBLANK('(3) Imports'!P59),\"\",LOOKUP('(3) Imports'!P59,Ports!$A$2:$A$11,Ports!$E$2:$E$11))","v":""},{"$f":"IF('(3) Imports'!AA59>0,'(3) Imports'!AA59,\"\")","v":""},{"$f":"IF('(3) Imports'!AG59>0,'(3) Imports'!AG59,\"\")","v":""},{"$f":"IF(AND(ISBLANK('(3) Imports'!AL59),ISBLANK('(3) Imports'!AN59),ISBLANK('(3) Imports'!AO59)),\"\",CONCATENATE('(3) Imports'!AL59,'(3) Imports'!AM59,'(3) Imports'!AN59,'(3) Imports'!AO59))","v":""},{"$f":"IF(AND(ISBLANK('(3) Imports'!AP59),ISBLANK('(3) Imports'!AQ59),ISBLANK('(3) Imports'!AS59),ISBLANK('(3) Imports'!AT59)),\"\",CONCATENATE('(3) Imports'!AP59,'(3) Imports'!AQ59,'(3) Imports'!AR59,'(3) Imports'!AS59,'(3) Imports'!AT59))","v":""}]
[{"$f":"IF(AND(D29=\"\",E29=\"\",F29=\"\",G29=\"\",H29=\"\",I29=\"\"),\"\",'(3) Imports'!$J$21)","v":""},{"$f":"IF(AND(D29=\"\",E29=\"\",F29=\"\",G29=\"\",H29=\"\",I29=\"\"),\"\",'(3) Imports'!B60)","v":""},{"$f":"IF(AND(D29=\"\",E29=\"\",F29=\"\",G29=\"\",H29=\"\",I29=\"\"),\"\",'(3) Imports'!O60)","v":""},{"$f":"IF(ISBLANK('(3) Imports'!P60),\"\",LOOKUP('(3) Imports'!P60,Ports!$A$2:$A$11,Ports!$C$2:$C$11))","v":""},{"$f":"IF(ISBLANK('(3) Imports'!P60),\"\",LOOKUP('(3) Imports'!P60,Ports!$A$2:$A$11,Ports!$E$2:$E$11))","v":""},{"$f":"IF('(3) Imports'!AA60>0,'(3) Imports'!AA60,\"\")","v":""},{"$f":"IF('(3) Imports'!AG60>0,'(3) Imports'!AG60,\"\")","v":""},{"$f":"IF(AND(ISBLANK('(3) Imports'!AL60),ISBLANK('(3) Imports'!AN60),ISBLANK('(3) Imports'!AO60)),\"\",CONCATENATE('(3) Imports'!AL60,'(3) Imports'!AM60,'(3) Imports'!AN60,'(3) Imports'!AO60))","v":""},{"$f":"IF(AND(ISBLANK('(3) Imports'!AP60),ISBLANK('(3) Imports'!AQ60),ISBLANK('(3) Imports'!AS60),ISBLANK('(3) Imports'!AT60)),\"\",CONCATENATE('(3) Imports'!AP60,'(3) Imports'!AQ60,'(3) Imports'!AR60,'(3) Imports'!AS60,'(3) Imports'!AT60))","v":""}]
[{"$f":"IF(AND(D30=\"\",E30=\"\",F30=\"\",G30=\"\",H30=\"\",I30=\"\"),\"\",'(3) Imports'!$J$21)","v":""},{"$f":"IF(AND(D30=\"\",E30=\"\",F30=\"\",G30=\"\",H30=\"\",I30=\"\"),\"\",'(3) Imports'!B61)","v":""},{"$f":"IF(AND(D30=\"\",E30=\"\",F30=\"\",G30=\"\",H30=\"\",I30=\"\"),\"\",'(3) Imports'!O61)","v":""},{"$f":"IF(ISBLANK('(3) Imports'!P61),\"\",LOOKUP('(3) Imports'!P61,Ports!$A$2:$A$11,Ports!$C$2:$C$11))","v":""},{"$f":"IF(ISBLANK('(3) Imports'!P61),\"\",LOOKUP('(3) Imports'!P61,Ports!$A$2:$A$11,Ports!$E$2:$E$11))","v":""},{"$f":"IF('(3) Imports'!AA61>0,'(3) Imports'!AA61,\"\")","v":""},{"$f":"IF('(3) Imports'!AG61>0,'(3) Imports'!AG61,\"\")","v":""},{"$f":"IF(AND(ISBLANK('(3) Imports'!AL61),ISBLANK('(3) Imports'!AN61),ISBLANK('(3) Imports'!AO61)),\"\",CONCATENATE('(3) Imports'!AL61,'(3) Imports'!AM61,'(3) Imports'!AN61,'(3) Imports'!AO61))","v":""},{"$f":"IF(AND(ISBLANK('(3) Imports'!AP61),ISBLANK('(3) Imports'!AQ61),ISBLANK('(3) Imports'!AS61),ISBLANK('(3) Imports'!AT61)),\"\",CONCATENATE('(3) Imports'!AP61,'(3) Imports'!AQ61,'(3) Imports'!AR61,'(3) Imports'!AS61,'(3) Imports'!AT61))","v":""}]
[{"$f":"IF(AND(D31=\"\",E31=\"\",F31=\"\",G31=\"\",H31=\"\",I31=\"\"),\"\",'(3) Imports'!$J$21)","v":""},{"$f":"IF(AND(D31=\"\",E31=\"\",F31=\"\",G31=\"\",H31=\"\",I31=\"\"),\"\",'(3) Imports'!B62)","v":""},{"$f":"IF(AND(D31=\"\",E31=\"\",F31=\"\",G31=\"\",H31=\"\",I31=\"\"),\"\",'(3) Imports'!O62)","v":""},{"$f":"IF(ISBLANK('(3) Imports'!P62),\"\",LOOKUP('(3) Imports'!P62,Ports!$A$2:$A$11,Ports!$C$2:$C$11))","v":""},{"$f":"IF(ISBLANK('(3) Imports'!P62),\"\",LOOKUP('(3) Imports'!P62,Ports!$A$2:$A$11,Ports!$E$2:$E$11))","v":""},{"$f":"IF('(3) Imports'!AA62>0,'(3) Imports'!AA62,\"\")","v":""},{"$f":"IF('(3) Imports'!AG62>0,'(3) Imports'!AG62,\"\")","v":""},{"$f":"IF(AND(ISBLANK('(3) Imports'!AL62),ISBLANK('(3) Imports'!AN62),ISBLANK('(3) Imports'!AO62)),\"\",CONCATENATE('(3) Imports'!AL62,'(3) Imports'!AM62,'(3) Imports'!AN62,'(3) Imports'!AO62))","v":""},{"$f":"IF(AND(ISBLANK('(3) Imports'!AP62),ISBLANK('(3) Imports'!AQ62),ISBLANK('(3) Imports'!AS62),ISBLANK('(3) Imports'!AT62)),\"\",CONCATENATE('(3) Imports'!AP62,'(3) Imports'!AQ62,'(3) Imports'!AR62,'(3) Imports'!AS62,'(3) Imports'!AT62))","v":""}]
[{"$f":"IF(AND(D32=\"\",E32=\"\",F32=\"\",G32=\"\",H32=\"\",I32=\"\"),\"\",'(3) Imports'!$J$21)","v":""},{"$f":"IF(AND(D32=\"\",E32=\"\",F32=\"\",G32=\"\",H32=\"\",I32=\"\"),\"\",'(3) Imports'!B63)","v":""},{"$f":"IF(AND(D32=\"\",E32=\"\",F32=\"\",G32=\"\",H32=\"\",I32=\"\"),\"\",'(3) Imports'!O63)","v":""},{"$f":"IF(ISBLANK('(3) Imports'!P63),\"\",LOOKUP('(3) Imports'!P63,Ports!$A$2:$A$11,Ports!$C$2:$C$11))","v":""},{"$f":"IF(ISBLANK('(3) Imports'!P63),\"\",LOOKUP('(3) Imports'!P63,Ports!$A$2:$A$11,Ports!$E$2:$E$11))","v":""},{"$f":"IF('(3) Imports'!AA63>0,'(3) Imports'!AA63,\"\")","v":""},{"$f":"IF('(3) Imports'!AG63>0,'(3) Imports'!AG63,\"\")","v":""},{"$f":"IF(AND(ISBLANK('(3) Imports'!AL63),ISBLANK('(3) Imports'!AN63),ISBLANK('(3) Imports'!AO63)),\"\",CONCATENATE('(3) Imports'!AL63,'(3) Imports'!AM63,'(3) Imports'!AN63,'(3) Imports'!AO63))","v":""},{"$f":"IF(AND(ISBLANK('(3) Imports'!AP63),ISBLANK('(3) Imports'!AQ63),ISBLANK('(3) Imports'!AS63),ISBLANK('(3) Imports'!AT63)),\"\",CONCATENATE('(3) Imports'!AP63,'(3) Imports'!AQ63,'(3) Imports'!AR63,'(3) Imports'!AS63,'(3) Imports'!AT63))","v":""}]
[{"$f":"IF(AND(D33=\"\",E33=\"\",F33=\"\",G33=\"\",H33=\"\",I33=\"\"),\"\",'(3) Imports'!$J$21)","v":""},{"$f":"IF(AND(D33=\"\",E33=\"\",F33=\"\",G33=\"\",H33=\"\",I33=\"\"),\"\",'(3) Imports'!B64)","v":""},{"$f":"IF(AND(D33=\"\",E33=\"\",F33=\"\",G33=\"\",H33=\"\",I33=\"\"),\"\",'(3) Imports'!O64)","v":""},{"$f":"IF(ISBLANK('(3) Imports'!P64),\"\",LOOKUP('(3) Imports'!P64,Ports!$A$2:$A$11,Ports!$C$2:$C$11))","v":""},{"$f":"IF(ISBLANK('(3) Imports'!P64),\"\",LOOKUP('(3) Imports'!P64,Ports!$A$2:$A$11,Ports!$E$2:$E$11))","v":""},{"$f":"IF('(3) Imports'!AA64>0,'(3) Imports'!AA64,\"\")","v":""},{"$f":"IF('(3) Imports'!AG64>0,'(3) Imports'!AG64,\"\")","v":""},{"$f":"IF(AND(ISBLANK('(3) Imports'!AL64),ISBLANK('(3) Imports'!AN64),ISBLANK('(3) Imports'!AO64)),\"\",CONCATENATE('(3) Imports'!AL64,'(3) Imports'!AM64,'(3) Imports'!AN64,'(3) Imports'!AO64))","v":""},{"$f":"IF(AND(ISBLANK('(3) Imports'!AP64),ISBLANK('(3) Imports'!AQ64),ISBLANK('(3) Imports'!AS64),ISBLANK('(3) Imports'!AT64)),\"\",CONCATENATE('(3) Imports'!AP64,'(3) Imports'!AQ64,'(3) Imports'!AR64,'(3) Imports'!AS64,'(3) Imports'!AT64))","v":""}]
[{"$f":"IF(AND(D34=\"\",E34=\"\",F34=\"\",G34=\"\",H34=\"\",I34=\"\"),\"\",'(3) Imports'!$J$21)","v":""},{"$f":"IF(AND(D34=\"\",E34=\"\",F34=\"\",G34=\"\",H34=\"\",I34=\"\"),\"\",'(3) Imports'!B65)","v":""},{"$f":"IF(AND(D34=\"\",E34=\"\",F34=\"\",G34=\"\",H34=\"\",I34=\"\"),\"\",'(3) Imports'!O65)","v":""},{"$f":"IF(ISBLANK('(3) Imports'!P65),\"\",LOOKUP('(3) Imports'!P65,Ports!$A$2:$A$11,Ports!$C$2:$C$11))","v":""},{"$f":"IF(ISBLANK('(3) Imports'!P65),\"\",LOOKUP('(3) Imports'!P65,Ports!$A$2:$A$11,Ports!$E$2:$E$11))","v":""},{"$f":"IF('(3) Imports'!AA65>0,'(3) Imports'!AA65,\"\")","v":""},{"$f":"IF('(3) Imports'!AG65>0,'(3) Imports'!AG65,\"\")","v":""},{"$f":"IF(AND(ISBLANK('(3) Imports'!AL65),ISBLANK('(3) Imports'!AN65),ISBLANK('(3) Imports'!AO65)),\"\",CONCATENATE('(3) Imports'!AL65,'(3) Imports'!AM65,'(3) Imports'!AN65,'(3) Imports'!AO65))","v":""},{"$f":"IF(AND(ISBLANK('(3) Imports'!AP65),ISBLANK('(3) Imports'!AQ65),ISBLANK('(3) Imports'!AS65),ISBLANK('(3) Imports'!AT65)),\"\",CONCATENATE('(3) Imports'!AP65,'(3) Imports'!AQ65,'(3) Imports'!AR65,'(3) Imports'!AS65,'(3) Imports'!AT65))","v":""}]
[{"$f":"IF(AND(D35=\"\",E35=\"\",F35=\"\",G35=\"\",H35=\"\",I35=\"\"),\"\",'(3) Imports'!$J$21)","v":""},{"$f":"IF(AND(D35=\"\",E35=\"\",F35=\"\",G35=\"\",H35=\"\",I35=\"\"),\"\",'(3) Imports'!B66)","v":""},{"$f":"IF(AND(D35=\"\",E35=\"\",F35=\"\",G35=\"\",H35=\"\",I35=\"\"),\"\",'(3) Imports'!O66)","v":""},{"$f":"IF(ISBLANK('(3) Imports'!P66),\"\",LOOKUP('(3) Imports'!P66,Ports!$A$2:$A$11,Ports!$C$2:$C$11))","v":""},{"$f":"IF(ISBLANK('(3) Imports'!P66),\"\",LOOKUP('(3) Imports'!P66,Ports!$A$2:$A$11,Ports!$E$2:$E$11))","v":""},{"$f":"IF('(3) Imports'!AA66>0,'(3) Imports'!AA66,\"\")","v":""},{"$f":"IF('(3) Imports'!AG66>0,'(3) Imports'!AG66,\"\")","v":""},{"$f":"IF(AND(ISBLANK('(3) Imports'!AL66),ISBLANK('(3) Imports'!AN66),ISBLANK('(3) Imports'!AO66)),\"\",CONCATENATE('(3) Imports'!AL66,'(3) Imports'!AM66,'(3) Imports'!AN66,'(3) Imports'!AO66))","v":""},{"$f":"IF(AND(ISBLANK('(3) Imports'!AP66),ISBLANK('(3) Imports'!AQ66),ISBLANK('(3) Imports'!AS66),ISBLANK('(3) Imports'!AT66)),\"\",CONCATENATE('(3) Imports'!AP66,'(3) Imports'!AQ66,'(3) Imports'!AR66,'(3) Imports'!AS66,'(3) Imports'!AT66))","v":""}]
[{"$f":"IF(AND(D36=\"\",E36=\"\",F36=\"\",G36=\"\",H36=\"\",I36=\"\"),\"\",'(3) Imports'!$J$21)","v":""},{"$f":"IF(AND(D36=\"\",E36=\"\",F36=\"\",G36=\"\",H36=\"\",I36=\"\"),\"\",'(3) Imports'!B68)","v":""},{"$f":"IF(AND(D36=\"\",E36=\"\",F36=\"\",G36=\"\",H36=\"\",I36=\"\"),\"\",'(3) Imports'!O68)","v":""},{"$f":"IF(ISBLANK('(3) Imports'!P68),\"\",LOOKUP('(3) Imports'!P68,Ports!$A$2:$A$11,Ports!$C$2:$C$11))","v":""},{"$f":"IF(ISBLANK('(3) Imports'!P68),\"\",LOOKUP('(3) Imports'!P68,Ports!$A$2:$A$11,Ports!$E$2:$E$11))","v":""},{"$f":"IF('(3) Imports'!AA68>0,'(3) Imports'!AA68,\"\")","v":""},{"$f":"IF('(3) Imports'!AG68>0,'(3) Imports'!AG68,\"\")","v":""},{"$f":"IF(AND(ISBLANK('(3) Imports'!AL68),ISBLANK('(3) Imports'!AN68),ISBLANK('(3) Imports'!AO68)),\"\",CONCATENATE('(3) Imports'!AL68,'(3) Imports'!AM68,'(3) Imports'!AN68,'(3) Imports'!AO68))","v":""},{"$f":"IF(AND(ISBLANK('(3) Imports'!AP68),ISBLANK('(3) Imports'!AQ68),ISBLANK('(3) Imports'!AS68),ISBLANK('(3) Imports'!AT68)),\"\",CONCATENATE('(3) Imports'!AP68,'(3) Imports'!AQ68,'(3) Imports'!AR68,'(3) Imports'!AS68,'(3) Imports'!AT68))","v":""}]
[{"$f":"IF(AND(D37=\"\",E37=\"\",F37=\"\",G37=\"\",H37=\"\",I37=\"\"),\"\",'(3) Imports'!$J$21)","v":""},{"$f":"IF(AND(D37=\"\",E37=\"\",F37=\"\",G37=\"\",H37=\"\",I37=\"\"),\"\",'(3) Imports'!B69)","v":""},{"$f":"IF(AND(D37=\"\",E37=\"\",F37=\"\",G37=\"\",H37=\"\",I37=\"\"),\"\",'(3) Imports'!O69)","v":""},{"$f":"IF(ISBLANK('(3) Imports'!P69),\"\",LOOKUP('(3) Imports'!P69,Ports!$A$2:$A$11,Ports!$C$2:$C$11))","v":""},{"$f":"IF(ISBLANK('(3) Imports'!P69),\"\",LOOKUP('(3) Imports'!P69,Ports!$A$2:$A$11,Ports!$E$2:$E$11))","v":""},{"$f":"IF('(3) Imports'!AA69>0,'(3) Imports'!AA69,\"\")","v":""},{"$f":"IF('(3) Imports'!AG69>0,'(3) Imports'!AG69,\"\")","v":""},{"$f":"IF(AND(ISBLANK('(3) Imports'!AL69),ISBLANK('(3) Imports'!AN69),ISBLANK('(3) Imports'!AO69)),\"\",CONCATENATE('(3) Imports'!AL69,'(3) Imports'!AM69,'(3) Imports'!AN69,'(3) Imports'!AO69))","v":""},{"$f":"IF(AND(ISBLANK('(3) Imports'!AP69),ISBLANK('(3) Imports'!AQ69),ISBLANK('(3) Imports'!AS69),ISBLANK('(3) Imports'!AT69)),\"\",CONCATENATE('(3) Imports'!AP69,'(3) Imports'!AQ69,'(3) Imports'!AR69,'(3) Imports'!AS69,'(3) Imports'!AT69))","v":""}]
[{"$f":"IF(AND(D38=\"\",E38=\"\",F38=\"\",G38=\"\",H38=\"\",I38=\"\"),\"\",'(3) Imports'!$J$21)","v":""},{"$f":"IF(AND(D38=\"\",E38=\"\",F38=\"\",G38=\"\",H38=\"\",I38=\"\"),\"\",'(3) Imports'!B70)","v":""},{"$f":"IF(AND(D38=\"\",E38=\"\",F38=\"\",G38=\"\",H38=\"\",I38=\"\"),\"\",'(3) Imports'!O70)","v":""},{"$f":"IF(ISBLANK('(3) Imports'!P70),\"\",LOOKUP('(3) Imports'!P70,Ports!$A$2:$A$11,Ports!$C$2:$C$11))","v":""},{"$f":"IF(ISBLANK('(3) Imports'!P70),\"\",LOOKUP('(3) Imports'!P70,Ports!$A$2:$A$11,Ports!$E$2:$E$11))","v":""},{"$f":"IF('(3) Imports'!AA70>0,'(3) Imports'!AA70,\"\")","v":""},{"$f":"IF('(3) Imports'!AG70>0,'(3) Imports'!AG70,\"\")","v":""},{"$f":"IF(AND(ISBLANK('(3) Imports'!AL70),ISBLANK('(3) Imports'!AN70),ISBLANK('(3) Imports'!AO70)),\"\",CONCATENATE('(3) Imports'!AL70,'(3) Imports'!AM70,'(3) Imports'!AN70,'(3) Imports'!AO70))","v":""},{"$f":"IF(AND(ISBLANK('(3) Imports'!AP70),ISBLANK('(3) Imports'!AQ70),ISBLANK('(3) Imports'!AS70),ISBLANK('(3) Imports'!AT70)),\"\",CONCATENATE('(3) Imports'!AP70,'(3) Imports'!AQ70,'(3) Imports'!AR70,'(3) Imports'!AS70,'(3) Imports'!AT70))","v":""}]
[{"$f":"IF(AND(D39=\"\",E39=\"\",F39=\"\",G39=\"\",H39=\"\",I39=\"\"),\"\",'(3) Imports'!$J$21)","v":""},{"$f":"IF(AND(D39=\"\",E39=\"\",F39=\"\",G39=\"\",H39=\"\",I39=\"\"),\"\",'(3) Imports'!B71)","v":""},{"$f":"IF(AND(D39=\"\",E39=\"\",F39=\"\",G39=\"\",H39=\"\",I39=\"\"),\"\",'(3) Imports'!O71)","v":""},{"$f":"IF(ISBLANK('(3) Imports'!P71),\"\",LOOKUP('(3) Imports'!P71,Ports!$A$2:$A$11,Ports!$C$2:$C$11))","v":""},{"$f":"IF(ISBLANK('(3) Imports'!P71),\"\",LOOKUP('(3) Imports'!P71,Ports!$A$2:$A$11,Ports!$E$2:$E$11))","v":""},{"$f":"IF('(3) Imports'!AA71>0,'(3) Imports'!AA71,\"\")","v":""},{"$f":"IF('(3) Imports'!AG71>0,'(3) Imports'!AG71,\"\")","v":""},{"$f":"IF(AND(ISBLANK('(3) Imports'!AL71),ISBLANK('(3) Imports'!AN71),ISBLANK('(3) Imports'!AO71)),\"\",CONCATENATE('(3) Imports'!AL71,'(3) Imports'!AM71,'(3) Imports'!AN71,'(3) Imports'!AO71))","v":""},{"$f":"IF(AND(ISBLANK('(3) Imports'!AP71),ISBLANK('(3) Imports'!AQ71),ISBLANK('(3) Imports'!AS71),ISBLANK('(3) Imports'!AT71)),\"\",CONCATENATE('(3) Imports'!AP71,'(3) Imports'!AQ71,'(3) Imports'!AR71,'(3) Imports'!AS71,'(3) Imports'!AT71))","v":""}]
[{"$f":"IF(AND(D40=\"\",E40=\"\",F40=\"\",G40=\"\",H40=\"\",I40=\"\"),\"\",'(3) Imports'!$J$21)","v":""},{"$f":"IF(AND(D40=\"\",E40=\"\",F40=\"\",G40=\"\",H40=\"\",I40=\"\"),\"\",'(3) Imports'!B72)","v":""},{"$f":"IF(AND(D40=\"\",E40=\"\",F40=\"\",G40=\"\",H40=\"\",I40=\"\"),\"\",'(3) Imports'!O72)","v":""},{"$f":"IF(ISBLANK('(3) Imports'!P72),\"\",LOOKUP('(3) Imports'!P72,Ports!$A$2:$A$11,Ports!$C$2:$C$11))","v":""},{"$f":"IF(ISBLANK('(3) Imports'!P72),\"\",LOOKUP('(3) Imports'!P72,Ports!$A$2:$A$11,Ports!$E$2:$E$11))","v":""},{"$f":"IF('(3) Imports'!AA72>0,'(3) Imports'!AA72,\"\")","v":""},{"$f":"IF('(3) Imports'!AG72>0,'(3) Imports'!AG72,\"\")","v":""},{"$f":"IF(AND(ISBLANK('(3) Imports'!AL72),ISBLANK('(3) Imports'!AN72),ISBLANK('(3) Imports'!AO72)),\"\",CONCATENATE('(3) Imports'!AL72,'(3) Imports'!AM72,'(3) Imports'!AN72,'(3) Imports'!AO72))","v":""},{"$f":"IF(AND(ISBLANK('(3) Imports'!AP72),ISBLANK('(3) Imports'!AQ72),ISBLANK('(3) Imports'!AS72),ISBLANK('(3) Imports'!AT72)),\"\",CONCATENATE('(3) Imports'!AP72,'(3) Imports'!AQ72,'(3) Imports'!AR72,'(3) Imports'!AS72,'(3) Imports'!AT72))","v":""}]
[{"$f":"IF(AND(D41=\"\",E41=\"\",F41=\"\",G41=\"\",H41=\"\",I41=\"\"),\"\",'(3) Imports'!$J$21)","v":""},{"$f":"IF(AND(D41=\"\",E41=\"\",F41=\"\",G41=\"\",H41=\"\",I41=\"\"),\"\",'(3) Imports'!B73)","v":""},{"$f":"IF(AND(D41=\"\",E41=\"\",F41=\"\",G41=\"\",H41=\"\",I41=\"\"),\"\",'(3) Imports'!O73)","v":""},{"$f":"IF(ISBLANK('(3) Imports'!P73),\"\",LOOKUP('(3) Imports'!P73,Ports!$A$2:$A$11,Ports!$C$2:$C$11))","v":""},{"$f":"IF(ISBLANK('(3) Imports'!P73),\"\",LOOKUP('(3) Imports'!P73,Ports!$A$2:$A$11,Ports!$E$2:$E$11))","v":""},{"$f":"IF('(3) Imports'!AA73>0,'(3) Imports'!AA73,\"\")","v":""},{"$f":"IF('(3) Imports'!AG73>0,'(3) Imports'!AG73,\"\")","v":""},{"$f":"IF(AND(ISBLANK('(3) Imports'!AL73),ISBLANK('(3) Imports'!AN73),ISBLANK('(3) Imports'!AO73)),\"\",CONCATENATE('(3) Imports'!AL73,'(3) Imports'!AM73,'(3) Imports'!AN73,'(3) Imports'!AO73))","v":""},{"$f":"IF(AND(ISBLANK('(3) Imports'!AP73),ISBLANK('(3) Imports'!AQ73),ISBLANK('(3) Imports'!AS73),ISBLANK('(3) Imports'!AT73)),\"\",CONCATENATE('(3) Imports'!AP73,'(3) Imports'!AQ73,'(3) Imports'!AR73,'(3) Imports'!AS73,'(3) Imports'!AT73))","v":""}]
[{"$f":"IF(AND(D42=\"\",E42=\"\",F42=\"\",G42=\"\",H42=\"\",I42=\"\"),\"\",'(3) Imports'!$J$21)","v":""},{"$f":"IF(AND(D42=\"\",E42=\"\",F42=\"\",G42=\"\",H42=\"\",I42=\"\"),\"\",'(3) Imports'!B74)","v":""},{"$f":"IF(AND(D42=\"\",E42=\"\",F42=\"\",G42=\"\",H42=\"\",I42=\"\"),\"\",'(3) Imports'!O74)","v":""},{"$f":"IF(ISBLANK('(3) Imports'!P74),\"\",LOOKUP('(3) Imports'!P74,Ports!$A$2:$A$11,Ports!$C$2:$C$11))","v":""},{"$f":"IF(ISBLANK('(3) Imports'!P74),\"\",LOOKUP('(3) Imports'!P74,Ports!$A$2:$A$11,Ports!$E$2:$E$11))","v":""},{"$f":"IF('(3) Imports'!AA74>0,'(3) Imports'!AA74,\"\")","v":""},{"$f":"IF('(3) Imports'!AG74>0,'(3) Imports'!AG74,\"\")","v":""},{"$f":"IF(AND(ISBLANK('(3) Imports'!AL74),ISBLANK('(3) Imports'!AN74),ISBLANK('(3) Imports'!AO74)),\"\",CONCATENATE('(3) Imports'!AL74,'(3) Imports'!AM74,'(3) Imports'!AN74,'(3) Imports'!AO74))","v":""},{"$f":"IF(AND(ISBLANK('(3) Imports'!AP74),ISBLANK('(3) Imports'!AQ74),ISBLANK('(3) Imports'!AS74),ISBLANK('(3) Imports'!AT74)),\"\",CONCATENATE('(3) Imports'!AP74,'(3) Imports'!AQ74,'(3) Imports'!AR74,'(3) Imports'!AS74,'(3) Imports'!AT74))","v":""}]
[{"$f":"IF(AND(D43=\"\",E43=\"\",F43=\"\",G43=\"\",H43=\"\",I43=\"\"),\"\",'(3) Imports'!$J$21)","v":""},{"$f":"IF(AND(D43=\"\",E43=\"\",F43=\"\",G43=\"\",H43=\"\",I43=\"\"),\"\",'(3) Imports'!B75)","v":""},{"$f":"IF(AND(D43=\"\",E43=\"\",F43=\"\",G43=\"\",H43=\"\",I43=\"\"),\"\",'(3) Imports'!O75)","v":""},{"$f":"IF(ISBLANK('(3) Imports'!P75),\"\",LOOKUP('(3) Imports'!P75,Ports!$A$2:$A$11,Ports!$C$2:$C$11))","v":""},{"$f":"IF(ISBLANK('(3) Imports'!P75),\"\",LOOKUP('(3) Imports'!P75,Ports!$A$2:$A$11,Ports!$E$2:$E$11))","v":""},{"$f":"IF('(3) Imports'!AA75>0,'(3) Imports'!AA75,\"\")","v":""},{"$f":"IF('(3) Imports'!AG75>0,'(3) Imports'!AG75,\"\")","v":""},{"$f":"IF(AND(ISBLANK('(3) Imports'!AL75),ISBLANK('(3) Imports'!AN75),ISBLANK('(3) Imports'!AO75)),\"\",CONCATENATE('(3) Imports'!AL75,'(3) Imports'!AM75,'(3) Imports'!AN75,'(3) Imports'!AO75))","v":""},{"$f":"IF(AND(ISBLANK('(3) Imports'!AP75),ISBLANK('(3) Imports'!AQ75),ISBLANK('(3) Imports'!AS75),ISBLANK('(3) Imports'!AT75)),\"\",CONCATENATE('(3) Imports'!AP75,'(3) Imports'!AQ75,'(3) Imports'!AR75,'(3) Imports'!AS75,'(3) Imports'!AT75))","v":""}]
[{"$f":"IF(AND(D44=\"\",E44=\"\",F44=\"\",G44=\"\",H44=\"\",I44=\"\"),\"\",'(3) Imports'!$J$21)","v":""},{"$f":"IF(AND(D44=\"\",E44=\"\",F44=\"\",G44=\"\",H44=\"\",I44=\"\"),\"\",'(3) Imports'!B76)","v":""},{"$f":"IF(AND(D44=\"\",E44=\"\",F44=\"\",G44=\"\",H44=\"\",I44=\"\"),\"\",'(3) Imports'!O76)","v":""},{"$f":"IF(ISBLANK('(3) Imports'!P76),\"\",LOOKUP('(3) Imports'!P76,Ports!$A$2:$A$11,Ports!$C$2:$C$11))","v":""},{"$f":"IF(ISBLANK('(3) Imports'!P76),\"\",LOOKUP('(3) Imports'!P76,Ports!$A$2:$A$11,Ports!$E$2:$E$11))","v":""},{"$f":"IF('(3) Imports'!AA76>0,'(3) Imports'!AA76,\"\")","v":""},{"$f":"IF('(3) Imports'!AG76>0,'(3) Imports'!AG76,\"\")","v":""},{"$f":"IF(AND(ISBLANK('(3) Imports'!AL76),ISBLANK('(3) Imports'!AN76),ISBLANK('(3) Imports'!AO76)),\"\",CONCATENATE('(3) Imports'!AL76,'(3) Imports'!AM76,'(3) Imports'!AN76,'(3) Imports'!AO76))","v":""},{"$f":"IF(AND(ISBLANK('(3) Imports'!AP76),ISBLANK('(3) Imports'!AQ76),ISBLANK('(3) Imports'!AS76),ISBLANK('(3) Imports'!AT76)),\"\",CONCATENATE('(3) Imports'!AP76,'(3) Imports'!AQ76,'(3) Imports'!AR76,'(3) Imports'!AS76,'(3) Imports'!AT76))","v":""}]
[{"$f":"IF(AND(D45=\"\",E45=\"\",F45=\"\",G45=\"\",H45=\"\",I45=\"\"),\"\",'(3) Imports'!$J$21)","v":""},{"$f":"IF(AND(D45=\"\",E45=\"\",F45=\"\",G45=\"\",H45=\"\",I45=\"\"),\"\",'(3) Imports'!B77)","v":""},{"$f":"IF(AND(D45=\"\",E45=\"\",F45=\"\",G45=\"\",H45=\"\",I45=\"\"),\"\",'(3) Imports'!O77)","v":""},{"$f":"IF(ISBLANK('(3) Imports'!P77),\"\",LOOKUP('(3) Imports'!P77,Ports!$A$2:$A$11,Ports!$C$2:$C$11))","v":""},{"$f":"IF(ISBLANK('(3) Imports'!P77),\"\",LOOKUP('(3) Imports'!P77,Ports!$A$2:$A$11,Ports!$E$2:$E$11))","v":""},{"$f":"IF('(3) Imports'!AA77>0,'(3) Imports'!AA77,\"\")","v":""},{"$f":"IF('(3) Imports'!AG77>0,'(3) Imports'!AG77,\"\")","v":""},{"$f":"IF(AND(ISBLANK('(3) Imports'!AL77),ISBLANK('(3) Imports'!AN77),ISBLANK('(3) Imports'!AO77)),\"\",CONCATENATE('(3) Imports'!AL77,'(3) Imports'!AM77,'(3) Imports'!AN77,'(3) Imports'!AO77))","v":""},{"$f":"IF(AND(ISBLANK('(3) Imports'!AP77),ISBLANK('(3) Imports'!AQ77),ISBLANK('(3) Imports'!AS77),ISBLANK('(3) Imports'!AT77)),\"\",CONCATENATE('(3) Imports'!AP77,'(3) Imports'!AQ77,'(3) Imports'!AR77,'(3) Imports'!AS77,'(3) Imports'!AT77))","v":""}]
[{"$f":"IF(AND(D46=\"\",E46=\"\",F46=\"\",G46=\"\",H46=\"\",I46=\"\"),\"\",'(3) Imports'!$J$21)","v":""},{"$f":"IF(AND(D46=\"\",E46=\"\",F46=\"\",G46=\"\",H46=\"\",I46=\"\"),\"\",'(3) Imports'!B78)","v":""},{"$f":"IF(AND(D46=\"\",E46=\"\",F46=\"\",G46=\"\",H46=\"\",I46=\"\"),\"\",'(3) Imports'!O78)","v":""},{"$f":"IF(ISBLANK('(3) Imports'!P78),\"\",LOOKUP('(3) Imports'!P78,Ports!$A$2:$A$11,Ports!$C$2:$C$11))","v":""},{"$f":"IF(ISBLANK('(3) Imports'!P78),\"\",LOOKUP('(3) Imports'!P78,Ports!$A$2:$A$11,Ports!$E$2:$E$11))","v":""},{"$f":"IF('(3) Imports'!AA78>0,'(3) Imports'!AA78,\"\")","v":""},{"$f":"IF('(3) Imports'!AG78>0,'(3) Imports'!AG78,\"\")","v":""},{"$f":"IF(AND(ISBLANK('(3) Imports'!AL78),ISBLANK('(3) Imports'!AN78),ISBLANK('(3) Imports'!AO78)),\"\",CONCATENATE('(3) Imports'!AL78,'(3) Imports'!AM78,'(3) Imports'!AN78,'(3) Imports'!AO78))","v":""},{"$f":"IF(AND(ISBLANK('(3) Imports'!AP78),ISBLANK('(3) Imports'!AQ78),ISBLANK('(3) Imports'!AS78),ISBLANK('(3) Imports'!AT78)),\"\",CONCATENATE('(3) Imports'!AP78,'(3) Imports'!AQ78,'(3) Imports'!AR78,'(3) Imports'!AS78,'(3) Imports'!AT78))","v":""}]
[{"$f":"IF(AND(D47=\"\",E47=\"\",F47=\"\",G47=\"\",H47=\"\",I47=\"\"),\"\",'(3) Imports'!$J$21)","v":""},{"$f":"IF(AND(D47=\"\",E47=\"\",F47=\"\",G47=\"\",H47=\"\",I47=\"\"),\"\",'(3) Imports'!B80)","v":""},{"$f":"IF(AND(D47=\"\",E47=\"\",F47=\"\",G47=\"\",H47=\"\",I47=\"\"),\"\",'(3) Imports'!O80)","v":""},{"$f":"IF(ISBLANK('(3) Imports'!P80),\"\",LOOKUP('(3) Imports'!P80,Ports!$A$2:$A$11,Ports!$C$2:$C$11))","v":""},{"$f":"IF(ISBLANK('(3) Imports'!P80),\"\",LOOKUP('(3) Imports'!P80,Ports!$A$2:$A$11,Ports!$E$2:$E$11))","v":""},{"$f":"IF('(3) Imports'!AA80>0,'(3) Imports'!AA80,\"\")","v":""},{"$f":"IF('(3) Imports'!AG80>0,'(3) Imports'!AG80,\"\")","v":""},{"$f":"IF(AND(ISBLANK('(3) Imports'!AL80),ISBLANK('(3) Imports'!AN80),ISBLANK('(3) Imports'!AO80)),\"\",CONCATENATE('(3) Imports'!AL80,'(3) Imports'!AM80,'(3) Imports'!AN80,'(3) Imports'!AO80))","v":""},{"$f":"IF(AND(ISBLANK('(3) Imports'!AP80),ISBLANK('(3) Imports'!AQ80),ISBLANK('(3) Imports'!AS80),ISBLANK('(3) Imports'!AT80)),\"\",CONCATENATE('(3) Imports'!AP80,'(3) Imports'!AQ80,'(3) Imports'!AR80,'(3) Imports'!AS80,'(3) Imports'!AT80))","v":""}]
[{"$f":"IF(AND(D48=\"\",E48=\"\",F48=\"\",G48=\"\",H48=\"\",I48=\"\"),\"\",'(3) Imports'!$J$21)","v":""},{"$f":"IF(AND(D48=\"\",E48=\"\",F48=\"\",G48=\"\",H48=\"\",I48=\"\"),\"\",'(3) Imports'!B81)","v":""},{"$f":"IF(AND(D48=\"\",E48=\"\",F48=\"\",G48=\"\",H48=\"\",I48=\"\"),\"\",'(3) Imports'!O81)","v":""},{"$f":"IF(ISBLANK('(3) Imports'!P81),\"\",LOOKUP('(3) Imports'!P81,Ports!$A$2:$A$11,Ports!$C$2:$C$11))","v":""},{"$f":"IF(ISBLANK('(3) Imports'!P81),\"\",LOOKUP('(3) Imports'!P81,Ports!$A$2:$A$11,Ports!$E$2:$E$11))","v":""},{"$f":"IF('(3) Imports'!AA81>0,'(3) Imports'!AA81,\"\")","v":""},{"$f":"IF('(3) Imports'!AG81>0,'(3) Imports'!AG81,\"\")","v":""},{"$f":"IF(AND(ISBLANK('(3) Imports'!AL81),ISBLANK('(3) Imports'!AN81),ISBLANK('(3) Imports'!AO81)),\"\",CONCATENATE('(3) Imports'!AL81,'(3) Imports'!AM81,'(3) Imports'!AN81,'(3) Imports'!AO81))","v":""},{"$f":"IF(AND(ISBLANK('(3) Imports'!AP81),ISBLANK('(3) Imports'!AQ81),ISBLANK('(3) Imports'!AS81),ISBLANK('(3) Imports'!AT81)),\"\",CONCATENATE('(3) Imports'!AP81,'(3) Imports'!AQ81,'(3) Imports'!AR81,'(3) Imports'!AS81,'(3) Imports'!AT81))","v":""}]
[{"$f":"IF(AND(D49=\"\",E49=\"\",F49=\"\",G49=\"\",H49=\"\",I49=\"\"),\"\",'(3) Imports'!$J$21)","v":""},{"$f":"IF(AND(D49=\"\",E49=\"\",F49=\"\",G49=\"\",H49=\"\",I49=\"\"),\"\",'(3) Imports'!B82)","v":""},{"$f":"IF(AND(D49=\"\",E49=\"\",F49=\"\",G49=\"\",H49=\"\",I49=\"\"),\"\",'(3) Imports'!O82)","v":""},{"$f":"IF(ISBLANK('(3) Imports'!P82),\"\",LOOKUP('(3) Imports'!P82,Ports!$A$2:$A$11,Ports!$C$2:$C$11))","v":""},{"$f":"IF(ISBLANK('(3) Imports'!P82),\"\",LOOKUP('(3) Imports'!P82,Ports!$A$2:$A$11,Ports!$E$2:$E$11))","v":""},{"$f":"IF('(3) Imports'!AA82>0,'(3) Imports'!AA82,\"\")","v":""},{"$f":"IF('(3) Imports'!AG82>0,'(3) Imports'!AG82,\"\")","v":""},{"$f":"IF(AND(ISBLANK('(3) Imports'!AL82),ISBLANK('(3) Imports'!AN82),ISBLANK('(3) Imports'!AO82)),\"\",CONCATENATE('(3) Imports'!AL82,'(3) Imports'!AM82,'(3) Imports'!AN82,'(3) Imports'!AO82))","v":""},{"$f":"IF(AND(ISBLANK('(3) Imports'!AP82),ISBLANK('(3) Imports'!AQ82),ISBLANK('(3) Imports'!AS82),ISBLANK('(3) Imports'!AT82)),\"\",CONCATENATE('(3) Imports'!AP82,'(3) Imports'!AQ82,'(3) Imports'!AR82,'(3) Imports'!AS82,'(3) Imports'!AT82))","v":""}]
[{"$f":"IF(AND(D50=\"\",E50=\"\",F50=\"\",G50=\"\",H50=\"\",I50=\"\"),\"\",'(3) Imports'!$J$21)","v":""},{"$f":"IF(AND(D50=\"\",E50=\"\",F50=\"\",G50=\"\",H50=\"\",I50=\"\"),\"\",'(3) Imports'!B83)","v":""},{"$f":"IF(AND(D50=\"\",E50=\"\",F50=\"\",G50=\"\",H50=\"\",I50=\"\"),\"\",'(3) Imports'!O83)","v":""},{"$f":"IF(ISBLANK('(3) Imports'!P83),\"\",LOOKUP('(3) Imports'!P83,Ports!$A$2:$A$11,Ports!$C$2:$C$11))","v":""},{"$f":"IF(ISBLANK('(3) Imports'!P83),\"\",LOOKUP('(3) Imports'!P83,Ports!$A$2:$A$11,Ports!$E$2:$E$11))","v":""},{"$f":"IF('(3) Imports'!AA83>0,'(3) Imports'!AA83,\"\")","v":""},{"$f":"IF('(3) Imports'!AG83>0,'(3) Imports'!AG83,\"\")","v":""},{"$f":"IF(AND(ISBLANK('(3) Imports'!AL83),ISBLANK('(3) Imports'!AN83),ISBLANK('(3) Imports'!AO83)),\"\",CONCATENATE('(3) Imports'!AL83,'(3) Imports'!AM83,'(3) Imports'!AN83,'(3) Imports'!AO83))","v":""},{"$f":"IF(AND(ISBLANK('(3) Imports'!AP83),ISBLANK('(3) Imports'!AQ83),ISBLANK('(3) Imports'!AS83),ISBLANK('(3) Imports'!AT83)),\"\",CONCATENATE('(3) Imports'!AP83,'(3) Imports'!AQ83,'(3) Imports'!AR83,'(3) Imports'!AS83,'(3) Imports'!AT83))","v":""}]
[{"$f":"IF(AND(D51=\"\",E51=\"\",F51=\"\",G51=\"\",H51=\"\",I51=\"\"),\"\",'(3) Imports'!$J$21)","v":""},{"$f":"IF(AND(D51=\"\",E51=\"\",F51=\"\",G51=\"\",H51=\"\",I51=\"\"),\"\",'(3) Imports'!B84)","v":""},{"$f":"IF(AND(D51=\"\",E51=\"\",F51=\"\",G51=\"\",H51=\"\",I51=\"\"),\"\",'(3) Imports'!O84)","v":""},{"$f":"IF(ISBLANK('(3) Imports'!P84),\"\",LOOKUP('(3) Imports'!P84,Ports!$A$2:$A$11,Ports!$C$2:$C$11))","v":""},{"$f":"IF(ISBLANK('(3) Imports'!P84),\"\",LOOKUP('(3) Imports'!P84,Ports!$A$2:$A$11,Ports!$E$2:$E$11))","v":""},{"$f":"IF('(3) Imports'!AA84>0,'(3) Imports'!AA84,\"\")","v":""},{"$f":"IF('(3) Imports'!AG84>0,'(3) Imports'!AG84,\"\")","v":""},{"$f":"IF(AND(ISBLANK('(3) Imports'!AL84),ISBLANK('(3) Imports'!AN84),ISBLANK('(3) Imports'!AO84)),\"\",CONCATENATE('(3) Imports'!AL84,'(3) Imports'!AM84,'(3) Imports'!AN84,'(3) Imports'!AO84))","v":""},{"$f":"IF(AND(ISBLANK('(3) Imports'!AP84),ISBLANK('(3) Imports'!AQ84),ISBLANK('(3) Imports'!AS84),ISBLANK('(3) Imports'!AT84)),\"\",CONCATENATE('(3) Imports'!AP84,'(3) Imports'!AQ84,'(3) Imports'!AR84,'(3) Imports'!AS84,'(3) Imports'!AT84))","v":""}]