{"text_format":"1","workbook":"xlsx","n_sheets":6,"sheets":["(1)&(2)","(3) RW","FormData","RawData","Facility","AllProductData"],"not_rendered":{"charts":0,"images":1,"macros":1,"external_links":0,"defined_names":0,"comments":0,"pivot_tables":0},"unopened":[],"bounds":{"document_bytes":16777216,"sheet_cells":100000,"rows_first":2000,"rows_last":500,"rows_between":2000,"halvings":0,"cell_chars":16384,"cell_head_chars":4096},"cells_cut":0,"cells_raw":0,"read":"whole","date_system":"1900"}

{"sheet":"(1)&(2)","index":0,"n_rows":69,"n_cols":53,"rows_kept":69,"cut":false,"hidden":false,"merged":[[53,8,53,20],[57,0,62,49],[67,2,67,11],[67,14,67,24],[67,26,67,29],[45,8,45,20],[47,5,47,8],[47,16,47,17],[49,7,49,20],[51,12,51,13],[51,17,51,18],[24,1,26,22],[24,27,25,48],[18,27,20,48],[31,27,32,48],[36,8,36,20],[20,18,20,19],[10,0,11,49],[12,0,13,24],[12,25,13,49],[16,6,16,20],[18,18,18,19],[9,0,9,49],[2,0,2,7],[5,44,5,49],[6,42,6,49],[7,40,7,49],[8,0,8,49]]}
[null,null,null,null,null,null,null,null,null,null,null,null,null,null,null,null,null,null,null,null,null,null,null,null,null,null,null,null,null,null,null,null,null,null,null,null,null,null,null,null,null,null,null,null,null,null,null,null,null,null,null,"Raw Data"]
[null,null,null,null,null,null,null,null,null,null,null,null,null,null,null,null,null,null,null,null,null,null,null,null,null,null,null,null,null,null,null,null,null,null,null,null,null,null,null,null,null,null,null,null,null,null,null,null,null,null,null,"Resubmission?",{"$f":"'(3) RW'!J26","v":"N"}]
[null,null,null,null,null,null,null,null,null,null,null,null,null,null,null,null,null,null,null,null,null,null,null,null,null,null,null,null,null,null,null,null,null,null,null,null,null,null,null,null,null,null,null,null,null,null,null,null,null,null,null,"Company Name",{"$f":"G17","v":0}]
[null,null,null,null,null,null,null,null,null,null,null,null,null,null,null,null,null,null,null,null,null,null,null,null,null,null,null,null,null,null,null,null,null,null,null,null,null,null,null,null,null,null,null,null,null,null,null,null,null,null,null,"Rpt Pd",{"$f":"CONCATENATE(S19,O19)","v":""}]
[null,null,null,null,null,null,null,null,null,null,null,null,null,null,null,null,null,null,null,null,null,null,null,null,null,null,null,null,null,null,null,null,null,null,null,null,null,null,null,null,null,null,null,null,null,null,null,null,null,null,null,"Rpt Date",{"$f":"CONCATENATE(K21,\"/\",O21,\"/\",S21)","v":"//"}]
[null,null,null,null,null,null,null,null,null,null,null,null,null,null,null,null,null,null,null,null,null,null,null,null,null,null,null,null,null,null,null,null,null,null,null,null,null,null,null,null,null,null,null,null,"Phone: (808) 586-2488 ",null,null,null,null,null,null,"ID No",{"$f":"#REF!","v":{"$error":"#REF!"}}]
[null,null,null,null,null,null,null,null,null,null,null,null,null,null,null,null,null,null,null,null,null,null,null,null,null,null,null,null,null,null,null,null,null,null,null,null,null,null,null,null,null,null,"Email: edata@dbedt.hawaii.gov",null,null,null,null,null,null,null,null,"Info changed?",false]
[null,null,null,null,null,null,null,null,null,null,null,null,null,null,null,null,null,null,null,null,null,null,null,null,null,null,null,null,null,null,null,null,null,null,null,null,null,null,null,null,"https://energy.hawaii.gov/eiirp",null,null,null,null,null,null,null,null,null,null,"Distributor",false]
["Form DBEDT-130",null,null,null,null,null,null,null,null,null,null,null,null,null,null,null,null,null,null,null,null,null,null,null,null,null,null,null,null,null,null,null,null,null,null,null,null,null,null,null,null,null,null,null,null,null,null,null,null,null,null,"Refiner",false]
["MONTHLY RETAIL & WHOLESALE TRANSACTIONS REPORT",null,null,null,null,null,null,null,null,null,null,null,null,null,null,null,null,null,null,null,null,null,null,null,null,null,null,null,null,null,null,null,null,null,null,null,null,null,null,null,null,null,null,null,null,null,null,null,null,null,null,"Facility Location",{"$f":"I37","v":0}]
["This Report is mandatory under chapter 486J, Hawaii Revised Statutes (\"HRS\").  Violations are subject to civil and criminal penalties pursuant to HRS § 486J-9 and other applicable laws or orders. CONFIDENTIAL PURSUANT TO APPLICABLE STATUTORY AUTHORITY (E.G., HRS § 486J-6) AND APPLICABLE PROTECTIVE ORDERS.",null,null,null,null,null,null,null,null,null,null,null,null,null,null,null,null,null,null,null,null,null,null,null,null,null,null,null,null,null,null,null,null,null,null,null,null,null,null,null,null,null,null,null,null,null,null,null,null,null,null,"Facility City",{"$f":"F41","v":0}]
[null,null,null,null,null,null,null,null,null,null,null,null,null,null,null,null,null,null,null,null,null,null,null,null,null,null,null,null,null,null,null,null,null,null,null,null,null,null,null,null,null,null,null,null,null,null,null,null,null,null,null,"Facility State",{"$f":"M41","v":0}]
["Part 1. Respondent Identification",null,null,null,null,null,null,null,null,null,null,null,null,null,null,null,null,null,null,null,null,null,null,null,null,"Part 2. Submission or Resubmission Information",null,null,null,null,null,null,null,null,null,null,null,null,null,null,null,null,null,null,null,null,null,null,null,null,null,"Facility Zip",{"$f":"Q41","v":0}]
[null,null,null,null,null,null,null,null,null,null,null,null,null,null,null,null,null,null,null,null,null,null,null,null,null,null,null,null,null,null,null,null,null,null,null,null,null,null,null,null,null,null,null,null,null,null,null,null,null,null,null,"Mailing Add same?",false]
[null,null,null,null,null,null,null,null,null,null,null,null,null,null,null,null,null,null,null,null,null,null,null,null,null,null,null,null,null,null,null,null,null,null,null,null,null,null,null,null,null,null,null,null,null,null,null,null,null,null,null,"Mailing Add",{"$f":"I46","v":0}]
[null,null,null,null,null,null,null,null,null,null,null,null,null,null,null,null,null,null,null,null,null,null,null,null,null,null,null,null,null,null,null,null,null,null,null,null,null,null,null,null,null,null,null,null,null,null,null,null,null,null,null,"Mailing City",{"$f":"F48","v":0}]
[null,"COMPANY NAME:",null,null,null,null,null,null,null,null,null,null,null,null,null,null,null,null,null,null,null,null,null,null,null,null,null,null,null,null,null,null,null,null,null,null,null,null,null,null,null,null,null,null,null,null,null,null,null,null,null,"Mailing State",{"$f":"M48","v":0}]
[null,null,null,null,null,null,null,null,null,null,null,null,null,null,null,null,null,null,null,null,null,null,null,null,null,null,null,null,null,null,null,null,null,null,null,null,null,null,null,null,null,null,null,null,null,null,null,null,null,null,null,"Mailing Zip",{"$f":"Q48","v":0}]
[null,"REPORT PERIOD (Month Ending):",null,null,null,null,null,null,null,null,"MONTH (##)",null,null,null,null,null,"YEAR",null,null,null,null,null,null,null,null,null,null,"A completed form must be received on or before the last day of the month following the end of the report month (e.g, July 2023 report period must be received on or before August 31, 2023).",null,null,null,null,null,null,null,null,null,null,null,null,null,null,null,null,null,null,null,null,null,null,null,"Contact Name",{"$f":"H50","v":0}]
[null,null,null,null,null,null,null,null,null,null,null,null,null,null,null,null,null,null,null,null,null,null,null,null,null,null,null,null,null,null,null,null,null,null,null,null,null,null,null,null,null,null,null,null,null,null,null,null,null,null,null,"Phone ",{"$f":"CONCATENATE(I52,\"-\",K52,\"-\",M52,\"Ext\",R52)","v":"--Ext"}]
[null,"REPORT DATE:",null,null,null,null,"MONTH (##)",null,null,null,null,null,"DAY",null,null,null,"YEAR",null,null,null,null,null,null,null,null,null,null,null,null,null,null,null,null,null,null,null,null,null,null,null,null,null,null,null,null,null,null,null,null,null,null,"Email",{"$f":"I54","v":0}]
[null,null,null,null,null,null,null,null,null,null,null,null,null,null,null,null,null,null,null,null,null,null,null,null,null,null,null,null,null,null,null,null,null,null,null,null,null,null,null,null,null,null,null,null,null,null,null,null,null,null,null,"Comments",{"$f":"A58","v":0}]
[]
[]
[null,"If respondent contact information has changed since the previous report, please check box and fill out the form below. If more than one contact and/or facility information has changed, please provide additional changes in the comments section below.",null,null,null,null,null,null,null,null,null,null,null,null,null,null,null,null,null,null,null,null,null,null,null,null,null,"Please submit a separate report for each island. "]
[]
[]
[]
[null,null,null,null,null,null,null,null,null,null,null,null,null,null,null,null,null,null,null,null,null,null,null,null,null,null,null,"Forms must be uploaded to ",null,null,null,null,null,null,"https://eiirp.hawaii.gov/"]
[]
[]
[null,null,null,"Doing business as a (check all that apply):",null,null,null,null,null,null,null,null,null,null,null,null,null,null,null,null,null,null,null,null,null,null,null,"If you have any questions about the form after reading the PDF instructions, please contact HSEO at (808) 587-3807."]
[]
[]
[]
[]
[null,null,null,"Island"]
[]
[]
[]
[]
[]
[]
[]
[]
[null,null,null,"Mailing Address:"]
[]
[null,null,null,"City: ",null,null,null,null,null,null,"State: ",null,null,null,"   Zip:  "]
[]
[null,null,null,"Contact Name: "]
[]
[null,null,null,"Phone Number: ",null,null,null,null,null,"­",null,"­",null,null,null,"   Ext.:"]
[]
[null,null,null,"Email address: "]
[]
[]
["COMMENTS: Please decribe any unusual aspect of the company's reporting month's operations and/or reason for resubmission."]
[]
[]
[]
[]
[]
[]
[]
[]
[null,null,"I certify under penalty of perjury (under section 486J-9b) that the information contained in this report is true, correct and complete to the best of my knowledge. I am authorized to file this report on behalf of the company."]
[]
[null,null,null,null,null,null,null,null,null,null,null,null,null,null,null,null,null,null,null,null,null,null,null,null,null,null,{"$f":"CONCATENATE(K21,\"/\",O21,\"/\",S21)","v":"//"}]
[null,null,"Name",null,null,null,null,null,null,null,null,null,null,null,"Title",null,null,null,null,null,null,null,null,null,null,null,"Date"]

{"sheet":"(3) RW","index":1,"n_rows":78,"n_cols":76,"rows_kept":78,"cut":false,"hidden":false,"merged":[[64,64,64,68],[64,69,64,73],[64,74,64,78],[22,0,22,8],[23,0,23,8],[24,0,24,8],[25,0,25,8],[22,9,22,19],[23,9,23,19],[24,9,24,19],[25,9,25,19],[64,19,64,23],[64,24,64,28],[64,29,64,33],[64,34,64,38],[64,39,64,43],[64,44,64,48],[64,49,64,53],[64,54,64,58],[64,59,64,63],[19,0,19,8],[20,0,20,8],[21,0,21,8],[20,9,20,19],[21,9,21,19],[16,9,16,19],[16,0,16,8],[0,0,1,78],[10,0,10,78],[12,0,12,78],[4,0,4,7],[8,70,8,78],[18,0,18,8],[67,74,67,78],[7,71,7,78],[9,70,9,78],[11,0,11,78],[57,74,57,78],[59,74,59,78],[44,74,44,78],[45,74,45,78],[46,74,46,78],[47,74,47,78],[48,74,48,78],[49,74,49,78],[38,74,38,78],[39,74,39,78],[40,74,40,78],[41,74,41,78],[42,74,42,78],[43,74,43,78],[17,0,17,8],[13,0,13,78],[29,64,31,68],[67,54,67,58],[67,59,67,63],[67,64,67,68],[69,69,69,73],[68,69,68,73],[39,69,39,73],[40,69,40,73],[33,69,33,73],[32,69,32,73],[72,74,72,78],[71,74,71,78],[66,69,66,73],[51,74,51,78],[52,74,52,78],[53,74,53,78],[54,74,54,78],[55,74,55,78],[56,74,56,78],[63,69,63,73],[65,69,65,73],[62,69,62,73],[61,69,61,73],[59,69,59,73],[60,69,60,73],[55,69,55,73],[68,74,68,78],[69,74,69,78],[70,74,70,78],[66,74,66,78],[17,9,17,19],[18,9,18,19],[19,9,19,19],[60,74,60,78],[61,74,61,78],[62,74,62,78],[65,74,65,78],[58,74,58,78],[63,74,63,78],[50,74,50,78],[28,74,28,78],[29,74,31,78],[32,74,32,78],[33,74,33,78],[34,74,34,78],[35,74,35,78],[36,74,36,78],[37,74,37,78],[56,69,56,73],[51,69,51,73],[70,1,70,12],[70,14,70,18],[72,39,72,43],[72,1,72,13],[72,14,72,18],[72,19,72,23],[72,24,72,28],[72,34,72,38],[72,29,72,33],[71,39,71,43],[72,44,72,48],[71,1,71,12],[71,14,71,18],[71,19,71,23],[71,24,71,28],[71,34,71,38],[71,44,71,48],[71,29,71,33],[71,49,71,53],[71,54,71,58],[71,59,71,63],[71,64,71,68],[72,49,72,53],[72,54,72,58],[72,59,72,63],[72,64,72,68],[70,69,70,73],[71,69,71,73],[72,69,72,73],[70,19,70,23],[70,24,70,28],[70,34,70,38],[70,44,70,48],[70,29,70,33],[70,39,70,43],[70,49,70,53],[69,49,69,53],[69,54,69,58],[69,59,69,63],[69,64,69,68],[70,54,70,58],[70,59,70,63],[70,64,70,68],[68,64,68,68],[68,49,68,53],[68,54,68,58],[68,59,68,63],[69,1,69,12],[69,14,69,18],[69,19,69,23],[69,24,69,28],[69,34,69,38],[69,44,69,48],[69,29,69,33],[68,44,68,48],[68,29,68,33],[68,39,68,43],[69,39,69,43],[67,69,67,73],[68,1,68,12],[68,14,68,18],[68,19,68,23],[68,24,68,28],[68,34,68,38],[67,1,67,12],[67,14,67,18],[67,19,67,23],[67,24,67,28],[67,34,67,38],[67,44,67,48],[67,39,67,43],[67,29,67,33],[67,49,67,53],[66,54,66,58],[66,29,66,33],[66,39,66,43],[66,59,66,63],[66,64,66,68],[66,19,66,23],[66,24,66,28],[66,34,66,38],[66,44,66,48],[66,49,66,53],[65,59,65,63],[65,64,65,68],[63,1,63,12],[63,14,63,18],[63,19,63,23],[63,24,63,28],[63,34,63,38],[63,49,63,53],[65,44,65,48],[65,29,65,33],[65,49,65,53],[65,54,65,58],[65,39,65,43],[65,1,65,12],[65,14,65,18],[65,19,65,23],[65,24,65,28],[65,34,65,38],[63,44,63,48],[63,29,63,33],[63,39,63,43],[63,54,63,58],[64,1,64,12],[64,14,64,18],[62,1,62,12],[62,14,62,18],[62,19,62,23],[62,24,62,28],[62,34,62,38],[61,1,61,12],[61,14,61,18],[61,19,61,23],[61,24,61,28],[62,29,62,33],[61,29,61,33],[61,59,61,63],[59,59,59,63],[59,64,59,68],[60,59,60,63],[60,64,60,68],[59,54,59,58],[62,39,62,43],[63,59,63,63],[63,64,63,68],[62,44,62,48],[62,59,62,63],[62,64,62,68],[61,49,61,53],[61,64,61,68],[62,49,62,53],[62,54,62,58],[61,44,61,48],[59,49,59,53],[59,44,59,48],[60,44,60,48],[60,29,60,33],[59,39,59,43],[60,49,60,53],[60,54,60,58],[61,39,61,43],[61,54,61,58],[60,39,60,43],[61,34,61,38],[60,1,60,12],[60,14,60,18],[60,19,60,23],[60,24,60,28],[60,34,60,38],[58,1,58,12],[58,14,58,18],[58,19,58,23],[58,24,58,28],[58,34,58,38],[59,1,59,12],[59,14,59,18],[59,19,59,23],[59,24,59,28],[59,34,59,38],[59,29,59,33],[58,44,58,48],[58,29,58,33],[58,69,58,73],[58,59,58,63],[58,64,58,68],[57,49,57,53],[57,64,57,68],[57,69,57,73],[58,49,58,53],[58,54,58,58],[57,44,57,48],[57,29,57,33],[58,39,58,43],[57,59,57,63],[55,59,55,63],[55,64,55,68],[56,59,56,63],[56,64,56,68],[55,54,55,58],[57,1,57,12],[57,14,57,18],[57,19,57,23],[57,24,57,28],[55,49,55,53],[55,44,55,48],[55,29,55,33],[56,44,56,48],[56,29,56,33],[55,39,55,43],[56,49,56,53],[56,54,56,58],[57,39,57,43],[57,54,57,58],[56,39,56,43],[57,34,57,38],[56,1,56,12],[56,14,56,18],[56,19,56,23],[56,24,56,28],[56,34,56,38],[54,1,54,12],[54,14,54,18],[54,19,54,23],[54,24,54,28],[54,34,54,38],[55,1,55,12],[55,14,55,18],[55,19,55,23],[55,24,55,28],[55,34,55,38],[54,69,54,73],[54,59,54,63],[54,64,54,68],[53,49,53,53],[53,64,53,68],[53,69,53,73],[54,49,54,53],[54,54,54,58],[53,44,53,48],[53,54,53,58],[53,34,53,38],[53,59,53,63],[51,59,51,63],[51,64,51,68],[53,1,53,12],[53,14,53,18],[53,19,53,23],[53,24,53,28],[54,44,54,48],[54,29,54,33],[53,29,53,33],[54,39,54,43],[53,39,53,43],[52,69,52,73],[52,59,52,63],[52,64,52,68],[51,1,51,12],[51,14,51,18],[51,19,51,23],[51,24,51,28],[51,34,51,38],[51,49,51,53],[51,44,51,48],[51,29,51,33],[52,44,52,48],[52,29,52,33],[51,39,51,43],[51,54,51,58],[52,49,52,53],[52,54,52,58],[52,1,52,12],[52,14,52,18],[52,19,52,23],[52,24,52,28],[52,34,52,38],[52,39,52,43],[50,1,50,12],[50,14,50,18],[50,19,50,23],[50,24,50,28],[50,34,50,38],[49,1,49,12],[49,14,49,18],[49,19,49,23],[49,24,49,28],[50,44,50,48],[50,29,50,33],[50,69,50,73],[50,59,50,63],[50,64,50,68],[49,49,49,53],[49,64,49,68],[49,69,49,73],[50,49,50,53],[50,54,50,58],[49,44,49,48],[49,29,49,33],[50,39,50,43],[48,54,48,58],[49,39,49,43],[49,54,49,58],[48,39,48,43],[49,34,49,38],[49,59,49,63],[48,69,48,73],[48,59,48,63],[48,64,48,68],[47,1,47,12],[47,14,47,18],[47,19,47,23],[47,24,47,28],[47,34,47,38],[47,49,47,53],[47,44,47,48],[47,29,47,33],[48,44,48,48],[48,29,48,33],[48,1,48,12],[48,14,48,18],[48,19,48,23],[48,24,48,28],[48,34,48,38],[48,49,48,53],[47,39,47,43],[46,1,46,12],[46,14,46,18],[46,19,46,23],[46,24,46,28],[46,34,46,38],[46,44,46,48],[46,29,46,33],[46,69,46,73],[46,59,46,63],[46,64,46,68],[46,49,46,53],[46,54,46,58],[47,54,47,58],[46,39,46,43],[47,59,47,63],[47,64,47,68],[47,69,47,73],[45,44,45,48],[45,64,45,68],[45,69,45,73],[45,29,45,33],[45,39,45,43],[45,54,45,58],[45,59,45,63],[45,49,45,53],[45,1,45,12],[45,14,45,18],[45,19,45,23],[45,24,45,28],[44,1,44,12],[44,14,44,18],[44,19,44,23],[44,24,44,28],[44,34,44,38],[45,34,45,38],[43,59,43,63],[43,64,43,68],[43,69,43,73],[44,69,44,73],[44,59,44,63],[44,64,44,68],[43,19,43,23],[43,24,43,28],[43,34,43,38],[43,49,43,53],[43,44,43,48],[43,29,43,33],[43,39,43,43],[43,54,43,58],[44,44,44,48],[44,29,44,33],[44,49,44,53],[44,54,44,58],[44,39,44,43],[42,39,42,43],[42,1,42,12],[42,14,42,18],[42,19,42,23],[42,24,42,28],[42,34,42,38],[43,1,43,12],[43,14,43,18],[42,44,42,48],[42,29,42,33],[42,49,42,53],[42,54,42,58],[41,69,41,73],[42,69,42,73],[42,59,42,63],[42,64,42,68],[41,49,41,53],[41,44,41,48],[40,1,40,12],[40,14,40,18],[40,19,40,23],[40,24,40,28],[40,34,40,38],[40,44,40,48],[40,29,40,33],[40,39,40,43],[41,59,41,63],[41,39,41,43],[41,54,41,58],[41,64,41,68],[41,1,41,12],[41,14,41,18],[41,19,41,23],[41,24,41,28],[41,34,41,38],[41,29,41,33],[40,49,40,53],[40,54,40,58],[39,64,39,68],[40,59,40,63],[38,49,38,53],[38,54,38,58],[38,59,38,63],[38,64,38,68],[40,64,40,68],[39,14,39,18],[39,19,39,23],[39,24,39,28],[39,34,39,38],[39,49,39,53],[39,44,39,48],[37,69,37,73],[38,69,38,73],[38,39,38,43],[39,39,39,43],[39,54,39,58],[39,59,39,63],[38,1,38,12],[38,14,38,18],[38,19,38,23],[38,24,38,28],[38,34,38,38],[37,1,37,12],[38,44,38,48],[36,64,36,68],[37,39,37,43],[37,54,37,58],[37,59,37,63],[37,64,37,68],[37,19,37,23],[37,24,37,28],[37,34,37,38],[37,49,37,53],[37,44,37,48],[36,44,36,48],[36,29,36,33],[36,1,36,12],[36,14,36,18],[36,19,36,23],[36,24,36,28],[37,14,37,18],[36,49,36,53],[36,54,36,58],[36,59,36,63],[35,64,35,68],[34,59,34,63],[34,64,34,68],[35,69,35,73],[36,69,36,73],[36,34,36,38],[34,69,34,73],[35,1,35,12],[35,14,35,18],[35,19,35,23],[35,24,35,28],[35,34,35,38],[35,44,35,48],[35,49,35,53],[35,54,35,58],[35,59,35,63],[35,29,35,33],[34,1,34,12],[34,14,34,18],[34,19,34,23],[34,24,34,28],[34,34,34,38],[34,44,34,48],[34,29,34,33],[34,49,34,53],[34,54,34,58],[32,14,32,18],[32,19,32,23],[32,64,32,68],[32,29,32,33],[32,49,32,53],[32,54,32,58],[33,44,33,48],[33,49,33,53],[33,39,33,43],[33,54,33,58],[33,59,33,63],[32,59,32,63],[32,39,32,43],[30,0,31,0],[30,1,31,12],[30,13,31,13],[30,19,31,23],[31,49,31,53],[29,19,29,63],[30,59,31,63],[31,44,31,48],[31,54,31,58],[30,34,31,38],[29,14,31,18],[30,24,30,33],[30,44,30,58],[28,69,28,73],[29,69,31,73],[28,14,28,68],[30,39,31,43],[39,1,39,12],[31,24,31,28],[31,29,31,33],[33,29,33,33],[37,29,37,33],[38,29,38,33],[39,29,39,33],[34,39,34,43],[35,39,35,43],[36,39,36,43],[33,1,33,12],[33,14,33,18],[33,19,33,23],[33,24,33,28],[33,34,33,38],[32,24,32,28],[32,34,32,38],[32,44,32,48],[33,64,33,68],[32,1,32,12]]}
["Part 3. Retail & Wholesale Transactions Activity Detail"]
[]
[]
[]
[]
[]
[]
[null,null,null,null,null,null,null,null,null,null,null,null,null,null,null,null,null,null,null,null,null,null,null,null,null,null,null,null,null,null,null,null,null,null,null,null,null,null,null,null,null,null,null,null,null,null,null,null,null,null,null,null,null,null,null,null,null,null,null,null,null,null,null,null,null,null,null,null,null,null,null,"Phone: (808) 587-3807"]
[null,null,null,null,null,null,null,null,null,null,null,null,null,null,null,null,null,null,null,null,null,null,null,null,null,null,null,null,null,null,null,null,null,null,null,null,null,null,null,null,null,null,null,null,null,null,null,null,null,null,null,null,null,null,null,null,null,null,null,null,null,null,null,null,null,null,null,null,null,null,"Email: dbedt.hseo.eiirp@hawaii.gov"]
[null,null,null,null,null,null,null,null,null,null,null,null,null,null,null,null,null,null,null,null,null,null,null,null,null,null,null,null,null,null,null,null,null,null,null,null,null,null,null,null,null,null,null,null,null,null,null,null,null,null,null,null,null,null,null,null,null,null,null,null,null,null,null,null,null,null,null,null,null,null,"https://energy.hawaii.gov/eiirp"]
["Form DBEDT-130"]
["MONTHLY RETAIL & WHOLESALE TRANSACTIONS REPORT"]
[{"$f":"J21","v":" "}]
["This Report is mandatory under chapter 486J, Hawaii Revised Statutes (\"HRS\").  Violations are subject to civil and criminal penalties pursuant to HRS § 486J-9 and other applicable laws or orders. CONFIDENTIAL PURSUANT TO APPLICABLE STATUTORY AUTHORITY (E.G., HRS § 486J-6) AND APPLICABLE PROTECTIVE ORDERS."]
[]
[]
["Company Name",null,null,null,null,null,null,null,null,{"$f":"IF('(1)&(2)'!G17=0,\" \",'(1)&(2)'!G17)","v":" "}]
["Company Short Code",null,null,null,null,null,null,null,null,{"$f":"_xlfn.IFNA(INDEX(Facility!$A$11:$B$34, MATCH(J17,Facility!A11:A34,0), 2), \" \")","v":" "}]
["Company Code",null,null,null,null,null,null,null,null,{"$f":"_xlfn.IFNA(INDEX(Facility!$A$11:$C$34, MATCH(J17,Facility!A11:A34,0), 3), \"\")","v":""}]
["Form Code",null,null,null,null,null,null,null,null,{"$f":"IF(OR(J19=\"\",J22=\"\",J25=\"\"),\"\",_xlfn.IFNA(_xlfn.CONCAT(J22,\"-\",J19,\"-000-\",J25,\"-130\"),\"\"))","v":""}]
["Island",null,null,null,null,null,null,null,null,{"$f":"_xlfn.IFNA(VLOOKUP('(1)&(2)'!I37,Facility!A2:A7, 1, FALSE), \" \" )","v":" "}]
["Island Code",null,null,null,null,null,null,null,null,{"$f":"_xlfn.IFNA(INDEX(Facility!$A$38:$B$45, MATCH(J21,Facility!B38:B45,0), 1), \"\")","v":""}]
["Report Date",null,null,null,null,null,null,null,null,{"$f":"CONCATENATE('(1)&(2)'!K21,\"/\",'(1)&(2)'!O21,\"/\",'(1)&(2)'!S21)","v":"//"}]
["Report Period (Month Ending)",null,null,null,null,null,null,null,null,{"$f":"CONCATENATE('(1)&(2)'!O19,\"/\",'(1)&(2)'!S19)","v":"/"}]
["Report Period",null,null,null,null,null,null,null,null,{"$f":"CONCATENATE('(1)&(2)'!S19,'(1)&(2)'!O19)","v":""}]
["Resubmission",null,null,null,null,null,null,null,null,{"$f":"IF(Facility!B48=TRUE,\"Y\",\"N\")","v":"N"}]
[]
[]
[null,null,null,null,null,null,null,null,null,null,null,null,null,null,"TOTAL RETAIL TRANSACTIONS (SALES to End-Users)",null,null,null,null,null,null,null,null,null,null,null,null,null,null,null,null,null,null,null,null,null,null,null,null,null,null,null,null,null,null,null,null,null,null,null,null,null,null,null,null,null,null,null,null,null,null,null,null,null,null,null,null,null,null,"WHOLESALE (For Resale)",null,null,null,null,"DISTRIBUTOR USED"]
[null,null,null,null,null,null,null,null,null,null,null,null,null,null,"Through Company-Operated (Barrels) [a]",null,null,null,null,"To Other End-Users (Barrels)",null,null,null,null,null,null,null,null,null,null,null,null,null,null,null,null,null,null,null,null,null,null,null,null,null,null,null,null,null,null,null,null,null,null,null,null,null,null,null,null,null,null,null,null,"Other [k]",null,null,null,null,"Wholesale Total (Barrels)",null,null,null,null,"Distributor Total (Barrels)"]
["Line No.","Product Description",null,null,null,null,null,null,null,null,null,null,null,"Product No.",null,null,null,null,null,"Residential [b]",null,null,null,null,"Commercial/ Instutional ",null,null,null,null,null,null,null,null,null," Industrial [e]",null,null,null,null,"Maritime [f]",null,null,null,null,"Government Agencies",null,null,null,null,null,null,null,null,null,null,null,null,null,null,"Military [j]"]
[null,null,null,null,null,null,null,null,null,null,null,null,null,null,null,null,null,null,null,null,null,null,null,null,"Comm. Agriculture [c]",null,null,null,null,"Com./Inst. Non-Agriculture [d]",null,null,null,null,null,null,null,null,null,null,null,null,null,null,"Federal Non-Military [g]",null,null,null,null,"State [h]",null,null,null,null,"County [i]"]
[1,"Crude Oil",null,null,null,null,null,null,null,null,null,null,null,"001"]
[2,"Unleaded Gasoline Regular (no ethanol finished)",null,null,null,null,null,null,null,null,null,null,null,"002"]
[3,"Unleaded Gasoline Midgrade (no ethanol finished)",null,null,null,null,null,null,null,null,null,null,null,"003"]
[4,"Unleaded Gasoline Premium (no ethanol finished)",null,null,null,null,null,null,null,null,null,null,null,"004"]
[5,"Gasoline (E10) Regular",null,null,null,null,null,null,null,null,null,null,null,"005"]
[6,"Gasoline (E10) Midgrade",null,null,null,null,null,null,null,null,null,null,null,"006"]
[7,"Gasoline (E10) Premium",null,null,null,null,null,null,null,null,null,null,null,"007"]
[8,"HIBOB Regular",null,null,null,null,null,null,null,null,null,null,null,"008"]
[9,"HIBOB Premium",null,null,null,null,null,null,null,null,null,null,null,"009"]
[10,"Aviation",null,null,null,null,null,null,null,null,null,null,null,"010"]
[11,"Jet Kerosene, Non-bonded",null,null,null,null,null,null,null,null,null,null,null,"011"]
[12,"Jet Kerosene, Bonded",null,null,null,null,null,null,null,null,null,null,null,"012"]
[13,"Military Jet Fuel (JP5 and JP8)",null,null,null,null,null,null,null,null,null,null,null,"013"]
[14,"No. 2 Diesel Sulfur <= 15 ppm",null,null,null,null,null,null,null,null,null,null,null,"015"]
[15,"No. 2 Diesel 15 ppm < Sulfur <= 500 ppm",null,null,null,null,null,null,null,null,null,null,null,"016"]
[16,"No. 2 Diesel Sulfur > 500",null,null,null,null,null,null,null,null,null,null,null,"017"]
[17,"No. 2 Fuel Oil",null,null,null,null,null,null,null,null,null,null,null,"018"]
[18,"Residual Fuel Oil <= 1%",null,null,null,null,null,null,null,null,null,null,null,"021"]
[19,"Residual Fuel Oil > 1%",null,null,null,null,null,null,null,null,null,null,null,"022"]
[20,"Vacuum Gas Oil",null,null,null,null,null,null,null,null,null,null,null,"024"]
[21,"Intermediate Fuel Oil",null,null,null,null,null,null,null,null,null,null,null,"025"]
[22,"Asphalt",null,null,null,null,null,null,null,null,null,null,null,"029"]
[23,"Propane HD-5 (Consumer)",null,null,null,null,null,null,null,null,null,null,null,"030"]
[24,"Ethanol",null,null,null,null,null,null,null,null,null,null,null,"034"]
[25,"Biodiesel >95%",null,null,null,null,null,null,null,null,null,null,null,"036"]
[26,"Biodiesel <30%",null,null,null,null,null,null,null,null,null,null,null,"037"]
[27,"Synthetic Natural Gas",null,null,null,null,null,null,null,null,null,null,null,"038"]
[28,"Synthetic Natural Gas Feedstock",null,null,null,null,null,null,null,null,null,null,null,"039"]
[29,"Alkylate",null,null,null,null,null,null,null,null,null,null,null,"040"]
[30,"Reformate",null,null,null,null,null,null,null,null,null,null,null,"041"]
[31,"Motor Gasoline Blend Components",null,null,null,null,null,null,null,null,null,null,null,"048"]
[32,"Naphtha",null,null,null,null,null,null,null,null,null,null,null,"049"]
[33,"Biodiesel Feedstock",null,null,null,null,null,null,null,null,null,null,null,"054"]
[34,"Unfinished Oil (all other)",null,null,null,null,null,null,null,null,null,null,null,"058"]
[46,"OTHER (Not listed above): Specify below"]
[47,null,null,null,null,null,null,null,null,null,null,null,null,{"$f":"IF(B68>\" \",\"101\",\" \")","v":" "}]
[48,null,null,null,null,null,null,null,null,null,null,null,null,{"$f":"IF(B69>\" \",\"101\",\" \")","v":" "}]
[49,null,null,null,null,null,null,null,null,null,null,null,null,{"$f":"IF(B70>\" \",\"101\",\" \")","v":" "}]
[50,null,null,null,null,null,null,null,null,null,null,null,null,{"$f":"IF(B71>\" \",\"101\",\" \")","v":" "}]
[51,null,null,null,null,null,null,null,null,null,null,null,null,{"$f":"IF(B72>\" \",\"101\",\" \")","v":" "}]
[52,"TOTAL",null,null,null,null,null,null,null,null,null,null,null,null,{"$f":"IF(SUM(O33:S72)=0,\" \",SUM(O33:S72))","v":" "},null,null,null,null,{"$f":"IF(SUM(T33:X72)=0,\" \",SUM(T33:X72))","v":" "},null,null,null,null,{"$f":"IF(SUM(Y33:AC72)=0,\" \",SUM(Y33:AC72))","v":" "},null,null,null,null,{"$f":"IF(SUM(AD33:AH72)=0,\" \",SUM(AD33:AH72))","v":" "},null,null,null,null,{"$f":"IF(SUM(AI33:AM72)=0,\" \",SUM(AI33:AM72))","v":" "},null,null,null,null,{"$f":"IF(SUM(AN33:AR72)=0,\" \",SUM(AN33:AR72))","v":" "},null,null,null,null,{"$f":"IF(SUM(AS33:AW72)=0,\" \",SUM(AS33:AW72))","v":" "},null,null,null,null,{"$f":"IF(SUM(AX33:BB72)=0,\" \",SUM(AX33:BB72))","v":" "},null,null,null,null,{"$f":"IF(SUM(BC33:BG72)=0,\" \",SUM(BC33:BG72))","v":" "},null,null,null,null,{"$f":"IF(SUM(BH33:BL72)=0,\" \",SUM(BH33:BL72))","v":" "},null,null,null,null,{"$f":"IF(SUM(BM33:BQ72)=0,\" \",SUM(BM33:BQ72))","v":" "},null,null,null,null,{"$f":"IF(SUM(BR33:BV72)=0,\" \",SUM(BR33:BV72))","v":" "},null,null,null,null,{"$f":"IF(SUM(BW33:CA72)=0,\" \",SUM(BW33:CA72))","v":" "}]
[]
[]
[]
[]
[null,null,null,null,null,null,null,null,null,null,null,null,null,null,null,null,null,null,null,null,null,null,null,null,null,null,null,null,null,null,null,null,null,null,null,null,null,null,null,null,null,null,null,null,null,null,null,null,null,null,null,null,null,null,null,null,null,null,null,null,null,null,null,null,null,"Form code: ",null,null,{"$f":"J20","v":""},null,null,null,null,null,null,"DBEDT-130"]

{"sheet":"FormData","index":2,"n_rows":2,"n_cols":16,"rows_kept":2,"cut":false,"hidden":true,"merged":[]}
["form_code","dbedt","company_code","asset_id","facility_code","island_code","report_date","report_period","report_period_month","report_period_year","resubmission","total_products_reported","total_barrels_reported","total_receipts","total_distribution","total_inventory"]
[{"$f":"'(3) RW'!J20","v":""},130,{"$f":"'(3) RW'!J19","v":""},null,null,{"$f":"'(3) RW'!J22","v":""},{"$f":"'(3) RW'!J23","v":"//"},{"$f":"'(3) RW'!J24","v":"/"},{"$f":"MONTH(H2)","v":{"$error":"#VALUE!"}},{"$f":"YEAR(H2)","v":{"$error":"#VALUE!"}},{"$f":"Facility!B48","v":false}]

{"sheet":"RawData","index":3,"n_rows":2,"n_cols":16,"rows_kept":2,"cut":false,"hidden":true,"merged":[]}
["form_code","product","product_code","company_operated","residential","comm_agriculture","com_inst_non_agriculture","industrial","maritime","federal_non_military","state_id","county","military","other","wholesale_total","distributor_total"]
[{"$f":"_xlfn._xlws.SORT(_xlfn.UNIQUE(AllProductData!A2:P40),1,-1,FALSE)","v":""},"","","","","","","","","","","","","","",""]

{"sheet":"Facility","index":4,"n_rows":48,"n_cols":3,"rows_kept":48,"cut":false,"hidden":true,"merged":[]}
["Island"]
["Hawaii"]
["O'ahu"]
["Maui"]
["Kaua'i"]
["Moloka'i"]
["Lana'i"]
[]
[]
["Company Name","Company Short Name","Company Code"]
["Aloha Petroleum Ltd","Aloha",10002]
["B&E Petroleum","BE",10001]
["BIG ISLAND ENERGY CO., LLC dba AKANA PETROLEUM","BIEnergy/Akana",70001]
["Big Island Biodiesel","BigIslBio",70002]
["Chevron U.S.A. Inc.","Chevron",10012]
["GARLOW PETROLEUM INC.","Garlow",10004]
["Hawaiian Electric Co., Inc.","HECO",10008]
["Hawaii Fueling Facilities Corporation","HFFC",10003]
["Hawaii Petroleum","HIPetro",80001]
["Island Energy Services","IESD",10012]
["Island Petroleum Inc.","Island",50001]
["Kauai Petroleum Co. LTD","KIPetro",20001]
["LANAI OIL COMPANY, INC.","LanaiOil",60001]
["MAUI OIL COMPANY, INC.","MauiOil",30003]
["Maui Electric Company, Ltd.","MECO",30002]
["Mid Pac Petroleum LLC","MidPac",10005]
["Maui Petroleum","MIPetro",30001]
["OAHU PETROLEUM, INC.","OahuPetro",10009]
["Pacific Biodiesel Inc","PacBio",10006]
["Par Pacific","PAR",10013]
["Senter Petroleum Inc.","Senter",20002]
["Shell Oil Products, US","Shell",10007]
["Tesoro Hawaii Corporation ","Tesoro",10011]
["THE GAS COMPANY, LLC","TGC",10010]
[]
[]
["Zone","Region"]
["1","O'ahu"]
["2","Kaua'i"]
["3","Maui"]
["4"]
["5","Moloka'i"]
["6","Lana'i"]
["7","Hawaii"]
["8"]
[]
[]
["Resubmission?",false]

{"sheet":"AllProductData","index":5,"n_rows":40,"n_cols":16,"rows_kept":40,"cut":false,"hidden":true,"merged":[]}
["form_code","product","product_code","company_operated","residential","comm_agriculture","com_inst_non_agriculture","industrial","maritime","federal_non_military","state_id","county","military","other","wholesale_total","distributor_total"]
[{"$f":"IF(SUM('(3) RW'!O33:CA33)=0,\"\",'(3) RW'!$J$20)","v":""},{"$f":"IF(SUM('(3) RW'!O33:CA33)=0,\"\",('(3) RW'!B33 & \"\"))","v":""},{"$f":"IF(B2=\"\",\"\",'(3) RW'!N33)","v":""},{"$f":"IF('(3) RW'!O33>0,'(3) RW'!O33,\"\")","v":""},{"$f":"IF('(3) RW'!T33>0,'(3) RW'!T33,\"\")","v":""},{"$f":"IF('(3) RW'!Y33>0,'(3) RW'!Y33,\"\")","v":""},{"$f":"IF('(3) RW'!AD33>0,'(3) RW'!AD33,\"\")","v":""},{"$f":"IF('(3) RW'!AI33>0,'(3) RW'!AI33,\"\")","v":""},{"$f":"IF('(3) RW'!AN33>0,'(3) RW'!AN33,\"\")","v":""},{"$f":"IF('(3) RW'!AS33>0,'(3) RW'!AS33,\"\")","v":""},{"$f":"IF('(3) RW'!AX33>0,'(3) RW'!AX33,\"\")","v":""},{"$f":"IF('(3) RW'!BC33>0,'(3) RW'!BC33,\"\")","v":""},{"$f":"IF('(3) RW'!BH33>0,'(3) RW'!BH33,\"\")","v":""},{"$f":"IF('(3) RW'!BM33>0,'(3) RW'!BM33,\"\")","v":""},{"$f":"IF('(3) RW'!BR33>0,'(3) RW'!BR33,\"\")","v":""},{"$f":"IF('(3) RW'!BW33>0,'(3) RW'!BW33,\"\")","v":""}]
[{"$f":"IF(SUM('(3) RW'!O34:CA34)=0,\"\",'(3) RW'!$J$20)","v":""},{"$f":"IF(SUM('(3) RW'!O34:CA34)=0,\"\",('(3) RW'!B34 & \"\"))","v":""},{"$f":"IF(B3=\"\",\"\",'(3) RW'!N34)","v":""},{"$f":"IF('(3) RW'!O34>0,'(3) RW'!O34,\"\")","v":""},{"$f":"IF('(3) RW'!T34>0,'(3) RW'!T34,\"\")","v":""},{"$f":"IF('(3) RW'!Y34>0,'(3) RW'!Y34,\"\")","v":""},{"$f":"IF('(3) RW'!AD34>0,'(3) RW'!AD34,\"\")","v":""},{"$f":"IF('(3) RW'!AI34>0,'(3) RW'!AI34,\"\")","v":""},{"$f":"IF('(3) RW'!AN34>0,'(3) RW'!AN34,\"\")","v":""},{"$f":"IF('(3) RW'!AS34>0,'(3) RW'!AS34,\"\")","v":""},{"$f":"IF('(3) RW'!AX34>0,'(3) RW'!AX34,\"\")","v":""},{"$f":"IF('(3) RW'!BC34>0,'(3) RW'!BC34,\"\")","v":""},{"$f":"IF('(3) RW'!BH34>0,'(3) RW'!BH34,\"\")","v":""},{"$f":"IF('(3) RW'!BM34>0,'(3) RW'!BM34,\"\")","v":""},{"$f":"IF('(3) RW'!BR34>0,'(3) RW'!BR34,\"\")","v":""},{"$f":"IF('(3) RW'!BW34>0,'(3) RW'!BW34,\"\")","v":""}]
[{"$f":"IF(SUM('(3) RW'!O35:CA35)=0,\"\",'(3) RW'!$J$20)","v":""},{"$f":"IF(SUM('(3) RW'!O35:CA35)=0,\"\",('(3) RW'!B35 & \"\"))","v":""},{"$f":"IF(B4=\"\",\"\",'(3) RW'!N35)","v":""},{"$f":"IF('(3) RW'!O35>0,'(3) RW'!O35,\"\")","v":""},{"$f":"IF('(3) RW'!T35>0,'(3) RW'!T35,\"\")","v":""},{"$f":"IF('(3) RW'!Y35>0,'(3) RW'!Y35,\"\")","v":""},{"$f":"IF('(3) RW'!AD35>0,'(3) RW'!AD35,\"\")","v":""},{"$f":"IF('(3) RW'!AI35>0,'(3) RW'!AI35,\"\")","v":""},{"$f":"IF('(3) RW'!AN35>0,'(3) RW'!AN35,\"\")","v":""},{"$f":"IF('(3) RW'!AS35>0,'(3) RW'!AS35,\"\")","v":""},{"$f":"IF('(3) RW'!AX35>0,'(3) RW'!AX35,\"\")","v":""},{"$f":"IF('(3) RW'!BC35>0,'(3) RW'!BC35,\"\")","v":""},{"$f":"IF('(3) RW'!BH35>0,'(3) RW'!BH35,\"\")","v":""},{"$f":"IF('(3) RW'!BM35>0,'(3) RW'!BM35,\"\")","v":""},{"$f":"IF('(3) RW'!BR35>0,'(3) RW'!BR35,\"\")","v":""},{"$f":"IF('(3) RW'!BW35>0,'(3) RW'!BW35,\"\")","v":""}]
[{"$f":"IF(SUM('(3) RW'!O36:CA36)=0,\"\",'(3) RW'!$J$20)","v":""},{"$f":"IF(SUM('(3) RW'!O36:CA36)=0,\"\",('(3) RW'!B36 & \"\"))","v":""},{"$f":"IF(B5=\"\",\"\",'(3) RW'!N36)","v":""},{"$f":"IF('(3) RW'!O36>0,'(3) RW'!O36,\"\")","v":""},{"$f":"IF('(3) RW'!T36>0,'(3) RW'!T36,\"\")","v":""},{"$f":"IF('(3) RW'!Y36>0,'(3) RW'!Y36,\"\")","v":""},{"$f":"IF('(3) RW'!AD36>0,'(3) RW'!AD36,\"\")","v":""},{"$f":"IF('(3) RW'!AI36>0,'(3) RW'!AI36,\"\")","v":""},{"$f":"IF('(3) RW'!AN36>0,'(3) RW'!AN36,\"\")","v":""},{"$f":"IF('(3) RW'!AS36>0,'(3) RW'!AS36,\"\")","v":""},{"$f":"IF('(3) RW'!AX36>0,'(3) RW'!AX36,\"\")","v":""},{"$f":"IF('(3) RW'!BC36>0,'(3) RW'!BC36,\"\")","v":""},{"$f":"IF('(3) RW'!BH36>0,'(3) RW'!BH36,\"\")","v":""},{"$f":"IF('(3) RW'!BM36>0,'(3) RW'!BM36,\"\")","v":""},{"$f":"IF('(3) RW'!BR36>0,'(3) RW'!BR36,\"\")","v":""},{"$f":"IF('(3) RW'!BW36>0,'(3) RW'!BW36,\"\")","v":""}]
[{"$f":"IF(SUM('(3) RW'!O37:CA37)=0,\"\",'(3) RW'!$J$20)","v":""},{"$f":"IF(SUM('(3) RW'!O37:CA37)=0,\"\",('(3) RW'!B37 & \"\"))","v":""},{"$f":"IF(B6=\"\",\"\",'(3) RW'!N37)","v":""},{"$f":"IF('(3) RW'!O37>0,'(3) RW'!O37,\"\")","v":""},{"$f":"IF('(3) RW'!T37>0,'(3) RW'!T37,\"\")","v":""},{"$f":"IF('(3) RW'!Y37>0,'(3) RW'!Y37,\"\")","v":""},{"$f":"IF('(3) RW'!AD37>0,'(3) RW'!AD37,\"\")","v":""},{"$f":"IF('(3) RW'!AI37>0,'(3) RW'!AI37,\"\")","v":""},{"$f":"IF('(3) RW'!AN37>0,'(3) RW'!AN37,\"\")","v":""},{"$f":"IF('(3) RW'!AS37>0,'(3) RW'!AS37,\"\")","v":""},{"$f":"IF('(3) RW'!AX37>0,'(3) RW'!AX37,\"\")","v":""},{"$f":"IF('(3) RW'!BC37>0,'(3) RW'!BC37,\"\")","v":""},{"$f":"IF('(3) RW'!BH37>0,'(3) RW'!BH37,\"\")","v":""},{"$f":"IF('(3) RW'!BM37>0,'(3) RW'!BM37,\"\")","v":""},{"$f":"IF('(3) RW'!BR37>0,'(3) RW'!BR37,\"\")","v":""},{"$f":"IF('(3) RW'!BW37>0,'(3) RW'!BW37,\"\")","v":""}]
[{"$f":"IF(SUM('(3) RW'!O38:CA38)=0,\"\",'(3) RW'!$J$20)","v":""},{"$f":"IF(SUM('(3) RW'!O38:CA38)=0,\"\",('(3) RW'!B38 & \"\"))","v":""},{"$f":"IF(B7=\"\",\"\",'(3) RW'!N38)","v":""},{"$f":"IF('(3) RW'!O38>0,'(3) RW'!O38,\"\")","v":""},{"$f":"IF('(3) RW'!T38>0,'(3) RW'!T38,\"\")","v":""},{"$f":"IF('(3) RW'!Y38>0,'(3) RW'!Y38,\"\")","v":""},{"$f":"IF('(3) RW'!AD38>0,'(3) RW'!AD38,\"\")","v":""},{"$f":"IF('(3) RW'!AI38>0,'(3) RW'!AI38,\"\")","v":""},{"$f":"IF('(3) RW'!AN38>0,'(3) RW'!AN38,\"\")","v":""},{"$f":"IF('(3) RW'!AS38>0,'(3) RW'!AS38,\"\")","v":""},{"$f":"IF('(3) RW'!AX38>0,'(3) RW'!AX38,\"\")","v":""},{"$f":"IF('(3) RW'!BC38>0,'(3) RW'!BC38,\"\")","v":""},{"$f":"IF('(3) RW'!BH38>0,'(3) RW'!BH38,\"\")","v":""},{"$f":"IF('(3) RW'!BM38>0,'(3) RW'!BM38,\"\")","v":""},{"$f":"IF('(3) RW'!BR38>0,'(3) RW'!BR38,\"\")","v":""},{"$f":"IF('(3) RW'!BW38>0,'(3) RW'!BW38,\"\")","v":""}]
[{"$f":"IF(SUM('(3) RW'!O39:CA39)=0,\"\",'(3) RW'!$J$20)","v":""},{"$f":"IF(SUM('(3) RW'!O39:CA39)=0,\"\",('(3) RW'!B39 & \"\"))","v":""},{"$f":"IF(B8=\"\",\"\",'(3) RW'!N39)","v":""},{"$f":"IF('(3) RW'!O39>0,'(3) RW'!O39,\"\")","v":""},{"$f":"IF('(3) RW'!T39>0,'(3) RW'!T39,\"\")","v":""},{"$f":"IF('(3) RW'!Y39>0,'(3) RW'!Y39,\"\")","v":""},{"$f":"IF('(3) RW'!AD39>0,'(3) RW'!AD39,\"\")","v":""},{"$f":"IF('(3) RW'!AI39>0,'(3) RW'!AI39,\"\")","v":""},{"$f":"IF('(3) RW'!AN39>0,'(3) RW'!AN39,\"\")","v":""},{"$f":"IF('(3) RW'!AS39>0,'(3) RW'!AS39,\"\")","v":""},{"$f":"IF('(3) RW'!AX39>0,'(3) RW'!AX39,\"\")","v":""},{"$f":"IF('(3) RW'!BC39>0,'(3) RW'!BC39,\"\")","v":""},{"$f":"IF('(3) RW'!BH39>0,'(3) RW'!BH39,\"\")","v":""},{"$f":"IF('(3) RW'!BM39>0,'(3) RW'!BM39,\"\")","v":""},{"$f":"IF('(3) RW'!BR39>0,'(3) RW'!BR39,\"\")","v":""},{"$f":"IF('(3) RW'!BW39>0,'(3) RW'!BW39,\"\")","v":""}]
[{"$f":"IF(SUM('(3) RW'!O40:CA40)=0,\"\",'(3) RW'!$J$20)","v":""},{"$f":"IF(SUM('(3) RW'!O40:CA40)=0,\"\",('(3) RW'!B40 & \"\"))","v":""},{"$f":"IF(B9=\"\",\"\",'(3) RW'!N40)","v":""},{"$f":"IF('(3) RW'!O40>0,'(3) RW'!O40,\"\")","v":""},{"$f":"IF('(3) RW'!T40>0,'(3) RW'!T40,\"\")","v":""},{"$f":"IF('(3) RW'!Y40>0,'(3) RW'!Y40,\"\")","v":""},{"$f":"IF('(3) RW'!AD40>0,'(3) RW'!AD40,\"\")","v":""},{"$f":"IF('(3) RW'!AI40>0,'(3) RW'!AI40,\"\")","v":""},{"$f":"IF('(3) RW'!AN40>0,'(3) RW'!AN40,\"\")","v":""},{"$f":"IF('(3) RW'!AS40>0,'(3) RW'!AS40,\"\")","v":""},{"$f":"IF('(3) RW'!AX40>0,'(3) RW'!AX40,\"\")","v":""},{"$f":"IF('(3) RW'!BC40>0,'(3) RW'!BC40,\"\")","v":""},{"$f":"IF('(3) RW'!BH40>0,'(3) RW'!BH40,\"\")","v":""},{"$f":"IF('(3) RW'!BM40>0,'(3) RW'!BM40,\"\")","v":""},{"$f":"IF('(3) RW'!BR40>0,'(3) RW'!BR40,\"\")","v":""},{"$f":"IF('(3) RW'!BW40>0,'(3) RW'!BW40,\"\")","v":""}]
[{"$f":"IF(SUM('(3) RW'!O41:CA41)=0,\"\",'(3) RW'!$J$20)","v":""},{"$f":"IF(SUM('(3) RW'!O41:CA41)=0,\"\",('(3) RW'!B41 & \"\"))","v":""},{"$f":"IF(B10=\"\",\"\",'(3) RW'!N41)","v":""},{"$f":"IF('(3) RW'!O41>0,'(3) RW'!O41,\"\")","v":""},{"$f":"IF('(3) RW'!T41>0,'(3) RW'!T41,\"\")","v":""},{"$f":"IF('(3) RW'!Y41>0,'(3) RW'!Y41,\"\")","v":""},{"$f":"IF('(3) RW'!AD41>0,'(3) RW'!AD41,\"\")","v":""},{"$f":"IF('(3) RW'!AI41>0,'(3) RW'!AI41,\"\")","v":""},{"$f":"IF('(3) RW'!AN41>0,'(3) RW'!AN41,\"\")","v":""},{"$f":"IF('(3) RW'!AS41>0,'(3) RW'!AS41,\"\")","v":""},{"$f":"IF('(3) RW'!AX41>0,'(3) RW'!AX41,\"\")","v":""},{"$f":"IF('(3) RW'!BC41>0,'(3) RW'!BC41,\"\")","v":""},{"$f":"IF('(3) RW'!BH41>0,'(3) RW'!BH41,\"\")","v":""},{"$f":"IF('(3) RW'!BM41>0,'(3) RW'!BM41,\"\")","v":""},{"$f":"IF('(3) RW'!BR41>0,'(3) RW'!BR41,\"\")","v":""},{"$f":"IF('(3) RW'!BW41>0,'(3) RW'!BW41,\"\")","v":""}]
[{"$f":"IF(SUM('(3) RW'!O42:CA42)=0,\"\",'(3) RW'!$J$20)","v":""},{"$f":"IF(SUM('(3) RW'!O42:CA42)=0,\"\",('(3) RW'!B42 & \"\"))","v":""},{"$f":"IF(B11=\"\",\"\",'(3) RW'!N42)","v":""},{"$f":"IF('(3) RW'!O42>0,'(3) RW'!O42,\"\")","v":""},{"$f":"IF('(3) RW'!T42>0,'(3) RW'!T42,\"\")","v":""},{"$f":"IF('(3) RW'!Y42>0,'(3) RW'!Y42,\"\")","v":""},{"$f":"IF('(3) RW'!AD42>0,'(3) RW'!AD42,\"\")","v":""},{"$f":"IF('(3) RW'!AI42>0,'(3) RW'!AI42,\"\")","v":""},{"$f":"IF('(3) RW'!AN42>0,'(3) RW'!AN42,\"\")","v":""},{"$f":"IF('(3) RW'!AS42>0,'(3) RW'!AS42,\"\")","v":""},{"$f":"IF('(3) RW'!AX42>0,'(3) RW'!AX42,\"\")","v":""},{"$f":"IF('(3) RW'!BC42>0,'(3) RW'!BC42,\"\")","v":""},{"$f":"IF('(3) RW'!BH42>0,'(3) RW'!BH42,\"\")","v":""},{"$f":"IF('(3) RW'!BM42>0,'(3) RW'!BM42,\"\")","v":""},{"$f":"IF('(3) RW'!BR42>0,'(3) RW'!BR42,\"\")","v":""},{"$f":"IF('(3) RW'!BW42>0,'(3) RW'!BW42,\"\")","v":""}]
[{"$f":"IF(SUM('(3) RW'!O43:CA43)=0,\"\",'(3) RW'!$J$20)","v":""},{"$f":"IF(SUM('(3) RW'!O43:CA43)=0,\"\",('(3) RW'!B43 & \"\"))","v":""},{"$f":"IF(B12=\"\",\"\",'(3) RW'!N43)","v":""},{"$f":"IF('(3) RW'!O43>0,'(3) RW'!O43,\"\")","v":""},{"$f":"IF('(3) RW'!T43>0,'(3) RW'!T43,\"\")","v":""},{"$f":"IF('(3) RW'!Y43>0,'(3) RW'!Y43,\"\")","v":""},{"$f":"IF('(3) RW'!AD43>0,'(3) RW'!AD43,\"\")","v":""},{"$f":"IF('(3) RW'!AI43>0,'(3) RW'!AI43,\"\")","v":""},{"$f":"IF('(3) RW'!AN43>0,'(3) RW'!AN43,\"\")","v":""},{"$f":"IF('(3) RW'!AS43>0,'(3) RW'!AS43,\"\")","v":""},{"$f":"IF('(3) RW'!AX43>0,'(3) RW'!AX43,\"\")","v":""},{"$f":"IF('(3) RW'!BC43>0,'(3) RW'!BC43,\"\")","v":""},{"$f":"IF('(3) RW'!BH43>0,'(3) RW'!BH43,\"\")","v":""},{"$f":"IF('(3) RW'!BM43>0,'(3) RW'!BM43,\"\")","v":""},{"$f":"IF('(3) RW'!BR43>0,'(3) RW'!BR43,\"\")","v":""},{"$f":"IF('(3) RW'!BW43>0,'(3) RW'!BW43,\"\")","v":""}]
[{"$f":"IF(SUM('(3) RW'!O44:CA44)=0,\"\",'(3) RW'!$J$20)","v":""},{"$f":"IF(SUM('(3) RW'!O44:CA44)=0,\"\",('(3) RW'!B44 & \"\"))","v":""},{"$f":"IF(B13=\"\",\"\",'(3) RW'!N44)","v":""},{"$f":"IF('(3) RW'!O44>0,'(3) RW'!O44,\"\")","v":""},{"$f":"IF('(3) RW'!T44>0,'(3) RW'!T44,\"\")","v":""},{"$f":"IF('(3) RW'!Y44>0,'(3) RW'!Y44,\"\")","v":""},{"$f":"IF('(3) RW'!AD44>0,'(3) RW'!AD44,\"\")","v":""},{"$f":"IF('(3) RW'!AI44>0,'(3) RW'!AI44,\"\")","v":""},{"$f":"IF('(3) RW'!AN44>0,'(3) RW'!AN44,\"\")","v":""},{"$f":"IF('(3) RW'!AS44>0,'(3) RW'!AS44,\"\")","v":""},{"$f":"IF('(3) RW'!AX44>0,'(3) RW'!AX44,\"\")","v":""},{"$f":"IF('(3) RW'!BC44>0,'(3) RW'!BC44,\"\")","v":""},{"$f":"IF('(3) RW'!BH44>0,'(3) RW'!BH44,\"\")","v":""},{"$f":"IF('(3) RW'!BM44>0,'(3) RW'!BM44,\"\")","v":""},{"$f":"IF('(3) RW'!BR44>0,'(3) RW'!BR44,\"\")","v":""},{"$f":"IF('(3) RW'!BW44>0,'(3) RW'!BW44,\"\")","v":""}]
[{"$f":"IF(SUM('(3) RW'!O45:CA45)=0,\"\",'(3) RW'!$J$20)","v":""},{"$f":"IF(SUM('(3) RW'!O45:CA45)=0,\"\",('(3) RW'!B45 & \"\"))","v":""},{"$f":"IF(B14=\"\",\"\",'(3) RW'!N45)","v":""},{"$f":"IF('(3) RW'!O45>0,'(3) RW'!O45,\"\")","v":""},{"$f":"IF('(3) RW'!T45>0,'(3) RW'!T45,\"\")","v":""},{"$f":"IF('(3) RW'!Y45>0,'(3) RW'!Y45,\"\")","v":""},{"$f":"IF('(3) RW'!AD45>0,'(3) RW'!AD45,\"\")","v":""},{"$f":"IF('(3) RW'!AI45>0,'(3) RW'!AI45,\"\")","v":""},{"$f":"IF('(3) RW'!AN45>0,'(3) RW'!AN45,\"\")","v":""},{"$f":"IF('(3) RW'!AS45>0,'(3) RW'!AS45,\"\")","v":""},{"$f":"IF('(3) RW'!AX45>0,'(3) RW'!AX45,\"\")","v":""},{"$f":"IF('(3) RW'!BC45>0,'(3) RW'!BC45,\"\")","v":""},{"$f":"IF('(3) RW'!BH45>0,'(3) RW'!BH45,\"\")","v":""},{"$f":"IF('(3) RW'!BM45>0,'(3) RW'!BM45,\"\")","v":""},{"$f":"IF('(3) RW'!BR45>0,'(3) RW'!BR45,\"\")","v":""},{"$f":"IF('(3) RW'!BW45>0,'(3) RW'!BW45,\"\")","v":""}]
[{"$f":"IF(SUM('(3) RW'!O46:CA46)=0,\"\",'(3) RW'!$J$20)","v":""},{"$f":"IF(SUM('(3) RW'!O46:CA46)=0,\"\",('(3) RW'!B46 & \"\"))","v":""},{"$f":"IF(B15=\"\",\"\",'(3) RW'!N46)","v":""},{"$f":"IF('(3) RW'!O46>0,'(3) RW'!O46,\"\")","v":""},{"$f":"IF('(3) RW'!T46>0,'(3) RW'!T46,\"\")","v":""},{"$f":"IF('(3) RW'!Y46>0,'(3) RW'!Y46,\"\")","v":""},{"$f":"IF('(3) RW'!AD46>0,'(3) RW'!AD46,\"\")","v":""},{"$f":"IF('(3) RW'!AI46>0,'(3) RW'!AI46,\"\")","v":""},{"$f":"IF('(3) RW'!AN46>0,'(3) RW'!AN46,\"\")","v":""},{"$f":"IF('(3) RW'!AS46>0,'(3) RW'!AS46,\"\")","v":""},{"$f":"IF('(3) RW'!AX46>0,'(3) RW'!AX46,\"\")","v":""},{"$f":"IF('(3) RW'!BC46>0,'(3) RW'!BC46,\"\")","v":""},{"$f":"IF('(3) RW'!BH46>0,'(3) RW'!BH46,\"\")","v":""},{"$f":"IF('(3) RW'!BM46>0,'(3) RW'!BM46,\"\")","v":""},{"$f":"IF('(3) RW'!BR46>0,'(3) RW'!BR46,\"\")","v":""},{"$f":"IF('(3) RW'!BW46>0,'(3) RW'!BW46,\"\")","v":""}]
[{"$f":"IF(SUM('(3) RW'!O47:CA47)=0,\"\",'(3) RW'!$J$20)","v":""},{"$f":"IF(SUM('(3) RW'!O47:CA47)=0,\"\",('(3) RW'!B47 & \"\"))","v":""},{"$f":"IF(B16=\"\",\"\",'(3) RW'!N47)","v":""},{"$f":"IF('(3) RW'!O47>0,'(3) RW'!O47,\"\")","v":""},{"$f":"IF('(3) RW'!T47>0,'(3) RW'!T47,\"\")","v":""},{"$f":"IF('(3) RW'!Y47>0,'(3) RW'!Y47,\"\")","v":""},{"$f":"IF('(3) RW'!AD47>0,'(3) RW'!AD47,\"\")","v":""},{"$f":"IF('(3) RW'!AI47>0,'(3) RW'!AI47,\"\")","v":""},{"$f":"IF('(3) RW'!AN47>0,'(3) RW'!AN47,\"\")","v":""},{"$f":"IF('(3) RW'!AS47>0,'(3) RW'!AS47,\"\")","v":""},{"$f":"IF('(3) RW'!AX47>0,'(3) RW'!AX47,\"\")","v":""},{"$f":"IF('(3) RW'!BC47>0,'(3) RW'!BC47,\"\")","v":""},{"$f":"IF('(3) RW'!BH47>0,'(3) RW'!BH47,\"\")","v":""},{"$f":"IF('(3) RW'!BM47>0,'(3) RW'!BM47,\"\")","v":""},{"$f":"IF('(3) RW'!BR47>0,'(3) RW'!BR47,\"\")","v":""},{"$f":"IF('(3) RW'!BW47>0,'(3) RW'!BW47,\"\")","v":""}]
[{"$f":"IF(SUM('(3) RW'!O48:CA48)=0,\"\",'(3) RW'!$J$20)","v":""},{"$f":"IF(SUM('(3) RW'!O48:CA48)=0,\"\",('(3) RW'!B48 & \"\"))","v":""},{"$f":"IF(B17=\"\",\"\",'(3) RW'!N48)","v":""},{"$f":"IF('(3) RW'!O48>0,'(3) RW'!O48,\"\")","v":""},{"$f":"IF('(3) RW'!T48>0,'(3) RW'!T48,\"\")","v":""},{"$f":"IF('(3) RW'!Y48>0,'(3) RW'!Y48,\"\")","v":""},{"$f":"IF('(3) RW'!AD48>0,'(3) RW'!AD48,\"\")","v":""},{"$f":"IF('(3) RW'!AI48>0,'(3) RW'!AI48,\"\")","v":""},{"$f":"IF('(3) RW'!AN48>0,'(3) RW'!AN48,\"\")","v":""},{"$f":"IF('(3) RW'!AS48>0,'(3) RW'!AS48,\"\")","v":""},{"$f":"IF('(3) RW'!AX48>0,'(3) RW'!AX48,\"\")","v":""},{"$f":"IF('(3) RW'!BC48>0,'(3) RW'!BC48,\"\")","v":""},{"$f":"IF('(3) RW'!BH48>0,'(3) RW'!BH48,\"\")","v":""},{"$f":"IF('(3) RW'!BM48>0,'(3) RW'!BM48,\"\")","v":""},{"$f":"IF('(3) RW'!BR48>0,'(3) RW'!BR48,\"\")","v":""},{"$f":"IF('(3) RW'!BW48>0,'(3) RW'!BW48,\"\")","v":""}]
[{"$f":"IF(SUM('(3) RW'!O49:CA49)=0,\"\",'(3) RW'!$J$20)","v":""},{"$f":"IF(SUM('(3) RW'!O49:CA49)=0,\"\",('(3) RW'!B49 & \"\"))","v":""},{"$f":"IF(B18=\"\",\"\",'(3) RW'!N49)","v":""},{"$f":"IF('(3) RW'!O49>0,'(3) RW'!O49,\"\")","v":""},{"$f":"IF('(3) RW'!T49>0,'(3) RW'!T49,\"\")","v":""},{"$f":"IF('(3) RW'!Y49>0,'(3) RW'!Y49,\"\")","v":""},{"$f":"IF('(3) RW'!AD49>0,'(3) RW'!AD49,\"\")","v":""},{"$f":"IF('(3) RW'!AI49>0,'(3) RW'!AI49,\"\")","v":""},{"$f":"IF('(3) RW'!AN49>0,'(3) RW'!AN49,\"\")","v":""},{"$f":"IF('(3) RW'!AS49>0,'(3) RW'!AS49,\"\")","v":""},{"$f":"IF('(3) RW'!AX49>0,'(3) RW'!AX49,\"\")","v":""},{"$f":"IF('(3) RW'!BC49>0,'(3) RW'!BC49,\"\")","v":""},{"$f":"IF('(3) RW'!BH49>0,'(3) RW'!BH49,\"\")","v":""},{"$f":"IF('(3) RW'!BM49>0,'(3) RW'!BM49,\"\")","v":""},{"$f":"IF('(3) RW'!BR49>0,'(3) RW'!BR49,\"\")","v":""},{"$f":"IF('(3) RW'!BW49>0,'(3) RW'!BW49,\"\")","v":""}]
[{"$f":"IF(SUM('(3) RW'!O50:CA50)=0,\"\",'(3) RW'!$J$20)","v":""},{"$f":"IF(SUM('(3) RW'!O50:CA50)=0,\"\",('(3) RW'!B50 & \"\"))","v":""},{"$f":"IF(B19=\"\",\"\",'(3) RW'!N50)","v":""},{"$f":"IF('(3) RW'!O50>0,'(3) RW'!O50,\"\")","v":""},{"$f":"IF('(3) RW'!T50>0,'(3) RW'!T50,\"\")","v":""},{"$f":"IF('(3) RW'!Y50>0,'(3) RW'!Y50,\"\")","v":""},{"$f":"IF('(3) RW'!AD50>0,'(3) RW'!AD50,\"\")","v":""},{"$f":"IF('(3) RW'!AI50>0,'(3) RW'!AI50,\"\")","v":""},{"$f":"IF('(3) RW'!AN50>0,'(3) RW'!AN50,\"\")","v":""},{"$f":"IF('(3) RW'!AS50>0,'(3) RW'!AS50,\"\")","v":""},{"$f":"IF('(3) RW'!AX50>0,'(3) RW'!AX50,\"\")","v":""},{"$f":"IF('(3) RW'!BC50>0,'(3) RW'!BC50,\"\")","v":""},{"$f":"IF('(3) RW'!BH50>0,'(3) RW'!BH50,\"\")","v":""},{"$f":"IF('(3) RW'!BM50>0,'(3) RW'!BM50,\"\")","v":""},{"$f":"IF('(3) RW'!BR50>0,'(3) RW'!BR50,\"\")","v":""},{"$f":"IF('(3) RW'!BW50>0,'(3) RW'!BW50,\"\")","v":""}]
[{"$f":"IF(SUM('(3) RW'!O51:CA51)=0,\"\",'(3) RW'!$J$20)","v":""},{"$f":"IF(SUM('(3) RW'!O51:CA51)=0,\"\",('(3) RW'!B51 & \"\"))","v":""},{"$f":"IF(B20=\"\",\"\",'(3) RW'!N51)","v":""},{"$f":"IF('(3) RW'!O51>0,'(3) RW'!O51,\"\")","v":""},{"$f":"IF('(3) RW'!T51>0,'(3) RW'!T51,\"\")","v":""},{"$f":"IF('(3) RW'!Y51>0,'(3) RW'!Y51,\"\")","v":""},{"$f":"IF('(3) RW'!AD51>0,'(3) RW'!AD51,\"\")","v":""},{"$f":"IF('(3) RW'!AI51>0,'(3) RW'!AI51,\"\")","v":""},{"$f":"IF('(3) RW'!AN51>0,'(3) RW'!AN51,\"\")","v":""},{"$f":"IF('(3) RW'!AS51>0,'(3) RW'!AS51,\"\")","v":""},{"$f":"IF('(3) RW'!AX51>0,'(3) RW'!AX51,\"\")","v":""},{"$f":"IF('(3) RW'!BC51>0,'(3) RW'!BC51,\"\")","v":""},{"$f":"IF('(3) RW'!BH51>0,'(3) RW'!BH51,\"\")","v":""},{"$f":"IF('(3) RW'!BM51>0,'(3) RW'!BM51,\"\")","v":""},{"$f":"IF('(3) RW'!BR51>0,'(3) RW'!BR51,\"\")","v":""},{"$f":"IF('(3) RW'!BW51>0,'(3) RW'!BW51,\"\")","v":""}]
[{"$f":"IF(SUM('(3) RW'!O52:CA52)=0,\"\",'(3) RW'!$J$20)","v":""},{"$f":"IF(SUM('(3) RW'!O52:CA52)=0,\"\",('(3) RW'!B52 & \"\"))","v":""},{"$f":"IF(B21=\"\",\"\",'(3) RW'!N52)","v":""},{"$f":"IF('(3) RW'!O52>0,'(3) RW'!O52,\"\")","v":""},{"$f":"IF('(3) RW'!T52>0,'(3) RW'!T52,\"\")","v":""},{"$f":"IF('(3) RW'!Y52>0,'(3) RW'!Y52,\"\")","v":""},{"$f":"IF('(3) RW'!AD52>0,'(3) RW'!AD52,\"\")","v":""},{"$f":"IF('(3) RW'!AI52>0,'(3) RW'!AI52,\"\")","v":""},{"$f":"IF('(3) RW'!AN52>0,'(3) RW'!AN52,\"\")","v":""},{"$f":"IF('(3) RW'!AS52>0,'(3) RW'!AS52,\"\")","v":""},{"$f":"IF('(3) RW'!AX52>0,'(3) RW'!AX52,\"\")","v":""},{"$f":"IF('(3) RW'!BC52>0,'(3) RW'!BC52,\"\")","v":""},{"$f":"IF('(3) RW'!BH52>0,'(3) RW'!BH52,\"\")","v":""},{"$f":"IF('(3) RW'!BM52>0,'(3) RW'!BM52,\"\")","v":""},{"$f":"IF('(3) RW'!BR52>0,'(3) RW'!BR52,\"\")","v":""},{"$f":"IF('(3) RW'!BW52>0,'(3) RW'!BW52,\"\")","v":""}]
[{"$f":"IF(SUM('(3) RW'!O53:CA53)=0,\"\",'(3) RW'!$J$20)","v":""},{"$f":"IF(SUM('(3) RW'!O53:CA53)=0,\"\",('(3) RW'!B53 & \"\"))","v":""},{"$f":"IF(B22=\"\",\"\",'(3) RW'!N53)","v":""},{"$f":"IF('(3) RW'!O53>0,'(3) RW'!O53,\"\")","v":""},{"$f":"IF('(3) RW'!T53>0,'(3) RW'!T53,\"\")","v":""},{"$f":"IF('(3) RW'!Y53>0,'(3) RW'!Y53,\"\")","v":""},{"$f":"IF('(3) RW'!AD53>0,'(3) RW'!AD53,\"\")","v":""},{"$f":"IF('(3) RW'!AI53>0,'(3) RW'!AI53,\"\")","v":""},{"$f":"IF('(3) RW'!AN53>0,'(3) RW'!AN53,\"\")","v":""},{"$f":"IF('(3) RW'!AS53>0,'(3) RW'!AS53,\"\")","v":""},{"$f":"IF('(3) RW'!AX53>0,'(3) RW'!AX53,\"\")","v":""},{"$f":"IF('(3) RW'!BC53>0,'(3) RW'!BC53,\"\")","v":""},{"$f":"IF('(3) RW'!BH53>0,'(3) RW'!BH53,\"\")","v":""},{"$f":"IF('(3) RW'!BM53>0,'(3) RW'!BM53,\"\")","v":""},{"$f":"IF('(3) RW'!BR53>0,'(3) RW'!BR53,\"\")","v":""},{"$f":"IF('(3) RW'!BW53>0,'(3) RW'!BW53,\"\")","v":""}]
[{"$f":"IF(SUM('(3) RW'!O54:CA54)=0,\"\",'(3) RW'!$J$20)","v":""},{"$f":"IF(SUM('(3) RW'!O54:CA54)=0,\"\",('(3) RW'!B54 & \"\"))","v":""},{"$f":"IF(B23=\"\",\"\",'(3) RW'!N54)","v":""},{"$f":"IF('(3) RW'!O54>0,'(3) RW'!O54,\"\")","v":""},{"$f":"IF('(3) RW'!T54>0,'(3) RW'!T54,\"\")","v":""},{"$f":"IF('(3) RW'!Y54>0,'(3) RW'!Y54,\"\")","v":""},{"$f":"IF('(3) RW'!AD54>0,'(3) RW'!AD54,\"\")","v":""},{"$f":"IF('(3) RW'!AI54>0,'(3) RW'!AI54,\"\")","v":""},{"$f":"IF('(3) RW'!AN54>0,'(3) RW'!AN54,\"\")","v":""},{"$f":"IF('(3) RW'!AS54>0,'(3) RW'!AS54,\"\")","v":""},{"$f":"IF('(3) RW'!AX54>0,'(3) RW'!AX54,\"\")","v":""},{"$f":"IF('(3) RW'!BC54>0,'(3) RW'!BC54,\"\")","v":""},{"$f":"IF('(3) RW'!BH54>0,'(3) RW'!BH54,\"\")","v":""},{"$f":"IF('(3) RW'!BM54>0,'(3) RW'!BM54,\"\")","v":""},{"$f":"IF('(3) RW'!BR54>0,'(3) RW'!BR54,\"\")","v":""},{"$f":"IF('(3) RW'!BW54>0,'(3) RW'!BW54,\"\")","v":""}]
[{"$f":"IF(SUM('(3) RW'!O55:CA55)=0,\"\",'(3) RW'!$J$20)","v":""},{"$f":"IF(SUM('(3) RW'!O55:CA55)=0,\"\",('(3) RW'!B55 & \"\"))","v":""},{"$f":"IF(B24=\"\",\"\",'(3) RW'!N55)","v":""},{"$f":"IF('(3) RW'!O55>0,'(3) RW'!O55,\"\")","v":""},{"$f":"IF('(3) RW'!T55>0,'(3) RW'!T55,\"\")","v":""},{"$f":"IF('(3) RW'!Y55>0,'(3) RW'!Y55,\"\")","v":""},{"$f":"IF('(3) RW'!AD55>0,'(3) RW'!AD55,\"\")","v":""},{"$f":"IF('(3) RW'!AI55>0,'(3) RW'!AI55,\"\")","v":""},{"$f":"IF('(3) RW'!AN55>0,'(3) RW'!AN55,\"\")","v":""},{"$f":"IF('(3) RW'!AS55>0,'(3) RW'!AS55,\"\")","v":""},{"$f":"IF('(3) RW'!AX55>0,'(3) RW'!AX55,\"\")","v":""},{"$f":"IF('(3) RW'!BC55>0,'(3) RW'!BC55,\"\")","v":""},{"$f":"IF('(3) RW'!BH55>0,'(3) RW'!BH55,\"\")","v":""},{"$f":"IF('(3) RW'!BM55>0,'(3) RW'!BM55,\"\")","v":""},{"$f":"IF('(3) RW'!BR55>0,'(3) RW'!BR55,\"\")","v":""},{"$f":"IF('(3) RW'!BW55>0,'(3) RW'!BW55,\"\")","v":""}]
[{"$f":"IF(SUM('(3) RW'!O56:CA56)=0,\"\",'(3) RW'!$J$20)","v":""},{"$f":"IF(SUM('(3) RW'!O56:CA56)=0,\"\",('(3) RW'!B56 & \"\"))","v":""},{"$f":"IF(B25=\"\",\"\",'(3) RW'!N56)","v":""},{"$f":"IF('(3) RW'!O56>0,'(3) RW'!O56,\"\")","v":""},{"$f":"IF('(3) RW'!T56>0,'(3) RW'!T56,\"\")","v":""},{"$f":"IF('(3) RW'!Y56>0,'(3) RW'!Y56,\"\")","v":""},{"$f":"IF('(3) RW'!AD56>0,'(3) RW'!AD56,\"\")","v":""},{"$f":"IF('(3) RW'!AI56>0,'(3) RW'!AI56,\"\")","v":""},{"$f":"IF('(3) RW'!AN56>0,'(3) RW'!AN56,\"\")","v":""},{"$f":"IF('(3) RW'!AS56>0,'(3) RW'!AS56,\"\")","v":""},{"$f":"IF('(3) RW'!AX56>0,'(3) RW'!AX56,\"\")","v":""},{"$f":"IF('(3) RW'!BC56>0,'(3) RW'!BC56,\"\")","v":""},{"$f":"IF('(3) RW'!BH56>0,'(3) RW'!BH56,\"\")","v":""},{"$f":"IF('(3) RW'!BM56>0,'(3) RW'!BM56,\"\")","v":""},{"$f":"IF('(3) RW'!BR56>0,'(3) RW'!BR56,\"\")","v":""},{"$f":"IF('(3) RW'!BW56>0,'(3) RW'!BW56,\"\")","v":""}]
[{"$f":"IF(SUM('(3) RW'!O57:CA57)=0,\"\",'(3) RW'!$J$20)","v":""},{"$f":"IF(SUM('(3) RW'!O57:CA57)=0,\"\",('(3) RW'!B57 & \"\"))","v":""},{"$f":"IF(B26=\"\",\"\",'(3) RW'!N57)","v":""},{"$f":"IF('(3) RW'!O57>0,'(3) RW'!O57,\"\")","v":""},{"$f":"IF('(3) RW'!T57>0,'(3) RW'!T57,\"\")","v":""},{"$f":"IF('(3) RW'!Y57>0,'(3) RW'!Y57,\"\")","v":""},{"$f":"IF('(3) RW'!AD57>0,'(3) RW'!AD57,\"\")","v":""},{"$f":"IF('(3) RW'!AI57>0,'(3) RW'!AI57,\"\")","v":""},{"$f":"IF('(3) RW'!AN57>0,'(3) RW'!AN57,\"\")","v":""},{"$f":"IF('(3) RW'!AS57>0,'(3) RW'!AS57,\"\")","v":""},{"$f":"IF('(3) RW'!AX57>0,'(3) RW'!AX57,\"\")","v":""},{"$f":"IF('(3) RW'!BC57>0,'(3) RW'!BC57,\"\")","v":""},{"$f":"IF('(3) RW'!BH57>0,'(3) RW'!BH57,\"\")","v":""},{"$f":"IF('(3) RW'!BM57>0,'(3) RW'!BM57,\"\")","v":""},{"$f":"IF('(3) RW'!BR57>0,'(3) RW'!BR57,\"\")","v":""},{"$f":"IF('(3) RW'!BW57>0,'(3) RW'!BW57,\"\")","v":""}]
[{"$f":"IF(SUM('(3) RW'!O58:CA58)=0,\"\",'(3) RW'!$J$20)","v":""},{"$f":"IF(SUM('(3) RW'!O58:CA58)=0,\"\",('(3) RW'!B58 & \"\"))","v":""},{"$f":"IF(B27=\"\",\"\",'(3) RW'!N58)","v":""},{"$f":"IF('(3) RW'!O58>0,'(3) RW'!O58,\"\")","v":""},{"$f":"IF('(3) RW'!T58>0,'(3) RW'!T58,\"\")","v":""},{"$f":"IF('(3) RW'!Y58>0,'(3) RW'!Y58,\"\")","v":""},{"$f":"IF('(3) RW'!AD58>0,'(3) RW'!AD58,\"\")","v":""},{"$f":"IF('(3) RW'!AI58>0,'(3) RW'!AI58,\"\")","v":""},{"$f":"IF('(3) RW'!AN58>0,'(3) RW'!AN58,\"\")","v":""},{"$f":"IF('(3) RW'!AS58>0,'(3) RW'!AS58,\"\")","v":""},{"$f":"IF('(3) RW'!AX58>0,'(3) RW'!AX58,\"\")","v":""},{"$f":"IF('(3) RW'!BC58>0,'(3) RW'!BC58,\"\")","v":""},{"$f":"IF('(3) RW'!BH58>0,'(3) RW'!BH58,\"\")","v":""},{"$f":"IF('(3) RW'!BM58>0,'(3) RW'!BM58,\"\")","v":""},{"$f":"IF('(3) RW'!BR58>0,'(3) RW'!BR58,\"\")","v":""},{"$f":"IF('(3) RW'!BW58>0,'(3) RW'!BW58,\"\")","v":""}]
[{"$f":"IF(SUM('(3) RW'!O59:CA59)=0,\"\",'(3) RW'!$J$20)","v":""},{"$f":"IF(SUM('(3) RW'!O59:CA59)=0,\"\",('(3) RW'!B59 & \"\"))","v":""},{"$f":"IF(B28=\"\",\"\",'(3) RW'!N59)","v":""},{"$f":"IF('(3) RW'!O59>0,'(3) RW'!O59,\"\")","v":""},{"$f":"IF('(3) RW'!T59>0,'(3) RW'!T59,\"\")","v":""},{"$f":"IF('(3) RW'!Y59>0,'(3) RW'!Y59,\"\")","v":""},{"$f":"IF('(3) RW'!AD59>0,'(3) RW'!AD59,\"\")","v":""},{"$f":"IF('(3) RW'!AI59>0,'(3) RW'!AI59,\"\")","v":""},{"$f":"IF('(3) RW'!AN59>0,'(3) RW'!AN59,\"\")","v":""},{"$f":"IF('(3) RW'!AS59>0,'(3) RW'!AS59,\"\")","v":""},{"$f":"IF('(3) RW'!AX59>0,'(3) RW'!AX59,\"\")","v":""},{"$f":"IF('(3) RW'!BC59>0,'(3) RW'!BC59,\"\")","v":""},{"$f":"IF('(3) RW'!BH59>0,'(3) RW'!BH59,\"\")","v":""},{"$f":"IF('(3) RW'!BM59>0,'(3) RW'!BM59,\"\")","v":""},{"$f":"IF('(3) RW'!BR59>0,'(3) RW'!BR59,\"\")","v":""},{"$f":"IF('(3) RW'!BW59>0,'(3) RW'!BW59,\"\")","v":""}]
[{"$f":"IF(SUM('(3) RW'!O60:CA60)=0,\"\",'(3) RW'!$J$20)","v":""},{"$f":"IF(SUM('(3) RW'!O60:CA60)=0,\"\",('(3) RW'!B60 & \"\"))","v":""},{"$f":"IF(B29=\"\",\"\",'(3) RW'!N60)","v":""},{"$f":"IF('(3) RW'!O60>0,'(3) RW'!O60,\"\")","v":""},{"$f":"IF('(3) RW'!T60>0,'(3) RW'!T60,\"\")","v":""},{"$f":"IF('(3) RW'!Y60>0,'(3) RW'!Y60,\"\")","v":""},{"$f":"IF('(3) RW'!AD60>0,'(3) RW'!AD60,\"\")","v":""},{"$f":"IF('(3) RW'!AI60>0,'(3) RW'!AI60,\"\")","v":""},{"$f":"IF('(3) RW'!AN60>0,'(3) RW'!AN60,\"\")","v":""},{"$f":"IF('(3) RW'!AS60>0,'(3) RW'!AS60,\"\")","v":""},{"$f":"IF('(3) RW'!AX60>0,'(3) RW'!AX60,\"\")","v":""},{"$f":"IF('(3) RW'!BC60>0,'(3) RW'!BC60,\"\")","v":""},{"$f":"IF('(3) RW'!BH60>0,'(3) RW'!BH60,\"\")","v":""},{"$f":"IF('(3) RW'!BM60>0,'(3) RW'!BM60,\"\")","v":""},{"$f":"IF('(3) RW'!BR60>0,'(3) RW'!BR60,\"\")","v":""},{"$f":"IF('(3) RW'!BW60>0,'(3) RW'!BW60,\"\")","v":""}]
[{"$f":"IF(SUM('(3) RW'!O61:CA61)=0,\"\",'(3) RW'!$J$20)","v":""},{"$f":"IF(SUM('(3) RW'!O61:CA61)=0,\"\",('(3) RW'!B61 & \"\"))","v":""},{"$f":"IF(B30=\"\",\"\",'(3) RW'!N61)","v":""},{"$f":"IF('(3) RW'!O61>0,'(3) RW'!O61,\"\")","v":""},{"$f":"IF('(3) RW'!T61>0,'(3) RW'!T61,\"\")","v":""},{"$f":"IF('(3) RW'!Y61>0,'(3) RW'!Y61,\"\")","v":""},{"$f":"IF('(3) RW'!AD61>0,'(3) RW'!AD61,\"\")","v":""},{"$f":"IF('(3) RW'!AI61>0,'(3) RW'!AI61,\"\")","v":""},{"$f":"IF('(3) RW'!AN61>0,'(3) RW'!AN61,\"\")","v":""},{"$f":"IF('(3) RW'!AS61>0,'(3) RW'!AS61,\"\")","v":""},{"$f":"IF('(3) RW'!AX61>0,'(3) RW'!AX61,\"\")","v":""},{"$f":"IF('(3) RW'!BC61>0,'(3) RW'!BC61,\"\")","v":""},{"$f":"IF('(3) RW'!BH61>0,'(3) RW'!BH61,\"\")","v":""},{"$f":"IF('(3) RW'!BM61>0,'(3) RW'!BM61,\"\")","v":""},{"$f":"IF('(3) RW'!BR61>0,'(3) RW'!BR61,\"\")","v":""},{"$f":"IF('(3) RW'!BW61>0,'(3) RW'!BW61,\"\")","v":""}]
[{"$f":"IF(SUM('(3) RW'!O62:CA62)=0,\"\",'(3) RW'!$J$20)","v":""},{"$f":"IF(SUM('(3) RW'!O62:CA62)=0,\"\",('(3) RW'!B62 & \"\"))","v":""},{"$f":"IF(B31=\"\",\"\",'(3) RW'!N62)","v":""},{"$f":"IF('(3) RW'!O62>0,'(3) RW'!O62,\"\")","v":""},{"$f":"IF('(3) RW'!T62>0,'(3) RW'!T62,\"\")","v":""},{"$f":"IF('(3) RW'!Y62>0,'(3) RW'!Y62,\"\")","v":""},{"$f":"IF('(3) RW'!AD62>0,'(3) RW'!AD62,\"\")","v":""},{"$f":"IF('(3) RW'!AI62>0,'(3) RW'!AI62,\"\")","v":""},{"$f":"IF('(3) RW'!AN62>0,'(3) RW'!AN62,\"\")","v":""},{"$f":"IF('(3) RW'!AS62>0,'(3) RW'!AS62,\"\")","v":""},{"$f":"IF('(3) RW'!AX62>0,'(3) RW'!AX62,\"\")","v":""},{"$f":"IF('(3) RW'!BC62>0,'(3) RW'!BC62,\"\")","v":""},{"$f":"IF('(3) RW'!BH62>0,'(3) RW'!BH62,\"\")","v":""},{"$f":"IF('(3) RW'!BM62>0,'(3) RW'!BM62,\"\")","v":""},{"$f":"IF('(3) RW'!BR62>0,'(3) RW'!BR62,\"\")","v":""},{"$f":"IF('(3) RW'!BW62>0,'(3) RW'!BW62,\"\")","v":""}]
[{"$f":"IF(SUM('(3) RW'!O63:CA63)=0,\"\",'(3) RW'!$J$20)","v":""},{"$f":"IF(SUM('(3) RW'!O63:CA63)=0,\"\",('(3) RW'!B63 & \"\"))","v":""},{"$f":"IF(B32=\"\",\"\",'(3) RW'!N63)","v":""},{"$f":"IF('(3) RW'!O63>0,'(3) RW'!O63,\"\")","v":""},{"$f":"IF('(3) RW'!T63>0,'(3) RW'!T63,\"\")","v":""},{"$f":"IF('(3) RW'!Y63>0,'(3) RW'!Y63,\"\")","v":""},{"$f":"IF('(3) RW'!AD63>0,'(3) RW'!AD63,\"\")","v":""},{"$f":"IF('(3) RW'!AI63>0,'(3) RW'!AI63,\"\")","v":""},{"$f":"IF('(3) RW'!AN63>0,'(3) RW'!AN63,\"\")","v":""},{"$f":"IF('(3) RW'!AS63>0,'(3) RW'!AS63,\"\")","v":""},{"$f":"IF('(3) RW'!AX63>0,'(3) RW'!AX63,\"\")","v":""},{"$f":"IF('(3) RW'!BC63>0,'(3) RW'!BC63,\"\")","v":""},{"$f":"IF('(3) RW'!BH63>0,'(3) RW'!BH63,\"\")","v":""},{"$f":"IF('(3) RW'!BM63>0,'(3) RW'!BM63,\"\")","v":""},{"$f":"IF('(3) RW'!BR63>0,'(3) RW'!BR63,\"\")","v":""},{"$f":"IF('(3) RW'!BW63>0,'(3) RW'!BW63,\"\")","v":""}]
[{"$f":"IF(SUM('(3) RW'!O64:CA64)=0,\"\",'(3) RW'!$J$20)","v":""},{"$f":"IF(SUM('(3) RW'!O64:CA64)=0,\"\",('(3) RW'!B64 & \"\"))","v":""},{"$f":"IF(B33=\"\",\"\",'(3) RW'!N64)","v":""},{"$f":"IF('(3) RW'!O64>0,'(3) RW'!O64,\"\")","v":""},{"$f":"IF('(3) RW'!T64>0,'(3) RW'!T64,\"\")","v":""},{"$f":"IF('(3) RW'!Y64>0,'(3) RW'!Y64,\"\")","v":""},{"$f":"IF('(3) RW'!AD64>0,'(3) RW'!AD64,\"\")","v":""},{"$f":"IF('(3) RW'!AI64>0,'(3) RW'!AI64,\"\")","v":""},{"$f":"IF('(3) RW'!AN64>0,'(3) RW'!AN64,\"\")","v":""},{"$f":"IF('(3) RW'!AS64>0,'(3) RW'!AS64,\"\")","v":""},{"$f":"IF('(3) RW'!AX64>0,'(3) RW'!AX64,\"\")","v":""},{"$f":"IF('(3) RW'!BC64>0,'(3) RW'!BC64,\"\")","v":""},{"$f":"IF('(3) RW'!BH64>0,'(3) RW'!BH64,\"\")","v":""},{"$f":"IF('(3) RW'!BM64>0,'(3) RW'!BM64,\"\")","v":""},{"$f":"IF('(3) RW'!BR64>0,'(3) RW'!BR64,\"\")","v":""},{"$f":"IF('(3) RW'!BW64>0,'(3) RW'!BW64,\"\")","v":""}]
[{"$f":"IF(SUM('(3) RW'!O65:CA65)=0,\"\",'(3) RW'!$J$20)","v":""},{"$f":"IF(SUM('(3) RW'!O65:CA65)=0,\"\",('(3) RW'!B65 & \"\"))","v":""},{"$f":"IF(B34=\"\",\"\",'(3) RW'!N65)","v":""},{"$f":"IF('(3) RW'!O65>0,'(3) RW'!O65,\"\")","v":""},{"$f":"IF('(3) RW'!T65>0,'(3) RW'!T65,\"\")","v":""},{"$f":"IF('(3) RW'!Y65>0,'(3) RW'!Y65,\"\")","v":""},{"$f":"IF('(3) RW'!AD65>0,'(3) RW'!AD65,\"\")","v":""},{"$f":"IF('(3) RW'!AI65>0,'(3) RW'!AI65,\"\")","v":""},{"$f":"IF('(3) RW'!AN65>0,'(3) RW'!AN65,\"\")","v":""},{"$f":"IF('(3) RW'!AS65>0,'(3) RW'!AS65,\"\")","v":""},{"$f":"IF('(3) RW'!AX65>0,'(3) RW'!AX65,\"\")","v":""},{"$f":"IF('(3) RW'!BC65>0,'(3) RW'!BC65,\"\")","v":""},{"$f":"IF('(3) RW'!BH65>0,'(3) RW'!BH65,\"\")","v":""},{"$f":"IF('(3) RW'!BM65>0,'(3) RW'!BM65,\"\")","v":""},{"$f":"IF('(3) RW'!BR65>0,'(3) RW'!BR65,\"\")","v":""},{"$f":"IF('(3) RW'!BW65>0,'(3) RW'!BW65,\"\")","v":""}]
[{"$f":"IF(SUM('(3) RW'!O66:CA66)=0,\"\",'(3) RW'!$J$20)","v":""},{"$f":"IF(SUM('(3) RW'!O66:CA66)=0,\"\",('(3) RW'!B66 & \"\"))","v":""},{"$f":"IF(B35=\"\",\"\",'(3) RW'!N66)","v":""},{"$f":"IF('(3) RW'!O66>0,'(3) RW'!O66,\"\")","v":""},{"$f":"IF('(3) RW'!T66>0,'(3) RW'!T66,\"\")","v":""},{"$f":"IF('(3) RW'!Y66>0,'(3) RW'!Y66,\"\")","v":""},{"$f":"IF('(3) RW'!AD66>0,'(3) RW'!AD66,\"\")","v":""},{"$f":"IF('(3) RW'!AI66>0,'(3) RW'!AI66,\"\")","v":""},{"$f":"IF('(3) RW'!AN66>0,'(3) RW'!AN66,\"\")","v":""},{"$f":"IF('(3) RW'!AS66>0,'(3) RW'!AS66,\"\")","v":""},{"$f":"IF('(3) RW'!AX66>0,'(3) RW'!AX66,\"\")","v":""},{"$f":"IF('(3) RW'!BC66>0,'(3) RW'!BC66,\"\")","v":""},{"$f":"IF('(3) RW'!BH66>0,'(3) RW'!BH66,\"\")","v":""},{"$f":"IF('(3) RW'!BM66>0,'(3) RW'!BM66,\"\")","v":""},{"$f":"IF('(3) RW'!BR66>0,'(3) RW'!BR66,\"\")","v":""},{"$f":"IF('(3) RW'!BW66>0,'(3) RW'!BW66,\"\")","v":""}]
[{"$f":"IF(SUM('(3) RW'!O68:CA68)=0,\"\",'(3) RW'!$J$20)","v":""},{"$f":"IF(SUM('(3) RW'!O68:CA68)=0,\"\",('(3) RW'!B68 & \"\"))","v":""},{"$f":"IF(B36=\"\",\"\",'(3) RW'!N68)","v":""},{"$f":"IF('(3) RW'!O68>0,'(3) RW'!O68,\"\")","v":""},{"$f":"IF('(3) RW'!T68>0,'(3) RW'!T68,\"\")","v":""},{"$f":"IF('(3) RW'!Y68>0,'(3) RW'!Y68,\"\")","v":""},{"$f":"IF('(3) RW'!AD68>0,'(3) RW'!AD68,\"\")","v":""},{"$f":"IF('(3) RW'!AI68>0,'(3) RW'!AI68,\"\")","v":""},{"$f":"IF('(3) RW'!AN68>0,'(3) RW'!AN68,\"\")","v":""},{"$f":"IF('(3) RW'!AS68>0,'(3) RW'!AS68,\"\")","v":""},{"$f":"IF('(3) RW'!AX68>0,'(3) RW'!AX68,\"\")","v":""},{"$f":"IF('(3) RW'!BC68>0,'(3) RW'!BC68,\"\")","v":""},{"$f":"IF('(3) RW'!BH68>0,'(3) RW'!BH68,\"\")","v":""},{"$f":"IF('(3) RW'!BM68>0,'(3) RW'!BM68,\"\")","v":""},{"$f":"IF('(3) RW'!BR68>0,'(3) RW'!BR68,\"\")","v":""},{"$f":"IF('(3) RW'!BW68>0,'(3) RW'!BW68,\"\")","v":""}]
[{"$f":"IF(SUM('(3) RW'!O69:CA69)=0,\"\",'(3) RW'!$J$20)","v":""},{"$f":"IF(SUM('(3) RW'!O69:CA69)=0,\"\",('(3) RW'!B69 & \"\"))","v":""},{"$f":"IF(B37=\"\",\"\",'(3) RW'!N69)","v":""},{"$f":"IF('(3) RW'!O69>0,'(3) RW'!O69,\"\")","v":""},{"$f":"IF('(3) RW'!T69>0,'(3) RW'!T69,\"\")","v":""},{"$f":"IF('(3) RW'!Y69>0,'(3) RW'!Y69,\"\")","v":""},{"$f":"IF('(3) RW'!AD69>0,'(3) RW'!AD69,\"\")","v":""},{"$f":"IF('(3) RW'!AI69>0,'(3) RW'!AI69,\"\")","v":""},{"$f":"IF('(3) RW'!AN69>0,'(3) RW'!AN69,\"\")","v":""},{"$f":"IF('(3) RW'!AS69>0,'(3) RW'!AS69,\"\")","v":""},{"$f":"IF('(3) RW'!AX69>0,'(3) RW'!AX69,\"\")","v":""},{"$f":"IF('(3) RW'!BC69>0,'(3) RW'!BC69,\"\")","v":""},{"$f":"IF('(3) RW'!BH69>0,'(3) RW'!BH69,\"\")","v":""},{"$f":"IF('(3) RW'!BM69>0,'(3) RW'!BM69,\"\")","v":""},{"$f":"IF('(3) RW'!BR69>0,'(3) RW'!BR69,\"\")","v":""},{"$f":"IF('(3) RW'!BW69>0,'(3) RW'!BW69,\"\")","v":""}]
[{"$f":"IF(SUM('(3) RW'!O70:CA70)=0,\"\",'(3) RW'!$J$20)","v":""},{"$f":"IF(SUM('(3) RW'!O70:CA70)=0,\"\",('(3) RW'!B70 & \"\"))","v":""},{"$f":"IF(B38=\"\",\"\",'(3) RW'!N70)","v":""},{"$f":"IF('(3) RW'!O70>0,'(3) RW'!O70,\"\")","v":""},{"$f":"IF('(3) RW'!T70>0,'(3) RW'!T70,\"\")","v":""},{"$f":"IF('(3) RW'!Y70>0,'(3) RW'!Y70,\"\")","v":""},{"$f":"IF('(3) RW'!AD70>0,'(3) RW'!AD70,\"\")","v":""},{"$f":"IF('(3) RW'!AI70>0,'(3) RW'!AI70,\"\")","v":""},{"$f":"IF('(3) RW'!AN70>0,'(3) RW'!AN70,\"\")","v":""},{"$f":"IF('(3) RW'!AS70>0,'(3) RW'!AS70,\"\")","v":""},{"$f":"IF('(3) RW'!AX70>0,'(3) RW'!AX70,\"\")","v":""},{"$f":"IF('(3) RW'!BC70>0,'(3) RW'!BC70,\"\")","v":""},{"$f":"IF('(3) RW'!BH70>0,'(3) RW'!BH70,\"\")","v":""},{"$f":"IF('(3) RW'!BM70>0,'(3) RW'!BM70,\"\")","v":""},{"$f":"IF('(3) RW'!BR70>0,'(3) RW'!BR70,\"\")","v":""},{"$f":"IF('(3) RW'!BW70>0,'(3) RW'!BW70,\"\")","v":""}]
[{"$f":"IF(SUM('(3) RW'!O71:CA71)=0,\"\",'(3) RW'!$J$20)","v":""},{"$f":"IF(SUM('(3) RW'!O71:CA71)=0,\"\",('(3) RW'!B71 & \"\"))","v":""},{"$f":"IF(B39=\"\",\"\",'(3) RW'!N71)","v":""},{"$f":"IF('(3) RW'!O71>0,'(3) RW'!O71,\"\")","v":""},{"$f":"IF('(3) RW'!T71>0,'(3) RW'!T71,\"\")","v":""},{"$f":"IF('(3) RW'!Y71>0,'(3) RW'!Y71,\"\")","v":""},{"$f":"IF('(3) RW'!AD71>0,'(3) RW'!AD71,\"\")","v":""},{"$f":"IF('(3) RW'!AI71>0,'(3) RW'!AI71,\"\")","v":""},{"$f":"IF('(3) RW'!AN71>0,'(3) RW'!AN71,\"\")","v":""},{"$f":"IF('(3) RW'!AS71>0,'(3) RW'!AS71,\"\")","v":""},{"$f":"IF('(3) RW'!AX71>0,'(3) RW'!AX71,\"\")","v":""},{"$f":"IF('(3) RW'!BC71>0,'(3) RW'!BC71,\"\")","v":""},{"$f":"IF('(3) RW'!BH71>0,'(3) RW'!BH71,\"\")","v":""},{"$f":"IF('(3) RW'!BM71>0,'(3) RW'!BM71,\"\")","v":""},{"$f":"IF('(3) RW'!BR71>0,'(3) RW'!BR71,\"\")","v":""},{"$f":"IF('(3) RW'!BW71>0,'(3) RW'!BW71,\"\")","v":""}]
[{"$f":"IF(SUM('(3) RW'!O72:CA72)=0,\"\",'(3) RW'!$J$20)","v":""},{"$f":"IF(SUM('(3) RW'!O72:CA72)=0,\"\",('(3) RW'!B72 & \"\"))","v":""},{"$f":"IF(B40=\"\",\"\",'(3) RW'!N72)","v":""},{"$f":"IF('(3) RW'!O72>0,'(3) RW'!O72,\"\")","v":""},{"$f":"IF('(3) RW'!T72>0,'(3) RW'!T72,\"\")","v":""},{"$f":"IF('(3) RW'!Y72>0,'(3) RW'!Y72,\"\")","v":""},{"$f":"IF('(3) RW'!AD72>0,'(3) RW'!AD72,\"\")","v":""},{"$f":"IF('(3) RW'!AI72>0,'(3) RW'!AI72,\"\")","v":""},{"$f":"IF('(3) RW'!AN72>0,'(3) RW'!AN72,\"\")","v":""},{"$f":"IF('(3) RW'!AS72>0,'(3) RW'!AS72,\"\")","v":""},{"$f":"IF('(3) RW'!AX72>0,'(3) RW'!AX72,\"\")","v":""},{"$f":"IF('(3) RW'!BC72>0,'(3) RW'!BC72,\"\")","v":""},{"$f":"IF('(3) RW'!BH72>0,'(3) RW'!BH72,\"\")","v":""},{"$f":"IF('(3) RW'!BM72>0,'(3) RW'!BM72,\"\")","v":""},{"$f":"IF('(3) RW'!BR72>0,'(3) RW'!BR72,\"\")","v":""},{"$f":"IF('(3) RW'!BW72>0,'(3) RW'!BW72,\"\")","v":""}]