{"text_format":"1","workbook":"xlsx","n_sheets":6,"sheets":["(1)&(2)","(3)","FormData","RawData","Facility","AllProductData"],"not_rendered":{"charts":0,"images":1,"macros":1,"external_links":0,"defined_names":1,"comments":0,"pivot_tables":0},"unopened":[],"bounds":{"document_bytes":16777216,"sheet_cells":100000,"rows_first":2000,"rows_last":500,"rows_between":2000,"halvings":0,"cell_chars":16384,"cell_head_chars":4096},"cells_cut":0,"cells_raw":0,"read":"whole","date_system":"1900"}

{"sheet":"(1)&(2)","index":0,"n_rows":69,"n_cols":53,"rows_kept":69,"cut":false,"hidden":false,"merged":[[57,0,62,49],[67,2,67,11],[67,14,67,24],[67,26,67,29],[47,5,47,8],[47,16,47,17],[49,7,49,20],[51,12,51,13],[53,8,53,20],[51,17,51,18],[45,8,45,20],[38,8,38,20],[9,0,9,49],[16,6,16,20],[20,18,20,19],[18,18,18,19],[10,0,11,49],[12,0,13,24],[12,25,13,49],[18,27,20,48],[24,27,25,48],[31,27,32,48],[24,1,26,22],[36,8,36,20],[40,5,40,8],[40,16,40,17],[2,0,2,7],[5,44,5,49],[7,40,7,49],[8,0,8,49],[6,41,6,49]]}
[null,null,null,null,null,null,null,null,null,null,null,null,null,null,null,null,null,null,null,null,null,null,null,null,null,null,null,null,null,null,null,null,null,null,null,null,null,null,null,null,null,null,null,null,null,null,null,null,null,null,null,"Raw Data"]
[null,null,null,null,null,null,null,null,null,null,null,null,null,null,null,null,null,null,null,null,null,null,null,null,null,null,null,null,null,null,null,null,null,null,null,null,null,null,null,null,null,null,null,null,null,null,null,null,null,null,null,"Resubmission?",{"$f":"'(3)'!J27","v":"N"}]
[null,null,null,null,null,null,null,null,null,null,null,null,null,null,null,null,null,null,null,null,null,null,null,null,null,null,null,null,null,null,null,null,null,null,null,null,null,null,null,null,null,null,null,null,null,null,null,null,null,null,null,"Company Name",{"$f":"G17","v":0}]
[null,null,null,null,null,null,null,null,null,null,null,null,null,null,null,null,null,null,null,null,null,null,null,null,null,null,null,null,null,null,null,null,null,null,null,null,null,null,null,null,null,null,null,null,null,null,null,null,null,null,null,"Rpt Pd",{"$f":"M19","v":0}]
[null,null,null,null,null,null,null,null,null,null,null,null,null,null,null,null,null,null,null,null,null,null,null,null,null,null,null,null,null,null,null,null,null,null,null,null,null,null,null,null,null,null,null,null,null,null,null,null,null,null,null,"Rpt Date",{"$f":"CONCATENATE(K21,\"/\",O21,\"/\",S21)","v":"//"}]
[null,null,null,null,null,null,null,null,null,null,null,null,null,null,null,null,null,null,null,null,null,null,null,null,null,null,null,null,null,null,null,null,null,null,null,null,null,null,null,null,null,null,null,null,"Phone: (808) 587-3807",null,null,null,null,null,null,"ID No",{"$f":"#REF!","v":{"$error":"#REF!"}}]
[null,null,null,null,null,null,null,null,null,null,null,null,null,null,null,null,null,null,null,null,null,null,null,null,null,null,null,null,null,null,null,null,null,null,null,null,null,null,null,null,null,"Email: dbedt.hseo.eiirp@hawaii.gov",null,null,null,null,null,null,null,null,null,"Info changed?"]
[null,null,null,null,null,null,null,null,null,null,null,null,null,null,null,null,null,null,null,null,null,null,null,null,null,null,null,null,null,null,null,null,null,null,null,null,null,null,null,null,"https://energy.hawaii.gov/eiirp",null,null,null,null,null,null,null,null,null,null,"Distributor",false]
["Form DBEDT-301",null,null,null,null,null,null,null,null,null,null,null,null,null,null,null,null,null,null,null,null,null,null,null,null,null,null,null,null,null,null,null,null,null,null,null,null,null,null,null,null,null,null,null,null,null,null,null,null,null,null,"Refiner"]
["MONTHLY STORAGE FACILITY REPORT",null,null,null,null,null,null,null,null,null,null,null,null,null,null,null,null,null,null,null,null,null,null,null,null,null,null,null,null,null,null,null,null,null,null,null,null,null,null,null,null,null,null,null,null,null,null,null,null,null,null,"Facility Location",{"$f":"I37","v":0}]
["This Report is mandatory under chapter 486J, Hawaii Revised Statutes (\"HRS\").  Violations are subject to civil and criminal penalties pursuant to HRS § 486J-9 and other applicable laws or orders. CONFIDENTIAL PURSUANT TO APPLICABLE STATUTORY AUTHORITY (E.G., HRS § 486J-6) AND APPLICABLE PROTECTIVE ORDERS.",null,null,null,null,null,null,null,null,null,null,null,null,null,null,null,null,null,null,null,null,null,null,null,null,null,null,null,null,null,null,null,null,null,null,null,null,null,null,null,null,null,null,null,null,null,null,null,null,null,null,"Facility City",{"$f":"F41","v":" "}]
[null,null,null,null,null,null,null,null,null,null,null,null,null,null,null,null,null,null,null,null,null,null,null,null,null,null,null,null,null,null,null,null,null,null,null,null,null,null,null,null,null,null,null,null,null,null,null,null,null,null,null,"Facility State",{"$f":"M41","v":" "}]
["Part 1. Respondent Identification",null,null,null,null,null,null,null,null,null,null,null,null,null,null,null,null,null,null,null,null,null,null,null,null,"Part 2. Submission or Resubmission Information",null,null,null,null,null,null,null,null,null,null,null,null,null,null,null,null,null,null,null,null,null,null,null,null,null,"Facility Zip",{"$f":"Q41","v":" "}]
[null,null,null,null,null,null,null,null,null,null,null,null,null,null,null,null,null,null,null,null,null,null,null,null,null,null,null,null,null,null,null,null,null,null,null,null,null,null,null,null,null,null,null,null,null,null,null,null,null,null,null,"Mailing Add same?",false]
[null,null,null,null,null,null,null,null,null,null,null,null,null,null,null,null,null,null,null,null,null,null,null,null,null,null,null,null,null,null,null,null,null,null,null,null,null,null,null,null,null,null,null,null,null,null,null,null,null,null,null,"Mailing Add",{"$f":"I46","v":0}]
[null,null,null,null,null,null,null,null,null,null,null,null,null,null,null,null,null,null,null,null,null,null,null,null,null,null,null,null,null,null,null,null,null,null,null,null,null,null,null,null,null,null,null,null,null,null,null,null,null,null,null,"Mailing City",{"$f":"F48","v":0}]
[null,"COMPANY NAME:",null,null,null,null,null,null,null,null,null,null,null,null,null,null,null,null,null,null,null,null,null,null,null,null,null,null,null,null,null,null,null,null,null,null,null,null,null,null,null,null,null,null,null,null,null,null,null,null,null,"Mailing State",{"$f":"M48","v":0}]
[null,null,null,null,null,null,null,null,null,null,null,null,null,null,null,null,null,null,null,null,null,null,null,null,null,null,null,null,null,null,null,null,null,null,null,null,null,null,null,null,null,null,null,null,null,null,null,null,null,null,null,"Mailing Zip",{"$f":"Q48","v":0}]
[null,"REPORT PERIOD  (Month Ending):",null,null,null,null,null,null,null,null,"MONTH (##)",null,null,null,null,null,"YEAR",null,null,null,null,null,null,null,null,null,null,"A completed form must be received on or before the last day of the month following the end of the report month (e.g, July 2023 report period must be received on or before August 31, 2023).",null,null,null,null,null,null,null,null,null,null,null,null,null,null,null,null,null,null,null,null,null,null,null,"Contact Name",{"$f":"H50","v":0}]
[null,null,null,null,null,null,null,null,null,null,null,null,null,null,null,null,null,null,null,null,null,null,null,null,null,null,null,null,null,null,null,null,null,null,null,null,null,null,null,null,null,null,null,null,null,null,null,null,null,null,null,"Phone ",{"$f":"CONCATENATE(I52,\"-\",K52,\"-\",M52,\"Ext\",R52)","v":"--Ext"}]
[null,"REPORT DATE:",null,null,null,null,"MONTH (##)",null,null,null,null,null,"DAY",null,null,null,"YEAR",null,null,null,null,null,null,null,null,null,null,null,null,null,null,null,null,null,null,null,null,null,null,null,null,null,null,null,null,null,null,null,null,null,null,"Email",{"$f":"I54","v":0}]
[null,null,null,null,null,null,null,null,null,null,null,null,null,null,null,null,null,null,null,null,null,null,null,null,null,null,null,null,null,null,null,null,null,null,null,null,null,null,null,null,null,null,null,null,null,null,null,null,null,null,null,"Comments",{"$f":"A58","v":0}]
[]
[]
[null,"If respondent contact information has changed since the previous report, please check box and fill out the form below. If more than one contact and/or facility information has changed, please provide additional changes in the comments section below.",null,null,null,null,null,null,null,null,null,null,null,null,null,null,null,null,null,null,null,null,null,null,null,null,null,"Please submit a separate report for each facility. "]
[]
[]
[]
[null,null,null,null,null,null,null,null,null,null,null,null,null,null,null,null,null,null,null,null,null,null,null,null,null,null,null,"Forms must be uploaded to",null,null,null,null,null,null,"https://eiirp.hawaii.gov/"]
[]
[]
[null,null,null,"Doing business as a (check all that apply):",null,null,null,null,null,null,null,null,null,null,null,null,null,null,null,null,null,null,null,null,null,null,null,"If you have any questions about the form after reading the PDF instructions, please contact HSEO at (808) 587-3807."]
[]
[]
[]
[]
[null,null,null,"Facility Name:"]
[]
[null,null,null,"Facility Location:",null,null,null,null,{"$f":"_xlfn.IFNA(VLOOKUP($I$37,Facility!$A$2:$F$35, 2, FALSE), \" \" )","v":" "}]
[]
[null,null,null,"City: ",null,{"$f":"_xlfn.IFNA(VLOOKUP($I$37,Facility!$A$2:$F$35, 3, FALSE), \" \" )","v":" "},null,null,null,null,"State: ",null,{"$f":"_xlfn.IFNA(VLOOKUP($I$37,Facility!$A$2:$F$35, 4, FALSE), \" \" )","v":" "},null,"   Zip:  ",null,{"$f":"_xlfn.IFNA(VLOOKUP($I$37,Facility!$A$2:$F$35, 5, FALSE), \" \" )","v":" "}]
[]
[]
[]
[]
[null,null,null,"Mailing Address:"]
[]
[null,null,null,"City: ",null,null,null,null,null,null,"State: ",null,null,null,"   Zip:  "]
[]
[null,null,null,"Contact Name: "]
[]
[null,null,null,"Phone Number: ",null,null,null,null,null,"­",null,"­",null,null,null,"   Ext.:"]
[]
[null,null,null,"Email address: "]
[]
[]
["COMMENTS: Please decribe any unusual aspect of the company's reporting month's operations and/or reason for resubmission."]
[]
[]
[]
[]
[]
[]
[]
[]
[null,null,"I certify under penalty of perjury (under section 486J-9b) that the information contained in this report is true, correct and complete to the best of my knowledge. I am authorized to file this report on behalf of the company."]
[]
[null,null,null,null,null,null,null,null,null,null,null,null,null,null,null,null,null,null,null,null,null,null,null,null,null,null,{"$f":"CONCATENATE(K21,\"/\",O21,\"/\",S21)","v":"//"}]
[null,null,"Name",null,null,null,null,null,null,null,null,null,null,null,"Title",null,null,null,null,null,null,null,null,null,null,null,"Date"]

{"sheet":"(3)","index":1,"n_rows":79,"n_cols":72,"rows_kept":79,"cut":false,"hidden":false,"merged":[[47,11,47,18],[52,11,52,18],[38,1,38,10],[39,1,39,10],[40,1,40,10],[41,1,41,10],[42,1,42,10],[39,11,39,18],[40,11,40,18],[41,11,41,18],[42,11,42,18],[44,1,44,10],[45,1,45,10],[46,1,46,10],[47,1,47,10],[52,1,52,10],[53,1,53,10],[54,1,54,10],[55,1,55,10],[31,11,31,18],[32,11,32,18],[36,11,36,18],[37,11,37,18],[38,11,38,18],[53,11,53,18],[54,11,54,18],[55,11,55,18],[33,1,33,10],[33,11,33,18],[51,1,51,10],[51,11,51,18],[31,1,31,10],[32,1,32,10],[36,1,36,10],[37,1,37,10],[43,1,43,10],[43,11,43,18],[44,11,44,18],[45,11,45,18],[46,11,46,18],[70,54,70,58],[29,29,30,33],[30,34,30,38],[30,39,30,43],[30,44,30,48],[30,49,30,53],[29,34,29,53],[68,44,68,48],[68,49,68,53],[68,54,68,58],[69,44,69,48],[69,49,69,53],[69,54,69,58],[66,44,66,48],[66,49,66,53],[45,44,45,48],[45,49,45,53],[45,54,45,58],[46,44,46,48],[59,39,59,43],[70,34,70,38],[31,39,31,43],[32,39,32,43],[33,39,33,43],[31,64,31,68],[32,64,32,68],[33,64,33,68],[34,64,34,68],[35,64,35,68],[50,59,50,63],[38,64,38,68],[37,44,37,48],[37,49,37,53],[37,54,37,58],[38,44,38,48],[38,49,38,53],[38,54,38,58],[35,44,35,48],[35,49,35,53],[35,54,35,58],[36,44,36,48],[36,49,36,53],[36,54,36,58],[46,49,46,53],[46,54,46,58],[39,44,39,48],[39,49,39,53],[39,54,39,58],[50,64,50,68],[37,64,37,68],[34,49,34,53],[34,54,34,58],[47,49,47,53],[47,54,47,58],[49,49,49,53],[49,54,49,58],[50,49,50,53],[50,54,50,58],[48,49,48,53],[48,54,48,58],[40,49,40,53],[40,54,40,58],[44,59,44,63],[45,59,45,63],[46,59,46,63],[47,59,47,63],[48,59,48,63],[49,59,49,63],[38,59,38,63],[39,59,39,63],[40,59,40,63],[41,59,41,63],[66,64,66,68],[60,64,60,68],[61,64,61,68],[62,64,62,68],[64,64,64,68],[51,44,51,48],[51,49,51,53],[51,54,51,58],[52,44,52,48],[52,49,52,53],[52,54,52,58],[51,59,51,63],[52,59,52,63],[66,54,66,58],[55,49,55,53],[55,54,55,58],[56,49,56,53],[56,54,56,58],[53,49,53,53],[53,54,53,58],[54,49,54,53],[54,54,54,58],[66,59,66,63],[63,64,63,68],[62,39,62,43],[64,39,64,43],[60,34,60,38],[63,34,63,38],[63,39,63,43],[63,44,63,48],[63,49,63,53],[63,54,63,58],[63,59,63,63],[67,59,67,63],[55,59,55,63],[56,59,56,63],[57,59,57,63],[58,59,58,63],[59,59,59,63],[60,59,60,63],[61,59,61,63],[62,59,62,63],[64,59,64,63],[31,69,31,73],[32,69,32,73],[32,44,32,48],[32,49,32,53],[39,34,39,38],[40,34,40,38],[41,34,41,38],[42,34,42,38],[43,34,43,38],[31,34,31,38],[32,34,32,38],[33,34,33,38],[34,34,34,38],[35,34,35,38],[36,34,36,38],[37,34,37,38],[38,34,38,38],[39,39,39,43],[40,39,40,43],[33,59,33,63],[34,59,34,63],[35,59,35,63],[42,39,42,43],[43,39,43,43],[31,59,31,63],[32,59,32,63],[32,29,32,33],[31,29,31,33],[31,44,31,48],[31,49,31,53],[31,54,31,58],[32,54,32,58],[61,34,61,38],[51,34,51,38],[50,44,50,48],[40,44,40,48],[60,39,60,43],[61,39,61,43],[50,39,50,43],[51,39,51,43],[50,34,50,38],[41,29,41,33],[42,44,42,48],[42,49,42,53],[42,54,42,58],[43,54,43,58],[46,29,46,33],[47,29,47,33],[21,9,21,19],[22,9,22,19],[18,9,18,19],[19,9,19,19],[20,9,20,19],[16,0,16,8],[17,0,17,8],[28,69,28,73],[18,0,18,8],[19,0,19,8],[20,0,20,8],[21,0,21,8],[22,0,22,8],[29,54,29,73],[29,0,30,0],[29,1,30,10],[29,11,30,18],[30,54,30,58],[30,59,30,63],[30,64,30,68],[30,69,30,73],[23,9,23,19],[24,9,24,19],[25,9,25,19],[26,9,26,19],[26,0,26,8],[23,0,23,8],[24,0,24,8],[25,0,25,8],[0,0,1,73],[4,0,4,6],[10,0,10,73],[15,13,15,14],[11,0,11,73],[13,0,13,73],[15,11,15,12],[16,9,16,19],[17,9,17,19],[36,69,36,73],[36,29,36,33],[34,69,34,73],[33,69,33,73],[33,29,33,33],[36,64,36,68],[35,1,35,10],[35,11,35,18],[35,29,35,33],[35,69,35,73],[34,1,34,10],[34,11,34,18],[34,29,34,33],[33,44,33,48],[33,49,33,53],[33,54,33,58],[34,44,34,48],[34,39,34,43],[35,39,35,43],[36,39,36,43],[36,59,36,63],[41,64,41,68],[40,69,40,73],[40,29,40,33],[37,39,37,43],[41,39,41,43],[37,59,37,63],[41,44,41,48],[41,49,41,53],[41,54,41,58],[38,69,38,73],[37,69,37,73],[39,69,39,73],[38,29,38,33],[39,29,39,33],[37,29,37,33],[38,39,38,43],[39,64,39,68],[40,64,40,68],[42,69,42,73],[41,69,41,73],[42,64,42,68],[42,59,42,63],[42,24,42,28],[43,19,43,23],[43,24,43,28],[44,19,44,23],[43,69,43,73],[42,29,42,33],[43,59,43,63],[44,24,44,28],[43,29,43,33],[44,69,44,73],[44,29,44,33],[44,34,44,38],[44,39,44,43],[44,64,44,68],[44,44,44,48],[44,49,44,53],[44,54,44,58],[43,64,43,68],[43,44,43,48],[43,49,43,53],[45,29,45,33],[45,39,45,43],[46,39,46,43],[47,39,47,43],[47,44,47,48],[45,34,45,38],[45,64,45,68],[46,64,46,68],[47,64,47,68],[46,69,46,73],[46,34,46,38],[47,34,47,38],[48,34,48,38],[49,34,49,38],[49,64,49,68],[48,44,48,48],[48,64,48,68],[45,69,45,73],[47,69,47,73],[51,29,51,33],[48,1,48,10],[48,11,48,18],[51,69,51,73],[50,1,50,10],[50,11,50,18],[50,29,50,33],[49,1,49,10],[49,11,49,18],[48,39,48,43],[49,39,49,43],[51,64,51,68],[49,44,49,48],[50,69,50,73],[49,19,49,23],[49,24,49,28],[50,19,50,23],[50,24,50,28],[51,19,51,23],[51,24,51,28],[49,69,49,73],[49,29,49,33],[48,69,48,73],[48,29,48,33],[54,19,54,23],[54,24,54,28],[55,19,55,23],[55,24,55,28],[55,34,55,38],[52,69,52,73],[52,29,52,33],[52,64,52,68],[54,69,54,73],[53,69,53,73],[53,29,53,33],[53,64,53,68],[53,44,53,48],[54,44,54,48],[52,39,52,43],[53,59,53,63],[54,59,54,63],[52,34,52,38],[53,34,53,38],[54,34,54,38],[53,39,53,43],[57,69,57,73],[56,34,56,38],[55,69,55,73],[54,29,54,33],[55,29,55,33],[54,39,54,43],[55,39,55,43],[54,64,54,68],[55,64,55,68],[55,44,55,48],[57,34,57,38],[58,34,58,38],[56,1,56,10],[56,11,56,18],[59,69,59,73],[58,1,58,10],[58,11,58,18],[58,29,58,33],[57,1,57,10],[57,11,57,18],[56,39,56,43],[57,39,57,43],[58,39,58,43],[57,64,57,68],[58,64,58,68],[59,64,59,68],[59,44,59,48],[59,49,59,53],[59,54,59,58],[57,44,57,48],[57,49,57,53],[57,54,57,58],[58,44,58,48],[58,69,58,73],[59,1,59,10],[59,11,59,18],[59,29,59,33],[61,69,61,73],[60,1,60,10],[60,11,60,18],[60,69,60,73],[60,29,60,33],[60,44,60,48],[60,49,60,53],[60,54,60,58],[61,44,61,48],[61,49,61,53],[61,54,61,58],[61,1,61,10],[61,11,61,18],[59,19,59,23],[59,24,59,28],[60,19,60,23],[60,24,60,28],[59,34,59,38],[64,1,64,10],[64,11,64,18],[64,29,64,33],[61,29,61,33],[62,69,62,73],[64,69,64,73],[62,1,62,10],[62,11,62,18],[62,29,62,33],[64,44,64,48],[64,49,64,53],[64,54,64,58],[62,44,62,48],[62,49,62,53],[62,54,62,58],[64,34,64,38],[62,34,62,38],[62,19,62,23],[62,24,62,28],[63,1,63,10],[63,11,63,18],[63,19,63,23],[63,24,63,28],[63,29,63,33],[66,11,66,18],[33,19,33,23],[33,24,33,28],[34,19,34,23],[34,24,34,28],[35,19,35,23],[35,24,35,28],[36,19,36,23],[36,24,36,28],[37,19,37,23],[37,24,37,28],[38,19,38,23],[38,24,38,28],[39,19,39,23],[39,24,39,28],[40,19,40,23],[52,19,52,23],[52,24,52,28],[53,19,53,23],[53,24,53,28],[40,24,40,28],[41,19,41,23],[41,24,41,28],[42,19,42,23],[70,11,70,18],[70,29,70,33],[69,1,69,10],[7,68,7,73],[8,65,8,73],[9,63,9,73],[66,69,66,73],[66,29,66,33],[67,69,67,73],[67,39,67,43],[68,39,68,43],[67,34,67,38],[68,34,68,38],[66,34,66,38],[29,19,30,23],[29,24,30,28],[31,19,31,23],[31,24,31,28],[32,19,32,23],[32,24,32,28],[67,1,67,10],[67,11,67,18],[68,29,68,33],[66,1,66,10],[70,69,70,73],[70,1,70,10],[67,29,67,33],[68,69,68,73],[73,45,73,49],[69,69,69,73],[69,11,69,18],[69,29,69,33],[69,39,69,43],[70,39,70,43],[69,59,69,63],[70,59,70,63],[67,64,67,68],[68,64,68,68],[69,64,69,68],[70,64,70,68],[70,19,70,23],[70,24,70,28],[68,1,68,10],[68,11,68,18],[68,59,68,63],[67,44,67,48],[67,49,67,53],[67,54,67,58],[77,45,77,49],[64,19,64,23],[64,24,64,28],[66,19,66,23],[66,24,66,28],[67,19,67,23],[67,24,67,28],[68,19,68,23],[68,24,68,28],[69,19,69,23],[69,24,69,28],[75,45,75,49],[70,44,70,48],[70,49,70,53],[69,34,69,38],[66,39,66,43],[63,69,63,73],[45,19,45,23],[45,24,45,28],[46,19,46,23],[46,24,46,28],[47,19,47,23],[47,24,47,28],[48,19,48,23],[48,24,48,28],[61,19,61,23],[61,24,61,28],[57,29,57,33],[56,69,56,73],[56,29,56,33],[58,49,58,53],[58,54,58,58],[56,64,56,68],[56,44,56,48],[56,19,56,23],[56,24,56,28],[57,19,57,23],[57,24,57,28],[58,19,58,23],[58,24,58,28]]}
["Part 3. Storage Facility Detail"]
[]
[]
[]
[]
[]
[]
[null,null,null,null,null,null,null,null,null,null,null,null,null,null,null,null,null,null,null,null,null,null,null,null,null,null,null,null,null,null,null,null,null,null,null,null,null,null,null,null,null,null,null,null,null,null,null,null,null,null,null,null,null,null,null,null,null,null,null,null,null,null,null,null,null,null,null,null,"Phone: (808) 587-3807"]
[null,null,null,null,null,null,null,null,null,null,null,null,null,null,null,null,null,null,null,null,null,null,null,null,null,null,null,null,null,null,null,null,null,null,null,null,null,null,null,null,null,null,null,null,null,null,null,null,null,null,null,null,null,null,null,null,null,null,null,null,null,null,null,null,null,"Email: dbedt.hseo.eiirp@hawaii.gov"]
[null,null,null,null,null,null,null,null,null,null,null,null,null,null,null,null,null,null,null,null,null,null,null,null,null,null,null,null,null,null,null,null,null,null,null,null,null,null,null,null,null,null,null,null,null,null,null,null,null,null,null,null,null,null,null,null,null,null,null,null,null,null,null,"https://energy.hawaii.gov/eiirp"]
["Form DBEDT-301"]
["MONTHLY STORAGE FACILITY REPORT"]
[]
["This Report is mandatory under chapter 486J, Hawaii Revised Statutes (\"HRS\").  Violations are subject to civil and criminal penalties pursuant to HRS § 486J-9 and other applicable laws or orders. CONFIDENTIAL PURSUANT TO APPLICABLE STATUTORY AUTHORITY (E.G., HRS § 486J-6) AND APPLICABLE PROTECTIVE ORDERS."]
[]
[]
["Company Name",null,null,null,null,null,null,null,null,{"$f":"IF('(1)&(2)'!G17=0,\" \",'(1)&(2)'!G17)","v":" "}]
["Company Short Code",null,null,null,null,null,null,null,null,{"$f":"_xlfn.IFNA(INDEX(Facility!$A$38:$B$61, MATCH(J17,Facility!A38:A61,0), 2), \" \")","v":" "}]
["Company Code",null,null,null,null,null,null,null,null,{"$f":"_xlfn.IFNA(INDEX(Facility!$A$38:$C$61, MATCH(J17,Facility!A38:A61,0), 3), \"\")","v":""}]
["Form Code",null,null,null,null,null,null,null,null,{"$f":"IF(OR(J23=\"\",J19=\"\",J26=\"\"),\"\",_xlfn.IFNA(_xlfn.CONCAT(J23,\"-\",J19,\"-\",_xlfn.IFNA(VLOOKUP(J21,Facility!$A$2:$H$36, 8, FALSE), \"000\" ),\"-\",J26,\"-301\"), \"\"))","v":""}]
["Facility Name",null,null,null,null,null,null,null,null,{"$f":"IF('(1)&(2)'!I37=0,\" \",'(1)&(2)'!I37)","v":" "}]
["Island",null,null,null,null,null,null,null,null,{"$f":"_xlfn.IFNA(VLOOKUP('(1)&(2)'!I37,Facility!$A$2:$F$35, 6, FALSE), \"\" )","v":""}]
["Island Code",null,null,null,null,null,null,null,null,{"$f":"_xlfn.IFNA(INDEX(Facility!$A$65:$B$72, MATCH(J22,Facility!B65:B72,0), 1), \"\")","v":""}]
["Report Date",null,null,null,null,null,null,null,null,{"$f":"CONCATENATE('(1)&(2)'!K21,\"/\",'(1)&(2)'!O21,\"/\",'(1)&(2)'!S21)","v":"//"}]
["Report Period (Month Ending)",null,null,null,null,null,null,null,null,{"$f":"CONCATENATE('(1)&(2)'!O19,\"/\",'(1)&(2)'!S19)","v":"/"}]
["Report Period",null,null,null,null,null,null,null,null,{"$f":"_xlfn.CONCAT('(1)&(2)'!S19,'(1)&(2)'!O19)","v":""}]
["Resubmission (Y/N)",null,null,null,null,null,null,null,null,{"$f":"IF(Facility!B74=TRUE,\"Y\",\"N\")","v":"N"}]
[]
[]
["Line No.","Product",null,null,null,null,null,null,null,null,null,"Prod. Code",null,null,null,null,null,null,null,"Maximum Capacity (Barrels)",null,null,null,null,"Net Usable Capacity (Barrels)",null,null,null,null,"End of Month Inventory (Barrels)",null,null,null,null,"Method of Transport: Receipts (Barrels)",null,null,null,null,null,null,null,null,null,null,null,null,null,null,null,null,null,null,null,"Method of Transport: Distribution (Barrels)"]
[null,null,null,null,null,null,null,null,null,null,null,null,null,null,null,null,null,null,null,null,null,null,null,null,null,null,null,null,null,null,null,null,null,null,"Pipeline",null,null,null,null,"Tanker",null,null,null,null,"Barge",null,null,null,null,"Truck",null,null,null,null,"Pipeline",null,null,null,null,"Tanker",null,null,null,null,"Barge",null,null,null,null,"Truck"]
[1,"Crude Oil",null,null,null,null,null,null,null,null,null,"001"]
[2,"Unleaded Gasoline Regular (no ethanol finished)",null,null,null,null,null,null,null,null,null,"002"]
[3,"Unleaded Gasoline Midgrade (no ethanol finished)",null,null,null,null,null,null,null,null,null,"003"]
[4,"Unleaded Gasoline Premium (no ethanol finished)",null,null,null,null,null,null,null,null,null,"004"]
[5,"Gasoline (E10) Regular",null,null,null,null,null,null,null,null,null,"005"]
[6,"Gasoline (E10) Midgrade",null,null,null,null,null,null,null,null,null,"006"]
[7,"Gasoline (E10) Premium",null,null,null,null,null,null,null,null,null,"007"]
[8,"HIBOB Regular",null,null,null,null,null,null,null,null,null,"008"]
[9,"HIBOB Premium",null,null,null,null,null,null,null,null,null,"009"]
[10,"Aviation",null,null,null,null,null,null,null,null,null,"010"]
[11,"Jet Kerosene, Non-bonded",null,null,null,null,null,null,null,null,null,"011"]
[12,"Jet Kerosene, Bonded",null,null,null,null,null,null,null,null,null,"012"]
[13,"Military Jet Fuel (JP5 and JP8)",null,null,null,null,null,null,null,null,null,"013"]
[14,"No. 2 Diesel Sulfur <= 15 ppm",null,null,null,null,null,null,null,null,null,"015"]
[15,"No. 2 Diesel 15 ppm < Sulfur <= 500 ppm",null,null,null,null,null,null,null,null,null,"016"]
[16,"No. 2 Diesel Sulfur > 500",null,null,null,null,null,null,null,null,null,"017"]
[17,"No. 2 Fuel Oil",null,null,null,null,null,null,null,null,null,"018"]
[18,"Residual Fuel Oil <= 1%",null,null,null,null,null,null,null,null,null,"021"]
[19,"Residual Fuel Oil > 1%",null,null,null,null,null,null,null,null,null,"022"]
[20,"Vacuum Gas Oil",null,null,null,null,null,null,null,null,null,"024"]
[21,"Intermediate Fuel Oil",null,null,null,null,null,null,null,null,null,"025"]
[22,"Asphalt",null,null,null,null,null,null,null,null,null,"029"]
[23,"Propane HD-5 (Consumer)",null,null,null,null,null,null,null,null,null,"030"]
[24,"Ethanol",null,null,null,null,null,null,null,null,null,"034"]
[25,"Biodiesel >95%",null,null,null,null,null,null,null,null,null,"036"]
[26,"Biodiesel <30%",null,null,null,null,null,null,null,null,null,"037"]
[27,"Synthetic Natural Gas",null,null,null,null,null,null,null,null,null,"038"]
[28,"Synthetic Natural Gas Feedstock",null,null,null,null,null,null,null,null,null,"039"]
[29,"Alkylate",null,null,null,null,null,null,null,null,null,"040"]
[30,"Reformate",null,null,null,null,null,null,null,null,null,"041"]
[31,"Motor Gasoline Blend Components",null,null,null,null,null,null,null,null,null,"048"]
[32,"Naphtha",null,null,null,null,null,null,null,null,null,"049"]
[33,"Biodiesel Feedstock",null,null,null,null,null,null,null,null,null,"054"]
[34,"Unfinished Oil (all other)",null,null,null,null,null,null,null,null,null,"058"]
[35,"OTHER PRODUCT (Not listed above): Specify below"]
[36]
[37]
[38]
[39]
[40]
[]
[]
[null,null,null,null,null,null,null,null,null,null,null,null,null,null,null,null,null,null,"TOTAL MAXIMUM CAPACITY (BARRELS) REPORTED:",null,null,null,null,null,null,null,null,null,null,null,null,null,null,null,null,null,null,null,"TOTAL RECEIPTS:",null,null,null,null,null,null,{"$f":"IF(SUM(AI32:BB71)=0,\" \",SUM(AI32:BB71))","v":" "}]
[]
[null,null,null,null,null,null,null,null,null,null,null,null,null,null,null,null,null,null,"TOTAL NET USABLE CAPACITY (BARRELS) REPORTED:",null,null,null,null,null,null,null,null,null,null,null,null,null,null,null,null,null,null,null,"TOTAL DISTRIBUTION:"]
[]
[null,null,null,null,null,null,null,null,null,null,null,null,null,null,null,null,null,null,null,null,null,null,null,null,null,null,null,null,null,null,null,null,null,null,null,null,null,null,"TOTAL INVENTORY:",null,null,null,null,null,null,{"$f":"IF(SUM(AD32:AD71)=0,\" \",SUM(AD32:AD71))","v":" "}]
[null,null,null,null,null,null,null,null,null,null,null,null,null,null,null,null,null,null,null,null,null,null,null,null,null,null,null,null,null,null,null,null,null,null,null,null,null,null,null,null,null,null,null,null,null,null,null,null,null,null,null,null,null,null,null,null,null,null,null,null,null,null,"Form code: ",null,null,{"$f":"J20","v":""},null,null,null,null,null,"DBEDT-301"]

{"sheet":"FormData","index":2,"n_rows":2,"n_cols":16,"rows_kept":2,"cut":false,"hidden":true,"merged":[]}
["form_code","dbedt","company_code","asset_id","facility_code","island_code","report_date","report_period","report_period_month","report_period_year","resubmission","total_products_reported","total_barrels_reported","total_receipts","total_distribution","total_inventory"]
[{"$f":"'(3)'!J20","v":""},301,{"$f":"'(3)'!J19","v":""},{"$f":"_xlfn.IFNA(VLOOKUP('(3)'!J21,Facility!$A$2:$H$35,7, FALSE), \"\" )","v":""},{"$f":"_xlfn.IFNA(VLOOKUP('(3)'!J21,Facility!$A$2:$H$35,8, FALSE), \"\" )","v":""},{"$f":"'(3)'!J23","v":""},{"$f":"'(3)'!J24","v":"//"},{"$f":"'(3)'!J26","v":""},{"$f":"'(1)&(2)'!O19","v":0},{"$f":"'(1)&(2)'!S19","v":0},{"$f":"Facility!B74","v":false},null,null,{"$f":"'(3)'!AT74","v":" "},{"$f":"'(3)'!AT76","v":0},{"$f":"'(3)'!AT78","v":" "}]

{"sheet":"RawData","index":3,"n_rows":2,"n_cols":14,"rows_kept":2,"cut":false,"hidden":true,"merged":[]}
["form_code","product","product_code","maximum_capacity","net_capacity","end_month_inventory","receipts_pipeline","receipts_tanker","receipts_barge","receipts_truck","distribution_pipeline","distribution_tanker","distribution_barge","distribution_truck"]
[{"$f":"_xlfn._xlws.SORT(_xlfn.UNIQUE(AllProductData!A2:N38,FALSE,FALSE),1,-1,FALSE)","v":""},"","","","","","","","","","","","",""]

{"sheet":"Facility","index":4,"n_rows":74,"n_cols":8,"rows_kept":74,"cut":false,"hidden":true,"merged":[]}
["Facility Name","Facility Street Address","City","State","Zip","Island","Facility Code","Code"]
["Aloha Hilo Terminal","999 Kalanianaole Avenue","Hilo","HI","96720","Hawaii","TM_013","001"]
["Aloha Hilo Terminal 2","661 Kalanianaole Avenue","Hilo","HI","96720","Hawaii","TM_014","002"]
["Aloha Honolulu Terminal","789 North Nimitz Highway","Honolulu","HI","96817","O'ahu","TM_006","003"]
["Aloha Kahului Terminal","60 Hobron Avenue","Kahului","HI","96732","Maui","TM_015","004"]
["Aloha Nawiliwili Terminal","3145 Waapa Road","Lihue","HI","96766","Kaua'i","TM_016","005"]
["Aloha TFM Kalaeloa Terminal","91-119 Hanua Street","Kapolei","HI","96707","O'ahu","TM_010","006"]
["Hawaii Gas Barbers Point","91-571 Malakole St ","Kapolei","HI","96707","O'ahu","TM_011","007"]
["Hawaii Gas Hilo Base Yard","945 Kalanianaole Ave","Hilo","HI","96720","Hawaii","TM_017","008"]
["Hawaii Gas Kauai Base Yard","3000 Waapa Road","Lihue","HI","96766","Kaua'i","TM_018","009"]
["Hawaii Gas Kona","74-5564 Kaiwi Street","Kailua","HI","96740","Hawaii","TM_019","010"]
["Hawaii Gas Lanai","9th Street","Lanai City","HI","96763","Lana'i","TM_020","011"]
["Hawaii Gas Maui Base Yard","20 Hobron Avenue","Kahului","HI","96732","Maui","TM_021","012"]
["Hawaii Gas Molokai","Ulili Street","Kaunakakai","HI","96748","Moloka'i","TM_022","013"]
["Hawaii Petroleum Kona Cardlock","74-5558 B Kaiwi Street","Kailua-Kona","HI","96740","Hawaii","TM_023","014"]
["HFFC Airport","3201 Aolele Street","Honolulu","HI","96819","O'ahu","TM_001","015"]
["HFFC Sand Island ","50 Sand Island Access Road","Honolulu","HI","96819","O'ahu","TM_002","016"]
["IES Hilo","666 Kalanianaole Ave","Hilo","HI","96720","Hawaii","TM_024","017"]
["IES Honolulu","777 NI Nimitz Highway","Honolulu","HI","96817","O'ahu","TM_004","018"]
["IES Kahului","100 Hobron Ave","Kahului","HI","96732","Maui","TM_025","019"]
["IES Port Allen","260 Akaula St","Eleele","HI","96705","Kaua'i","TM_026","020"]
["Lanai Oil Terminal","Kaumalapau Highway","Lanai City","HI","96763","Lana'i","TM_028","022"]
["MidPac Petroleum Kawaihae Terminal","61-3651 Kawaihae Road","Kamuela","HI","96743","Hawaii","TM_029","023"]
["Pacific Biodiesel Terminal 1","1003 Makepono Street","Honolulu","HI","96819","O'ahu","TM_008","024"]
["Pacific Biodiesel Terminal 2","","Honolulu","HI",96819,"O'ahu","TM_035","025"]
["Pacific Biodiesel Terminal 3","40 Hobron Avenue","Kahului","HI","96732","Maui","TM_030","026"]
["Pacific Biodiesel Terminal 4","16-240 Mikahala Street","Keaau","HI","96749","Hawaii","TM_031","027"]
["Par Hilo","607 Kalanianaole Street","Hilo","HI","96720","Hawaii","TM_032","028"]
["Par Lihue","3651 Ahukini Road","Lihue","HI","96766","Kaua'i","TM_033","029"]
["Par Maui","140 A Hobron Avenue","Kahului","HI","96732","Maui","TM_034","030"]
["Par Mauka Terminal","#10 Wharf Rd/Beach Place","Kaunakakai","HI","96748","Moloka'i","TM_027","021"]
["Par Refinery-East","91-325 Komohana Street","Kapolei","HI","96707","O'ahu","RF_001","031"]
["Par Refinery-West","91-480 Malakole St","Kapolei","HI","96707","O'ahu","RF_002","032"]
["Par Sand Island","2 Sand Island Access Road","Honolulu","HI","96819","O'ahu","TM_007","033"]
[null,null,null,null,null,null,null,"000"]
[]
["Company Name","Company Short Name","Company Code"]
["Aloha Petroleum Ltd","Aloha",10002]
["B&E Petroleum","BE",10001]
["BIG ISLAND ENERGY CO., LLC dba AKANA PETROLEUM","BIEnergy/Akana",70001]
["Big Island Biodiesel","BigIslBio",70002]
["Chevron U.S.A. Inc.","Chevron",10012]
["GARLOW PETROLEUM INC.","Garlow",10004]
["Hawaiian Electric Co., Inc.","HECO",10008]
["Hawaii Fueling Facilities Corporaion","HFFC",10003]
["Hawaii Petroleum","HIPetro",80001]
["Island Energy Services","IESD",10012]
["Island Petroleum Inc.","Island",50001]
["Kauai Petroleum Co. LTD","KIPetro",20001]
["LANAI OIL COMPANY, INC.","LanaiOil",60001]
["MAUI OIL COMPANY, INC.","MauiOil",30003]
["Maui Electric Company, Ltd.","MECO",30002]
["Mid Pac Petroleum LLC","MidPac",10005]
["Maui Petroleum","MIPetro",30001]
["OAHU PETROLEUM, INC.","OahuPetro",10009]
["Pacific Biodiesel Inc","PacBio",10006]
["Par Pacific","PAR",10013]
["Senter Petroleum Inc.","Senter",20002]
["Shell Oil Products, US","Shell",10007]
["Tesoro Hawaii Corporation ","Tesoro",10011]
["THE GAS COMPANY, LLC","TGC",10010]
[]
[]
["Zone","Region"]
["1","O'ahu"]
["2","Kaua'i"]
["3","Maui"]
["4"]
["5","Moloka'i"]
["6","Lana'i"]
["7","Hawaii"]
["8"]
[]
["Resubmission? ",false]

{"sheet":"AllProductData","index":5,"n_rows":39,"n_cols":14,"rows_kept":39,"cut":false,"hidden":true,"merged":[]}
["form_code","product","product_code","maximum_capacity","net_capacity","end_month_inventory","receipts_pipeline","receipts_tanker","receipts_barge","receipts_truck","distribution_pipeline","distribution_tanker","distribution_barge","distribution_truck"]
[{"$f":"IF(B2=\"\",\"\",'(3)'!$J$20)","v":""},{"$f":"IF(SUM('(3)'!T32:BV32)=0,\"\",('(3)'!B32 & \"\"))","v":""},{"$f":"IF(B2=\"\",\"\",('(3)'!L32 & \"\"))","v":""},{"$f":"'(3)'!T32 & \"\"","v":""},{"$f":"'(3)'!Y32 & \"\"","v":""},{"$f":"'(3)'!AD32 & \"\"","v":""},{"$f":"'(3)'!AI32 & \"\"","v":""},{"$f":"'(3)'!AN32 & \"\"","v":""},{"$f":"'(3)'!AS32 & \"\"","v":""},{"$f":"'(3)'!AX32 & \"\"","v":""},{"$f":"'(3)'!BC32 & \"\"","v":""},{"$f":"'(3)'!BH32 & \"\"","v":""},{"$f":"'(3)'!BM32 & \"\"","v":""},{"$f":"'(3)'!BR32 & \"\"","v":""}]
[{"$f":"IF(B3=\"\",\"\",'(3)'!$J$20)","v":""},{"$f":"IF(SUM('(3)'!T33:BV33)=0,\"\",('(3)'!B33 & \"\"))","v":""},{"$f":"IF(B3=\"\",\"\",('(3)'!L33 & \"\"))","v":""},{"$f":"'(3)'!T33 & \"\"","v":""},{"$f":"'(3)'!Y33 & \"\"","v":""},{"$f":"'(3)'!AD33 & \"\"","v":""},{"$f":"'(3)'!AI33 & \"\"","v":""},{"$f":"'(3)'!AN33 & \"\"","v":""},{"$f":"'(3)'!AS33 & \"\"","v":""},{"$f":"'(3)'!AX33 & \"\"","v":""},{"$f":"'(3)'!BC33 & \"\"","v":""},{"$f":"'(3)'!BH33 & \"\"","v":""},{"$f":"'(3)'!BM33 & \"\"","v":""},{"$f":"'(3)'!BR33 & \"\"","v":""}]
[{"$f":"IF(B4=\"\",\"\",'(3)'!$J$20)","v":""},{"$f":"IF(SUM('(3)'!T34:BV34)=0,\"\",('(3)'!B34 & \"\"))","v":""},{"$f":"IF(B4=\"\",\"\",('(3)'!L34 & \"\"))","v":""},{"$f":"'(3)'!T34 & \"\"","v":""},{"$f":"'(3)'!Y34 & \"\"","v":""},{"$f":"'(3)'!AD34 & \"\"","v":""},{"$f":"'(3)'!AI34 & \"\"","v":""},{"$f":"'(3)'!AN34 & \"\"","v":""},{"$f":"'(3)'!AS34 & \"\"","v":""},{"$f":"'(3)'!AX34 & \"\"","v":""},{"$f":"'(3)'!BC34 & \"\"","v":""},{"$f":"'(3)'!BH34 & \"\"","v":""},{"$f":"'(3)'!BM34 & \"\"","v":""},{"$f":"'(3)'!BR34 & \"\"","v":""}]
[{"$f":"IF(B5=\"\",\"\",'(3)'!$J$20)","v":""},{"$f":"IF(SUM('(3)'!T35:BV35)=0,\"\",('(3)'!B35 & \"\"))","v":""},{"$f":"IF(B5=\"\",\"\",('(3)'!L35 & \"\"))","v":""},{"$f":"'(3)'!T35 & \"\"","v":""},{"$f":"'(3)'!Y35 & \"\"","v":""},{"$f":"'(3)'!AD35 & \"\"","v":""},{"$f":"'(3)'!AI35 & \"\"","v":""},{"$f":"'(3)'!AN35 & \"\"","v":""},{"$f":"'(3)'!AS35 & \"\"","v":""},{"$f":"'(3)'!AX35 & \"\"","v":""},{"$f":"'(3)'!BC35 & \"\"","v":""},{"$f":"'(3)'!BH35 & \"\"","v":""},{"$f":"'(3)'!BM35 & \"\"","v":""},{"$f":"'(3)'!BR35 & \"\"","v":""}]
[{"$f":"IF(B6=\"\",\"\",'(3)'!$J$20)","v":""},{"$f":"IF(SUM('(3)'!T36:BV36)=0,\"\",('(3)'!B36 & \"\"))","v":""},{"$f":"IF(B6=\"\",\"\",('(3)'!L36 & \"\"))","v":""},{"$f":"'(3)'!T36 & \"\"","v":""},{"$f":"'(3)'!Y36 & \"\"","v":""},{"$f":"'(3)'!AD36 & \"\"","v":""},{"$f":"'(3)'!AI36 & \"\"","v":""},{"$f":"'(3)'!AN36 & \"\"","v":""},{"$f":"'(3)'!AS36 & \"\"","v":""},{"$f":"'(3)'!AX36 & \"\"","v":""},{"$f":"'(3)'!BC36 & \"\"","v":""},{"$f":"'(3)'!BH36 & \"\"","v":""},{"$f":"'(3)'!BM36 & \"\"","v":""},{"$f":"'(3)'!BR36 & \"\"","v":""}]
[{"$f":"IF(B7=\"\",\"\",'(3)'!$J$20)","v":""},{"$f":"IF(SUM('(3)'!T37:BV37)=0,\"\",('(3)'!B37 & \"\"))","v":""},{"$f":"IF(B7=\"\",\"\",('(3)'!L37 & \"\"))","v":""},{"$f":"'(3)'!T37 & \"\"","v":""},{"$f":"'(3)'!Y37 & \"\"","v":""},{"$f":"'(3)'!AD37 & \"\"","v":""},{"$f":"'(3)'!AI37 & \"\"","v":""},{"$f":"'(3)'!AN37 & \"\"","v":""},{"$f":"'(3)'!AS37 & \"\"","v":""},{"$f":"'(3)'!AX37 & \"\"","v":""},{"$f":"'(3)'!BC37 & \"\"","v":""},{"$f":"'(3)'!BH37 & \"\"","v":""},{"$f":"'(3)'!BM37 & \"\"","v":""},{"$f":"'(3)'!BR37 & \"\"","v":""}]
[{"$f":"IF(B8=\"\",\"\",'(3)'!$J$20)","v":""},{"$f":"IF(SUM('(3)'!T38:BV38)=0,\"\",('(3)'!B38 & \"\"))","v":""},{"$f":"IF(B8=\"\",\"\",('(3)'!L38 & \"\"))","v":""},{"$f":"'(3)'!T38 & \"\"","v":""},{"$f":"'(3)'!Y38 & \"\"","v":""},{"$f":"'(3)'!AD38 & \"\"","v":""},{"$f":"'(3)'!AI38 & \"\"","v":""},{"$f":"'(3)'!AN38 & \"\"","v":""},{"$f":"'(3)'!AS38 & \"\"","v":""},{"$f":"'(3)'!AX38 & \"\"","v":""},{"$f":"'(3)'!BC38 & \"\"","v":""},{"$f":"'(3)'!BH38 & \"\"","v":""},{"$f":"'(3)'!BM38 & \"\"","v":""},{"$f":"'(3)'!BR38 & \"\"","v":""}]
[{"$f":"IF(B9=\"\",\"\",'(3)'!$J$20)","v":""},{"$f":"IF(SUM('(3)'!T39:BV39)=0,\"\",('(3)'!B39 & \"\"))","v":""},{"$f":"IF(B9=\"\",\"\",('(3)'!L39 & \"\"))","v":""},{"$f":"'(3)'!T39 & \"\"","v":""},{"$f":"'(3)'!Y39 & \"\"","v":""},{"$f":"'(3)'!AD39 & \"\"","v":""},{"$f":"'(3)'!AI39 & \"\"","v":""},{"$f":"'(3)'!AN39 & \"\"","v":""},{"$f":"'(3)'!AS39 & \"\"","v":""},{"$f":"'(3)'!AX39 & \"\"","v":""},{"$f":"'(3)'!BC39 & \"\"","v":""},{"$f":"'(3)'!BH39 & \"\"","v":""},{"$f":"'(3)'!BM39 & \"\"","v":""},{"$f":"'(3)'!BR39 & \"\"","v":""}]
[{"$f":"IF(B10=\"\",\"\",'(3)'!$J$20)","v":""},{"$f":"IF(SUM('(3)'!T40:BV40)=0,\"\",('(3)'!B40 & \"\"))","v":""},{"$f":"IF(B10=\"\",\"\",('(3)'!L40 & \"\"))","v":""},{"$f":"'(3)'!T40 & \"\"","v":""},{"$f":"'(3)'!Y40 & \"\"","v":""},{"$f":"'(3)'!AD40 & \"\"","v":""},{"$f":"'(3)'!AI40 & \"\"","v":""},{"$f":"'(3)'!AN40 & \"\"","v":""},{"$f":"'(3)'!AS40 & \"\"","v":""},{"$f":"'(3)'!AX40 & \"\"","v":""},{"$f":"'(3)'!BC40 & \"\"","v":""},{"$f":"'(3)'!BH40 & \"\"","v":""},{"$f":"'(3)'!BM40 & \"\"","v":""},{"$f":"'(3)'!BR40 & \"\"","v":""}]
[{"$f":"IF(B11=\"\",\"\",'(3)'!$J$20)","v":""},{"$f":"IF(SUM('(3)'!T41:BV41)=0,\"\",('(3)'!B41 & \"\"))","v":""},{"$f":"IF(B11=\"\",\"\",('(3)'!L41 & \"\"))","v":""},{"$f":"'(3)'!T41 & \"\"","v":""},{"$f":"'(3)'!Y41 & \"\"","v":""},{"$f":"'(3)'!AD41 & \"\"","v":""},{"$f":"'(3)'!AI41 & \"\"","v":""},{"$f":"'(3)'!AN41 & \"\"","v":""},{"$f":"'(3)'!AS41 & \"\"","v":""},{"$f":"'(3)'!AX41 & \"\"","v":""},{"$f":"'(3)'!BC41 & \"\"","v":""},{"$f":"'(3)'!BH41 & \"\"","v":""},{"$f":"'(3)'!BM41 & \"\"","v":""},{"$f":"'(3)'!BR41 & \"\"","v":""}]
[{"$f":"IF(B12=\"\",\"\",'(3)'!$J$20)","v":""},{"$f":"IF(SUM('(3)'!T42:BV42)=0,\"\",('(3)'!B42 & \"\"))","v":""},{"$f":"IF(B12=\"\",\"\",('(3)'!L42 & \"\"))","v":""},{"$f":"'(3)'!T42 & \"\"","v":""},{"$f":"'(3)'!Y42 & \"\"","v":""},{"$f":"'(3)'!AD42 & \"\"","v":""},{"$f":"'(3)'!AI42 & \"\"","v":""},{"$f":"'(3)'!AN42 & \"\"","v":""},{"$f":"'(3)'!AS42 & \"\"","v":""},{"$f":"'(3)'!AX42 & \"\"","v":""},{"$f":"'(3)'!BC42 & \"\"","v":""},{"$f":"'(3)'!BH42 & \"\"","v":""},{"$f":"'(3)'!BM42 & \"\"","v":""},{"$f":"'(3)'!BR42 & \"\"","v":""}]
[{"$f":"IF(B13=\"\",\"\",'(3)'!$J$20)","v":""},{"$f":"IF(SUM('(3)'!T43:BV43)=0,\"\",('(3)'!B43 & \"\"))","v":""},{"$f":"IF(B13=\"\",\"\",('(3)'!L43 & \"\"))","v":""},{"$f":"'(3)'!T43 & \"\"","v":""},{"$f":"'(3)'!Y43 & \"\"","v":""},{"$f":"'(3)'!AD43 & \"\"","v":""},{"$f":"'(3)'!AI43 & \"\"","v":""},{"$f":"'(3)'!AN43 & \"\"","v":""},{"$f":"'(3)'!AS43 & \"\"","v":""},{"$f":"'(3)'!AX43 & \"\"","v":""},{"$f":"'(3)'!BC43 & \"\"","v":""},{"$f":"'(3)'!BH43 & \"\"","v":""},{"$f":"'(3)'!BM43 & \"\"","v":""},{"$f":"'(3)'!BR43 & \"\"","v":""}]
[{"$f":"IF(B14=\"\",\"\",'(3)'!$J$20)","v":""},{"$f":"IF(SUM('(3)'!T44:BV44)=0,\"\",('(3)'!B44 & \"\"))","v":""},{"$f":"IF(B14=\"\",\"\",('(3)'!L44 & \"\"))","v":""},{"$f":"'(3)'!T44 & \"\"","v":""},{"$f":"'(3)'!Y44 & \"\"","v":""},{"$f":"'(3)'!AD44 & \"\"","v":""},{"$f":"'(3)'!AI44 & \"\"","v":""},{"$f":"'(3)'!AN44 & \"\"","v":""},{"$f":"'(3)'!AS44 & \"\"","v":""},{"$f":"'(3)'!AX44 & \"\"","v":""},{"$f":"'(3)'!BC44 & \"\"","v":""},{"$f":"'(3)'!BH44 & \"\"","v":""},{"$f":"'(3)'!BM44 & \"\"","v":""},{"$f":"'(3)'!BR44 & \"\"","v":""}]
[{"$f":"IF(B15=\"\",\"\",'(3)'!$J$20)","v":""},{"$f":"IF(SUM('(3)'!T45:BV45)=0,\"\",('(3)'!B45 & \"\"))","v":""},{"$f":"IF(B15=\"\",\"\",('(3)'!L45 & \"\"))","v":""},{"$f":"'(3)'!T45 & \"\"","v":""},{"$f":"'(3)'!Y45 & \"\"","v":""},{"$f":"'(3)'!AD45 & \"\"","v":""},{"$f":"'(3)'!AI45 & \"\"","v":""},{"$f":"'(3)'!AN45 & \"\"","v":""},{"$f":"'(3)'!AS45 & \"\"","v":""},{"$f":"'(3)'!AX45 & \"\"","v":""},{"$f":"'(3)'!BC45 & \"\"","v":""},{"$f":"'(3)'!BH45 & \"\"","v":""},{"$f":"'(3)'!BM45 & \"\"","v":""},{"$f":"'(3)'!BR45 & \"\"","v":""}]
[{"$f":"IF(B16=\"\",\"\",'(3)'!$J$20)","v":""},{"$f":"IF(SUM('(3)'!T46:BV46)=0,\"\",('(3)'!B46 & \"\"))","v":""},{"$f":"IF(B16=\"\",\"\",('(3)'!L46 & \"\"))","v":""},{"$f":"'(3)'!T46 & \"\"","v":""},{"$f":"'(3)'!Y46 & \"\"","v":""},{"$f":"'(3)'!AD46 & \"\"","v":""},{"$f":"'(3)'!AI46 & \"\"","v":""},{"$f":"'(3)'!AN46 & \"\"","v":""},{"$f":"'(3)'!AS46 & \"\"","v":""},{"$f":"'(3)'!AX46 & \"\"","v":""},{"$f":"'(3)'!BC46 & \"\"","v":""},{"$f":"'(3)'!BH46 & \"\"","v":""},{"$f":"'(3)'!BM46 & \"\"","v":""},{"$f":"'(3)'!BR46 & \"\"","v":""}]
[{"$f":"IF(B17=\"\",\"\",'(3)'!$J$20)","v":""},{"$f":"IF(SUM('(3)'!T47:BV47)=0,\"\",('(3)'!B47 & \"\"))","v":""},{"$f":"IF(B17=\"\",\"\",('(3)'!L47 & \"\"))","v":""},{"$f":"'(3)'!T47 & \"\"","v":""},{"$f":"'(3)'!Y47 & \"\"","v":""},{"$f":"'(3)'!AD47 & \"\"","v":""},{"$f":"'(3)'!AI47 & \"\"","v":""},{"$f":"'(3)'!AN47 & \"\"","v":""},{"$f":"'(3)'!AS47 & \"\"","v":""},{"$f":"'(3)'!AX47 & \"\"","v":""},{"$f":"'(3)'!BC47 & \"\"","v":""},{"$f":"'(3)'!BH47 & \"\"","v":""},{"$f":"'(3)'!BM47 & \"\"","v":""},{"$f":"'(3)'!BR47 & \"\"","v":""}]
[{"$f":"IF(B18=\"\",\"\",'(3)'!$J$20)","v":""},{"$f":"IF(SUM('(3)'!T48:BV48)=0,\"\",('(3)'!B48 & \"\"))","v":""},{"$f":"IF(B18=\"\",\"\",('(3)'!L48 & \"\"))","v":""},{"$f":"'(3)'!T48 & \"\"","v":""},{"$f":"'(3)'!Y48 & \"\"","v":""},{"$f":"'(3)'!AD48 & \"\"","v":""},{"$f":"'(3)'!AI48 & \"\"","v":""},{"$f":"'(3)'!AN48 & \"\"","v":""},{"$f":"'(3)'!AS48 & \"\"","v":""},{"$f":"'(3)'!AX48 & \"\"","v":""},{"$f":"'(3)'!BC48 & \"\"","v":""},{"$f":"'(3)'!BH48 & \"\"","v":""},{"$f":"'(3)'!BM48 & \"\"","v":""},{"$f":"'(3)'!BR48 & \"\"","v":""}]
[{"$f":"IF(B19=\"\",\"\",'(3)'!$J$20)","v":""},{"$f":"IF(SUM('(3)'!T49:BV49)=0,\"\",('(3)'!B49 & \"\"))","v":""},{"$f":"IF(B19=\"\",\"\",('(3)'!L49 & \"\"))","v":""},{"$f":"'(3)'!T49 & \"\"","v":""},{"$f":"'(3)'!Y49 & \"\"","v":""},{"$f":"'(3)'!AD49 & \"\"","v":""},{"$f":"'(3)'!AI49 & \"\"","v":""},{"$f":"'(3)'!AN49 & \"\"","v":""},{"$f":"'(3)'!AS49 & \"\"","v":""},{"$f":"'(3)'!AX49 & \"\"","v":""},{"$f":"'(3)'!BC49 & \"\"","v":""},{"$f":"'(3)'!BH49 & \"\"","v":""},{"$f":"'(3)'!BM49 & \"\"","v":""},{"$f":"'(3)'!BR49 & \"\"","v":""}]
[{"$f":"IF(B20=\"\",\"\",'(3)'!$J$20)","v":""},{"$f":"IF(SUM('(3)'!T50:BV50)=0,\"\",('(3)'!B50 & \"\"))","v":""},{"$f":"IF(B20=\"\",\"\",('(3)'!L50 & \"\"))","v":""},{"$f":"'(3)'!T50 & \"\"","v":""},{"$f":"'(3)'!Y50 & \"\"","v":""},{"$f":"'(3)'!AD50 & \"\"","v":""},{"$f":"'(3)'!AI50 & \"\"","v":""},{"$f":"'(3)'!AN50 & \"\"","v":""},{"$f":"'(3)'!AS50 & \"\"","v":""},{"$f":"'(3)'!AX50 & \"\"","v":""},{"$f":"'(3)'!BC50 & \"\"","v":""},{"$f":"'(3)'!BH50 & \"\"","v":""},{"$f":"'(3)'!BM50 & \"\"","v":""},{"$f":"'(3)'!BR50 & \"\"","v":""}]
[{"$f":"IF(B21=\"\",\"\",'(3)'!$J$20)","v":""},{"$f":"IF(SUM('(3)'!T51:BV51)=0,\"\",('(3)'!B51 & \"\"))","v":""},{"$f":"IF(B21=\"\",\"\",('(3)'!L51 & \"\"))","v":""},{"$f":"'(3)'!T51 & \"\"","v":""},{"$f":"'(3)'!Y51 & \"\"","v":""},{"$f":"'(3)'!AD51 & \"\"","v":""},{"$f":"'(3)'!AI51 & \"\"","v":""},{"$f":"'(3)'!AN51 & \"\"","v":""},{"$f":"'(3)'!AS51 & \"\"","v":""},{"$f":"'(3)'!AX51 & \"\"","v":""},{"$f":"'(3)'!BC51 & \"\"","v":""},{"$f":"'(3)'!BH51 & \"\"","v":""},{"$f":"'(3)'!BM51 & \"\"","v":""},{"$f":"'(3)'!BR51 & \"\"","v":""}]
[{"$f":"IF(B22=\"\",\"\",'(3)'!$J$20)","v":""},{"$f":"IF(SUM('(3)'!T52:BV52)=0,\"\",('(3)'!B52 & \"\"))","v":""},{"$f":"IF(B22=\"\",\"\",('(3)'!L52 & \"\"))","v":""},{"$f":"'(3)'!T52 & \"\"","v":""},{"$f":"'(3)'!Y52 & \"\"","v":""},{"$f":"'(3)'!AD52 & \"\"","v":""},{"$f":"'(3)'!AI52 & \"\"","v":""},{"$f":"'(3)'!AN52 & \"\"","v":""},{"$f":"'(3)'!AS52 & \"\"","v":""},{"$f":"'(3)'!AX52 & \"\"","v":""},{"$f":"'(3)'!BC52 & \"\"","v":""},{"$f":"'(3)'!BH52 & \"\"","v":""},{"$f":"'(3)'!BM52 & \"\"","v":""},{"$f":"'(3)'!BR52 & \"\"","v":""}]
[{"$f":"IF(B23=\"\",\"\",'(3)'!$J$20)","v":""},{"$f":"IF(SUM('(3)'!T53:BV53)=0,\"\",('(3)'!B53 & \"\"))","v":""},{"$f":"IF(B23=\"\",\"\",('(3)'!L53 & \"\"))","v":""},{"$f":"'(3)'!T53 & \"\"","v":""},{"$f":"'(3)'!Y53 & \"\"","v":""},{"$f":"'(3)'!AD53 & \"\"","v":""},{"$f":"'(3)'!AI53 & \"\"","v":""},{"$f":"'(3)'!AN53 & \"\"","v":""},{"$f":"'(3)'!AS53 & \"\"","v":""},{"$f":"'(3)'!AX53 & \"\"","v":""},{"$f":"'(3)'!BC53 & \"\"","v":""},{"$f":"'(3)'!BH53 & \"\"","v":""},{"$f":"'(3)'!BM53 & \"\"","v":""},{"$f":"'(3)'!BR53 & \"\"","v":""}]
[{"$f":"IF(B24=\"\",\"\",'(3)'!$J$20)","v":""},{"$f":"IF(SUM('(3)'!T54:BV54)=0,\"\",('(3)'!B54 & \"\"))","v":""},{"$f":"IF(B24=\"\",\"\",('(3)'!L54 & \"\"))","v":""},{"$f":"'(3)'!T54 & \"\"","v":""},{"$f":"'(3)'!Y54 & \"\"","v":""},{"$f":"'(3)'!AD54 & \"\"","v":""},{"$f":"'(3)'!AI54 & \"\"","v":""},{"$f":"'(3)'!AN54 & \"\"","v":""},{"$f":"'(3)'!AS54 & \"\"","v":""},{"$f":"'(3)'!AX54 & \"\"","v":""},{"$f":"'(3)'!BC54 & \"\"","v":""},{"$f":"'(3)'!BH54 & \"\"","v":""},{"$f":"'(3)'!BM54 & \"\"","v":""},{"$f":"'(3)'!BR54 & \"\"","v":""}]
[{"$f":"IF(B25=\"\",\"\",'(3)'!$J$20)","v":""},{"$f":"IF(SUM('(3)'!T55:BV55)=0,\"\",('(3)'!B55 & \"\"))","v":""},{"$f":"IF(B25=\"\",\"\",('(3)'!L55 & \"\"))","v":""},{"$f":"'(3)'!T55 & \"\"","v":""},{"$f":"'(3)'!Y55 & \"\"","v":""},{"$f":"'(3)'!AD55 & \"\"","v":""},{"$f":"'(3)'!AI55 & \"\"","v":""},{"$f":"'(3)'!AN55 & \"\"","v":""},{"$f":"'(3)'!AS55 & \"\"","v":""},{"$f":"'(3)'!AX55 & \"\"","v":""},{"$f":"'(3)'!BC55 & \"\"","v":""},{"$f":"'(3)'!BH55 & \"\"","v":""},{"$f":"'(3)'!BM55 & \"\"","v":""},{"$f":"'(3)'!BR55 & \"\"","v":""}]
[{"$f":"IF(B26=\"\",\"\",'(3)'!$J$20)","v":""},{"$f":"IF(SUM('(3)'!T56:BV56)=0,\"\",('(3)'!B56 & \"\"))","v":""},{"$f":"IF(B26=\"\",\"\",('(3)'!L56 & \"\"))","v":""},{"$f":"'(3)'!T56 & \"\"","v":""},{"$f":"'(3)'!Y56 & \"\"","v":""},{"$f":"'(3)'!AD56 & \"\"","v":""},{"$f":"'(3)'!AI56 & \"\"","v":""},{"$f":"'(3)'!AN56 & \"\"","v":""},{"$f":"'(3)'!AS56 & \"\"","v":""},{"$f":"'(3)'!AX56 & \"\"","v":""},{"$f":"'(3)'!BC56 & \"\"","v":""},{"$f":"'(3)'!BH56 & \"\"","v":""},{"$f":"'(3)'!BM56 & \"\"","v":""},{"$f":"'(3)'!BR56 & \"\"","v":""}]
[{"$f":"IF(B27=\"\",\"\",'(3)'!$J$20)","v":""},{"$f":"IF(SUM('(3)'!T57:BV57)=0,\"\",('(3)'!B57 & \"\"))","v":""},{"$f":"IF(B27=\"\",\"\",('(3)'!L57 & \"\"))","v":""},{"$f":"'(3)'!T57 & \"\"","v":""},{"$f":"'(3)'!Y57 & \"\"","v":""},{"$f":"'(3)'!AD57 & \"\"","v":""},{"$f":"'(3)'!AI57 & \"\"","v":""},{"$f":"'(3)'!AN57 & \"\"","v":""},{"$f":"'(3)'!AS57 & \"\"","v":""},{"$f":"'(3)'!AX57 & \"\"","v":""},{"$f":"'(3)'!BC57 & \"\"","v":""},{"$f":"'(3)'!BH57 & \"\"","v":""},{"$f":"'(3)'!BM57 & \"\"","v":""},{"$f":"'(3)'!BR57 & \"\"","v":""}]
[{"$f":"IF(B28=\"\",\"\",'(3)'!$J$20)","v":""},{"$f":"IF(SUM('(3)'!T58:BV58)=0,\"\",('(3)'!B58 & \"\"))","v":""},{"$f":"IF(B28=\"\",\"\",('(3)'!L58 & \"\"))","v":""},{"$f":"'(3)'!T58 & \"\"","v":""},{"$f":"'(3)'!Y58 & \"\"","v":""},{"$f":"'(3)'!AD58 & \"\"","v":""},{"$f":"'(3)'!AI58 & \"\"","v":""},{"$f":"'(3)'!AN58 & \"\"","v":""},{"$f":"'(3)'!AS58 & \"\"","v":""},{"$f":"'(3)'!AX58 & \"\"","v":""},{"$f":"'(3)'!BC58 & \"\"","v":""},{"$f":"'(3)'!BH58 & \"\"","v":""},{"$f":"'(3)'!BM58 & \"\"","v":""},{"$f":"'(3)'!BR58 & \"\"","v":""}]
[{"$f":"IF(B29=\"\",\"\",'(3)'!$J$20)","v":""},{"$f":"IF(SUM('(3)'!T59:BV59)=0,\"\",('(3)'!B59 & \"\"))","v":""},{"$f":"IF(B29=\"\",\"\",('(3)'!L59 & \"\"))","v":""},{"$f":"'(3)'!T59 & \"\"","v":""},{"$f":"'(3)'!Y59 & \"\"","v":""},{"$f":"'(3)'!AD59 & \"\"","v":""},{"$f":"'(3)'!AI59 & \"\"","v":""},{"$f":"'(3)'!AN59 & \"\"","v":""},{"$f":"'(3)'!AS59 & \"\"","v":""},{"$f":"'(3)'!AX59 & \"\"","v":""},{"$f":"'(3)'!BC59 & \"\"","v":""},{"$f":"'(3)'!BH59 & \"\"","v":""},{"$f":"'(3)'!BM59 & \"\"","v":""},{"$f":"'(3)'!BR59 & \"\"","v":""}]
[{"$f":"IF(B30=\"\",\"\",'(3)'!$J$20)","v":""},{"$f":"IF(SUM('(3)'!T60:BV60)=0,\"\",('(3)'!B60 & \"\"))","v":""},{"$f":"IF(B30=\"\",\"\",('(3)'!L60 & \"\"))","v":""},{"$f":"'(3)'!T60 & \"\"","v":""},{"$f":"'(3)'!Y60 & \"\"","v":""},{"$f":"'(3)'!AD60 & \"\"","v":""},{"$f":"'(3)'!AI60 & \"\"","v":""},{"$f":"'(3)'!AN60 & \"\"","v":""},{"$f":"'(3)'!AS60 & \"\"","v":""},{"$f":"'(3)'!AX60 & \"\"","v":""},{"$f":"'(3)'!BC60 & \"\"","v":""},{"$f":"'(3)'!BH60 & \"\"","v":""},{"$f":"'(3)'!BM60 & \"\"","v":""},{"$f":"'(3)'!BR60 & \"\"","v":""}]
[{"$f":"IF(B31=\"\",\"\",'(3)'!$J$20)","v":""},{"$f":"IF(SUM('(3)'!T61:BV61)=0,\"\",('(3)'!B61 & \"\"))","v":""},{"$f":"IF(B31=\"\",\"\",('(3)'!L61 & \"\"))","v":""},{"$f":"'(3)'!T61 & \"\"","v":""},{"$f":"'(3)'!Y61 & \"\"","v":""},{"$f":"'(3)'!AD61 & \"\"","v":""},{"$f":"'(3)'!AI61 & \"\"","v":""},{"$f":"'(3)'!AN61 & \"\"","v":""},{"$f":"'(3)'!AS61 & \"\"","v":""},{"$f":"'(3)'!AX61 & \"\"","v":""},{"$f":"'(3)'!BC61 & \"\"","v":""},{"$f":"'(3)'!BH61 & \"\"","v":""},{"$f":"'(3)'!BM61 & \"\"","v":""},{"$f":"'(3)'!BR61 & \"\"","v":""}]
[{"$f":"IF(B32=\"\",\"\",'(3)'!$J$20)","v":""},{"$f":"IF(SUM('(3)'!T62:BV62)=0,\"\",('(3)'!B62 & \"\"))","v":""},{"$f":"IF(B32=\"\",\"\",('(3)'!L62 & \"\"))","v":""},{"$f":"'(3)'!T62 & \"\"","v":""},{"$f":"'(3)'!Y62 & \"\"","v":""},{"$f":"'(3)'!AD62 & \"\"","v":""},{"$f":"'(3)'!AI62 & \"\"","v":""},{"$f":"'(3)'!AN62 & \"\"","v":""},{"$f":"'(3)'!AS62 & \"\"","v":""},{"$f":"'(3)'!AX62 & \"\"","v":""},{"$f":"'(3)'!BC62 & \"\"","v":""},{"$f":"'(3)'!BH62 & \"\"","v":""},{"$f":"'(3)'!BM62 & \"\"","v":""},{"$f":"'(3)'!BR62 & \"\"","v":""}]
[{"$f":"IF(B33=\"\",\"\",'(3)'!$J$20)","v":""},{"$f":"IF(SUM('(3)'!T63:BV63)=0,\"\",('(3)'!B63 & \"\"))","v":""},{"$f":"IF(B33=\"\",\"\",('(3)'!L63 & \"\"))","v":""},{"$f":"'(3)'!T63 & \"\"","v":""},{"$f":"'(3)'!Y63 & \"\"","v":""},{"$f":"'(3)'!AD63 & \"\"","v":""},{"$f":"'(3)'!AI63 & \"\"","v":""},{"$f":"'(3)'!AN63 & \"\"","v":""},{"$f":"'(3)'!AS63 & \"\"","v":""},{"$f":"'(3)'!AX63 & \"\"","v":""},{"$f":"'(3)'!BC63 & \"\"","v":""},{"$f":"'(3)'!BH63 & \"\"","v":""},{"$f":"'(3)'!BM63 & \"\"","v":""},{"$f":"'(3)'!BR63 & \"\"","v":""}]
[{"$f":"IF(B34=\"\",\"\",'(3)'!$J$20)","v":""},{"$f":"IF(SUM('(3)'!T65:BV65)=0,\"\",('(3)'!B65 & \"\"))","v":""},{"$f":"IF(B34=\"\",\"\",('(3)'!L65 & \"\"))","v":""},{"$f":"'(3)'!T65 & \"\"","v":""},{"$f":"'(3)'!Y65 & \"\"","v":""},{"$f":"'(3)'!AD65 & \"\"","v":""},{"$f":"'(3)'!AI65 & \"\"","v":""},{"$f":"'(3)'!AN65 & \"\"","v":""},{"$f":"'(3)'!AS65 & \"\"","v":""},{"$f":"'(3)'!AX65 & \"\"","v":""},{"$f":"'(3)'!BC65 & \"\"","v":""},{"$f":"'(3)'!BH65 & \"\"","v":""},{"$f":"'(3)'!BM65 & \"\"","v":""},{"$f":"'(3)'!BR65 & \"\"","v":""}]
[{"$f":"IF(B35=\"\",\"\",'(3)'!$J$20)","v":""},{"$f":"IF(SUM('(3)'!T67:BV67)=0,\"\",('(3)'!B67 & \"\"))","v":""},{"$f":"IF(B35=\"\",\"\",('(3)'!L67 & \"\"))","v":""},{"$f":"'(3)'!T67 & \"\"","v":""},{"$f":"'(3)'!Y67 & \"\"","v":""},{"$f":"'(3)'!AD67 & \"\"","v":""},{"$f":"'(3)'!AI67 & \"\"","v":""},{"$f":"'(3)'!AN67 & \"\"","v":""},{"$f":"'(3)'!AS67 & \"\"","v":""},{"$f":"'(3)'!AX67 & \"\"","v":""},{"$f":"'(3)'!BC67 & \"\"","v":""},{"$f":"'(3)'!BH67 & \"\"","v":""},{"$f":"'(3)'!BM67 & \"\"","v":""},{"$f":"'(3)'!BR67 & \"\"","v":""}]
[{"$f":"IF(B36=\"\",\"\",'(3)'!$J$20)","v":""},{"$f":"IF(SUM('(3)'!T68:BV68)=0,\"\",('(3)'!B68 & \"\"))","v":""},{"$f":"IF(B36=\"\",\"\",('(3)'!L68 & \"\"))","v":""},{"$f":"'(3)'!T68 & \"\"","v":""},{"$f":"'(3)'!Y68 & \"\"","v":""},{"$f":"'(3)'!AD68 & \"\"","v":""},{"$f":"'(3)'!AI68 & \"\"","v":""},{"$f":"'(3)'!AN68 & \"\"","v":""},{"$f":"'(3)'!AS68 & \"\"","v":""},{"$f":"'(3)'!AX68 & \"\"","v":""},{"$f":"'(3)'!BC68 & \"\"","v":""},{"$f":"'(3)'!BH68 & \"\"","v":""},{"$f":"'(3)'!BM68 & \"\"","v":""},{"$f":"'(3)'!BR68 & \"\"","v":""}]
[{"$f":"IF(B37=\"\",\"\",'(3)'!$J$20)","v":""},{"$f":"IF(SUM('(3)'!T69:BV69)=0,\"\",('(3)'!B69 & \"\"))","v":""},{"$f":"IF(B37=\"\",\"\",('(3)'!L69 & \"\"))","v":""},{"$f":"'(3)'!T69 & \"\"","v":""},{"$f":"'(3)'!Y69 & \"\"","v":""},{"$f":"'(3)'!AD69 & \"\"","v":""},{"$f":"'(3)'!AI69 & \"\"","v":""},{"$f":"'(3)'!AN69 & \"\"","v":""},{"$f":"'(3)'!AS69 & \"\"","v":""},{"$f":"'(3)'!AX69 & \"\"","v":""},{"$f":"'(3)'!BC69 & \"\"","v":""},{"$f":"'(3)'!BH69 & \"\"","v":""},{"$f":"'(3)'!BM69 & \"\"","v":""},{"$f":"'(3)'!BR69 & \"\"","v":""}]
[{"$f":"IF(B38=\"\",\"\",'(3)'!$J$20)","v":""},{"$f":"IF(SUM('(3)'!T70:BV70)=0,\"\",('(3)'!B70 & \"\"))","v":""},{"$f":"IF(B38=\"\",\"\",('(3)'!L70 & \"\"))","v":""},{"$f":"'(3)'!T70 & \"\"","v":""},{"$f":"'(3)'!Y70 & \"\"","v":""},{"$f":"'(3)'!AD70 & \"\"","v":""},{"$f":"'(3)'!AI70 & \"\"","v":""},{"$f":"'(3)'!AN70 & \"\"","v":""},{"$f":"'(3)'!AS70 & \"\"","v":""},{"$f":"'(3)'!AX70 & \"\"","v":""},{"$f":"'(3)'!BC70 & \"\"","v":""},{"$f":"'(3)'!BH70 & \"\"","v":""},{"$f":"'(3)'!BM70 & \"\"","v":""},{"$f":"'(3)'!BR70 & \"\"","v":""}]
[{"$f":"IF(B39=\"\",\"\",'(3)'!$J$20)","v":""},{"$f":"IF(SUM('(3)'!T71:BV71)=0,\"\",('(3)'!B71 & \"\"))","v":""},{"$f":"IF(B39=\"\",\"\",('(3)'!L71 & \"\"))","v":""},{"$f":"'(3)'!T71 & \"\"","v":""},{"$f":"'(3)'!Y71 & \"\"","v":""},{"$f":"'(3)'!AD71 & \"\"","v":""},{"$f":"'(3)'!AI71 & \"\"","v":""},{"$f":"'(3)'!AN71 & \"\"","v":""},{"$f":"'(3)'!AS71 & \"\"","v":""},{"$f":"'(3)'!AX71 & \"\"","v":""},{"$f":"'(3)'!BC71 & \"\"","v":""},{"$f":"'(3)'!BH71 & \"\"","v":""},{"$f":"'(3)'!BM71 & \"\"","v":""},{"$f":"'(3)'!BR71 & \"\"","v":""}]